BEGIN:VCALENDAR
VERSION:2.0
PRODID:-//Fayal Twp - ECPv6.15.17.1//NONSGML v1.0//EN
CALSCALE:GREGORIAN
METHOD:PUBLISH
X-ORIGINAL-URL:https://fayaltwp.org
X-WR-CALDESC:Events for Fayal Twp
REFRESH-INTERVAL;VALUE=DURATION:PT1H
X-Robots-Tag:noindex
X-PUBLISHED-TTL:PT1H
BEGIN:VTIMEZONE
TZID:America/Chicago
BEGIN:DAYLIGHT
TZOFFSETFROM:-0600
TZOFFSETTO:-0500
TZNAME:CDT
DTSTART:20270314T080000
END:DAYLIGHT
BEGIN:STANDARD
TZOFFSETFROM:-0500
TZOFFSETTO:-0600
TZNAME:CST
DTSTART:20271107T070000
END:STANDARD
BEGIN:DAYLIGHT
TZOFFSETFROM:-0600
TZOFFSETTO:-0500
TZNAME:CDT
DTSTART:20280312T080000
END:DAYLIGHT
BEGIN:STANDARD
TZOFFSETFROM:-0500
TZOFFSETTO:-0600
TZNAME:CST
DTSTART:20281105T070000
END:STANDARD
BEGIN:DAYLIGHT
TZOFFSETFROM:-0600
TZOFFSETTO:-0500
TZNAME:CDT
DTSTART:20290311T080000
END:DAYLIGHT
BEGIN:STANDARD
TZOFFSETFROM:-0500
TZOFFSETTO:-0600
TZNAME:CST
DTSTART:20291104T070000
END:STANDARD
END:VTIMEZONE
BEGIN:VEVENT
DTSTART;TZID=America/Chicago:20281120T093000
DTEND;TZID=America/Chicago:20281120T103000
DTSTAMP:20260425T163602
CREATED:20240207T174449Z
LAST-MODIFIED:20260317T185548Z
UID:10002079-1858325400-1858329000@fayaltwp.org
SUMMARY:Aerobics
DESCRIPTION:
URL:https://fayaltwp.org/event/aerobics/2028-11-20/
END:VEVENT
BEGIN:VEVENT
DTSTART;TZID=America/Chicago:20281120T160000
DTEND;TZID=America/Chicago:20281120T183000
DTSTAMP:20260425T163602
CREATED:20250905T131821Z
LAST-MODIFIED:20250905T131821Z
UID:10003886-1858348800-1858357800@fayaltwp.org
SUMMARY:T.O.P.S.
DESCRIPTION:
URL:https://fayaltwp.org/event/t-o-p-s/2028-11-20/
END:VEVENT
BEGIN:VEVENT
DTSTART;TZID=America/Chicago:20281121T190000
DTEND;TZID=America/Chicago:20281121T203000
DTSTAMP:20260425T163602
CREATED:20230727T144614Z
LAST-MODIFIED:20250115T222032Z
UID:10003386-1858446000-1858451400@fayaltwp.org
SUMMARY:Town Board Meeting
DESCRIPTION:Meeting lengths may vary
URL:https://fayaltwp.org/event/town-board-meeting-2/2028-11-21/
END:VEVENT
BEGIN:VEVENT
DTSTART;TZID=America/Chicago:20281122T093000
DTEND;TZID=America/Chicago:20281122T103000
DTSTAMP:20260425T163602
CREATED:20240207T174449Z
LAST-MODIFIED:20260317T185548Z
UID:10002080-1858498200-1858501800@fayaltwp.org
SUMMARY:Aerobics
DESCRIPTION:
URL:https://fayaltwp.org/event/aerobics/2028-11-22/
END:VEVENT
BEGIN:VEVENT
DTSTART;TZID=America/Chicago:20281123T093000
DTEND;TZID=America/Chicago:20281123T223000
DTSTAMP:20260425T163602
CREATED:20260112T180331Z
LAST-MODIFIED:20260317T190351Z
UID:10003625-1858584600-1858631400@fayaltwp.org
SUMMARY:Yoga
DESCRIPTION:
URL:https://fayaltwp.org/event/yoga-2-2/2028-11-23/
END:VEVENT
BEGIN:VEVENT
DTSTART;TZID=America/Chicago:20281124T093000
DTEND;TZID=America/Chicago:20281124T103000
DTSTAMP:20260425T163602
CREATED:20240207T174449Z
LAST-MODIFIED:20260317T185548Z
UID:10002081-1858671000-1858674600@fayaltwp.org
SUMMARY:Aerobics
DESCRIPTION:
URL:https://fayaltwp.org/event/aerobics/2028-11-24/
END:VEVENT
END:VCALENDAR