BEGIN:VCALENDAR
VERSION:2.0
PRODID:-//Fayal Twp - ECPv6.15.17.1//NONSGML v1.0//EN
CALSCALE:GREGORIAN
METHOD:PUBLISH
X-WR-CALNAME:Fayal Twp
X-ORIGINAL-URL:https://fayaltwp.org
X-WR-CALDESC:Events for Fayal Twp
REFRESH-INTERVAL;VALUE=DURATION:PT1H
X-Robots-Tag:noindex
X-PUBLISHED-TTL:PT1H
BEGIN:VTIMEZONE
TZID:America/Chicago
BEGIN:DAYLIGHT
TZOFFSETFROM:-0600
TZOFFSETTO:-0500
TZNAME:CDT
DTSTART:20270314T080000
END:DAYLIGHT
BEGIN:STANDARD
TZOFFSETFROM:-0500
TZOFFSETTO:-0600
TZNAME:CST
DTSTART:20271107T070000
END:STANDARD
BEGIN:DAYLIGHT
TZOFFSETFROM:-0600
TZOFFSETTO:-0500
TZNAME:CDT
DTSTART:20280312T080000
END:DAYLIGHT
BEGIN:STANDARD
TZOFFSETFROM:-0500
TZOFFSETTO:-0600
TZNAME:CST
DTSTART:20281105T070000
END:STANDARD
BEGIN:DAYLIGHT
TZOFFSETFROM:-0600
TZOFFSETTO:-0500
TZNAME:CDT
DTSTART:20290311T080000
END:DAYLIGHT
BEGIN:STANDARD
TZOFFSETFROM:-0500
TZOFFSETTO:-0600
TZNAME:CST
DTSTART:20291104T070000
END:STANDARD
END:VTIMEZONE
BEGIN:VEVENT
DTSTART;TZID=America/Chicago:20281113T093000
DTEND;TZID=America/Chicago:20281113T103000
DTSTAMP:20260425T163416
CREATED:20240207T174449Z
LAST-MODIFIED:20260317T185548Z
UID:10002076-1857720600-1857724200@fayaltwp.org
SUMMARY:Aerobics
DESCRIPTION:
URL:https://fayaltwp.org/event/aerobics/2028-11-13/
END:VEVENT
BEGIN:VEVENT
DTSTART;TZID=America/Chicago:20281113T120000
DTEND;TZID=America/Chicago:20281113T140000
DTSTAMP:20260425T163416
CREATED:20240207T175425Z
LAST-MODIFIED:20240718T172046Z
UID:10002174-1857729600-1857736800@fayaltwp.org
SUMMARY:Sororiety Meeting
DESCRIPTION:
URL:https://fayaltwp.org/event/sororiety-meeting/2028-11-13/
END:VEVENT
BEGIN:VEVENT
DTSTART;TZID=America/Chicago:20281113T160000
DTEND;TZID=America/Chicago:20281113T183000
DTSTAMP:20260425T163416
CREATED:20250905T131821Z
LAST-MODIFIED:20250905T131821Z
UID:10003885-1857744000-1857753000@fayaltwp.org
SUMMARY:T.O.P.S.
DESCRIPTION:
URL:https://fayaltwp.org/event/t-o-p-s/2028-11-13/
END:VEVENT
BEGIN:VEVENT
DTSTART;TZID=America/Chicago:20281114T180000
DTEND;TZID=America/Chicago:20281114T190000
DTSTAMP:20260425T163416
CREATED:20240213T194019Z
LAST-MODIFIED:20240718T171231Z
UID:10002397-1857837600-1857841200@fayaltwp.org
SUMMARY:Public Utility Meetings
DESCRIPTION:Meeting lengths may vary
URL:https://fayaltwp.org/event/public-utility-meetings-2-2/2028-11-14/
END:VEVENT
BEGIN:VEVENT
DTSTART;TZID=America/Chicago:20281115T093000
DTEND;TZID=America/Chicago:20281115T103000
DTSTAMP:20260425T163416
CREATED:20240207T174449Z
LAST-MODIFIED:20260317T185548Z
UID:10002077-1857893400-1857897000@fayaltwp.org
SUMMARY:Aerobics
DESCRIPTION:
URL:https://fayaltwp.org/event/aerobics/2028-11-15/
END:VEVENT
BEGIN:VEVENT
DTSTART;TZID=America/Chicago:20281116T093000
DTEND;TZID=America/Chicago:20281116T223000
DTSTAMP:20260425T163416
CREATED:20260112T180331Z
LAST-MODIFIED:20260317T190351Z
UID:10003624-1857979800-1858026600@fayaltwp.org
SUMMARY:Yoga
DESCRIPTION:
URL:https://fayaltwp.org/event/yoga-2-2/2028-11-16/
END:VEVENT
BEGIN:VEVENT
DTSTART;TZID=America/Chicago:20281116T183000
DTEND;TZID=America/Chicago:20281116T200000
DTSTAMP:20260425T163416
CREATED:20190917T020221Z
LAST-MODIFIED:20250110T151531Z
UID:10003001-1858012200-1858017600@fayaltwp.org
SUMMARY:Eveleth-Fayal Garden Club
DESCRIPTION:Meeting lengths may vary
URL:https://fayaltwp.org/event/eveleth-fayal-garden-club/2028-11-16/
END:VEVENT
BEGIN:VEVENT
DTSTART;TZID=America/Chicago:20281117T093000
DTEND;TZID=America/Chicago:20281117T103000
DTSTAMP:20260425T163416
CREATED:20240207T174449Z
LAST-MODIFIED:20260317T185548Z
UID:10002078-1858066200-1858069800@fayaltwp.org
SUMMARY:Aerobics
DESCRIPTION:
URL:https://fayaltwp.org/event/aerobics/2028-11-17/
END:VEVENT
END:VCALENDAR