BEGIN:VCALENDAR
VERSION:2.0
PRODID:-//Fayal Twp - ECPv6.15.17.1//NONSGML v1.0//EN
CALSCALE:GREGORIAN
METHOD:PUBLISH
X-ORIGINAL-URL:https://fayaltwp.org
X-WR-CALDESC:Events for Fayal Twp
REFRESH-INTERVAL;VALUE=DURATION:PT1H
X-Robots-Tag:noindex
X-PUBLISHED-TTL:PT1H
BEGIN:VTIMEZONE
TZID:America/Chicago
BEGIN:DAYLIGHT
TZOFFSETFROM:-0600
TZOFFSETTO:-0500
TZNAME:CDT
DTSTART:20270314T080000
END:DAYLIGHT
BEGIN:STANDARD
TZOFFSETFROM:-0500
TZOFFSETTO:-0600
TZNAME:CST
DTSTART:20271107T070000
END:STANDARD
BEGIN:DAYLIGHT
TZOFFSETFROM:-0600
TZOFFSETTO:-0500
TZNAME:CDT
DTSTART:20280312T080000
END:DAYLIGHT
BEGIN:STANDARD
TZOFFSETFROM:-0500
TZOFFSETTO:-0600
TZNAME:CST
DTSTART:20281105T070000
END:STANDARD
BEGIN:DAYLIGHT
TZOFFSETFROM:-0600
TZOFFSETTO:-0500
TZNAME:CDT
DTSTART:20290311T080000
END:DAYLIGHT
BEGIN:STANDARD
TZOFFSETFROM:-0500
TZOFFSETTO:-0600
TZNAME:CST
DTSTART:20291104T070000
END:STANDARD
END:VTIMEZONE
BEGIN:VEVENT
DTSTART;TZID=America/Chicago:20280904T093000
DTEND;TZID=America/Chicago:20280904T103000
DTSTAMP:20260425T150454
CREATED:20240207T174449Z
LAST-MODIFIED:20260317T185548Z
UID:10002046-1851672600-1851676200@fayaltwp.org
SUMMARY:Aerobics
DESCRIPTION:
URL:https://fayaltwp.org/event/aerobics/2028-09-04/
END:VEVENT
BEGIN:VEVENT
DTSTART;TZID=America/Chicago:20280904T160000
DTEND;TZID=America/Chicago:20280904T183000
DTSTAMP:20260425T150454
CREATED:20250905T131821Z
LAST-MODIFIED:20250905T131821Z
UID:10003875-1851696000-1851705000@fayaltwp.org
SUMMARY:T.O.P.S.
DESCRIPTION:
URL:https://fayaltwp.org/event/t-o-p-s/2028-09-04/
END:VEVENT
BEGIN:VEVENT
DTSTART;TZID=America/Chicago:20280905T190000
DTEND;TZID=America/Chicago:20280905T203000
DTSTAMP:20260425T150454
CREATED:20240213T194504Z
LAST-MODIFIED:20250318T164658Z
UID:10002443-1851793200-1851798600@fayaltwp.org
SUMMARY:Town Board Meeting
DESCRIPTION:Meeting lengths may vary
URL:https://fayaltwp.org/event/town-board-meeting-3/2028-09-05/
END:VEVENT
BEGIN:VEVENT
DTSTART;TZID=America/Chicago:20280906T093000
DTEND;TZID=America/Chicago:20280906T103000
DTSTAMP:20260425T150454
CREATED:20240207T174449Z
LAST-MODIFIED:20260317T185548Z
UID:10002047-1851845400-1851849000@fayaltwp.org
SUMMARY:Aerobics
DESCRIPTION:
URL:https://fayaltwp.org/event/aerobics/2028-09-06/
END:VEVENT
BEGIN:VEVENT
DTSTART;TZID=America/Chicago:20280907T093000
DTEND;TZID=America/Chicago:20280907T223000
DTSTAMP:20260425T150454
CREATED:20260112T180331Z
LAST-MODIFIED:20260317T190351Z
UID:10003614-1851931800-1851978600@fayaltwp.org
SUMMARY:Yoga
DESCRIPTION:
URL:https://fayaltwp.org/event/yoga-2-2/2028-09-07/
END:VEVENT
BEGIN:VEVENT
DTSTART;TZID=America/Chicago:20280908T093000
DTEND;TZID=America/Chicago:20280908T103000
DTSTAMP:20260425T150454
CREATED:20240207T174449Z
LAST-MODIFIED:20260317T185548Z
UID:10002048-1852018200-1852021800@fayaltwp.org
SUMMARY:Aerobics
DESCRIPTION:
URL:https://fayaltwp.org/event/aerobics/2028-09-08/
END:VEVENT
END:VCALENDAR