BEGIN:VCALENDAR
VERSION:2.0
PRODID:-//Fayal Twp - ECPv6.15.17.1//NONSGML v1.0//EN
CALSCALE:GREGORIAN
METHOD:PUBLISH
X-ORIGINAL-URL:https://fayaltwp.org
X-WR-CALDESC:Events for Fayal Twp
REFRESH-INTERVAL;VALUE=DURATION:PT1H
X-Robots-Tag:noindex
X-PUBLISHED-TTL:PT1H
BEGIN:VTIMEZONE
TZID:America/Chicago
BEGIN:DAYLIGHT
TZOFFSETFROM:-0600
TZOFFSETTO:-0500
TZNAME:CDT
DTSTART:20270314T080000
END:DAYLIGHT
BEGIN:STANDARD
TZOFFSETFROM:-0500
TZOFFSETTO:-0600
TZNAME:CST
DTSTART:20271107T070000
END:STANDARD
BEGIN:DAYLIGHT
TZOFFSETFROM:-0600
TZOFFSETTO:-0500
TZNAME:CDT
DTSTART:20280312T080000
END:DAYLIGHT
BEGIN:STANDARD
TZOFFSETFROM:-0500
TZOFFSETTO:-0600
TZNAME:CST
DTSTART:20281105T070000
END:STANDARD
BEGIN:DAYLIGHT
TZOFFSETFROM:-0600
TZOFFSETTO:-0500
TZNAME:CDT
DTSTART:20290311T080000
END:DAYLIGHT
BEGIN:STANDARD
TZOFFSETFROM:-0500
TZOFFSETTO:-0600
TZNAME:CST
DTSTART:20291104T070000
END:STANDARD
END:VTIMEZONE
BEGIN:VEVENT
DTSTART;TZID=America/Chicago:20280814T093000
DTEND;TZID=America/Chicago:20280814T103000
DTSTAMP:20260425T114542
CREATED:20240207T174449Z
LAST-MODIFIED:20260317T185548Z
UID:10002037-1849858200-1849861800@fayaltwp.org
SUMMARY:Aerobics
DESCRIPTION:
URL:https://fayaltwp.org/event/aerobics/2028-08-14/
END:VEVENT
BEGIN:VEVENT
DTSTART;TZID=America/Chicago:20280814T120000
DTEND;TZID=America/Chicago:20280814T140000
DTSTAMP:20260425T114542
CREATED:20240207T175425Z
LAST-MODIFIED:20240718T172046Z
UID:10002171-1849867200-1849874400@fayaltwp.org
SUMMARY:Sororiety Meeting
DESCRIPTION:
URL:https://fayaltwp.org/event/sororiety-meeting/2028-08-14/
END:VEVENT
BEGIN:VEVENT
DTSTART;TZID=America/Chicago:20280814T160000
DTEND;TZID=America/Chicago:20280814T183000
DTSTAMP:20260425T114542
CREATED:20250905T131821Z
LAST-MODIFIED:20250905T131821Z
UID:10003872-1849881600-1849890600@fayaltwp.org
SUMMARY:T.O.P.S.
DESCRIPTION:
URL:https://fayaltwp.org/event/t-o-p-s/2028-08-14/
END:VEVENT
BEGIN:VEVENT
DTSTART;TZID=America/Chicago:20280815T190000
DTEND;TZID=America/Chicago:20280815T203000
DTSTAMP:20260425T114542
CREATED:20230727T144614Z
LAST-MODIFIED:20250115T222032Z
UID:10003383-1849978800-1849984200@fayaltwp.org
SUMMARY:Town Board Meeting
DESCRIPTION:Meeting lengths may vary
URL:https://fayaltwp.org/event/town-board-meeting-2/2028-08-15/
END:VEVENT
BEGIN:VEVENT
DTSTART;TZID=America/Chicago:20280816T093000
DTEND;TZID=America/Chicago:20280816T103000
DTSTAMP:20260425T114542
CREATED:20240207T174449Z
LAST-MODIFIED:20260317T185548Z
UID:10002038-1850031000-1850034600@fayaltwp.org
SUMMARY:Aerobics
DESCRIPTION:
URL:https://fayaltwp.org/event/aerobics/2028-08-16/
END:VEVENT
BEGIN:VEVENT
DTSTART;TZID=America/Chicago:20280817T093000
DTEND;TZID=America/Chicago:20280817T223000
DTSTAMP:20260425T114542
CREATED:20260112T180331Z
LAST-MODIFIED:20260317T190351Z
UID:10003611-1850117400-1850164200@fayaltwp.org
SUMMARY:Yoga
DESCRIPTION:
URL:https://fayaltwp.org/event/yoga-2-2/2028-08-17/
END:VEVENT
BEGIN:VEVENT
DTSTART;TZID=America/Chicago:20280817T183000
DTEND;TZID=America/Chicago:20280817T200000
DTSTAMP:20260425T114542
CREATED:20190917T020221Z
LAST-MODIFIED:20250110T151531Z
UID:10003105-1850149800-1850155200@fayaltwp.org
SUMMARY:Eveleth-Fayal Garden Club
DESCRIPTION:Meeting lengths may vary
URL:https://fayaltwp.org/event/eveleth-fayal-garden-club/2028-08-17/
END:VEVENT
BEGIN:VEVENT
DTSTART;TZID=America/Chicago:20280818T093000
DTEND;TZID=America/Chicago:20280818T103000
DTSTAMP:20260425T114542
CREATED:20240207T174449Z
LAST-MODIFIED:20260317T185548Z
UID:10002039-1850203800-1850207400@fayaltwp.org
SUMMARY:Aerobics
DESCRIPTION:
URL:https://fayaltwp.org/event/aerobics/2028-08-18/
END:VEVENT
END:VCALENDAR