BEGIN:VCALENDAR
VERSION:2.0
PRODID:-//Fayal Twp - ECPv6.15.17.1//NONSGML v1.0//EN
CALSCALE:GREGORIAN
METHOD:PUBLISH
X-ORIGINAL-URL:https://fayaltwp.org
X-WR-CALDESC:Events for Fayal Twp
REFRESH-INTERVAL;VALUE=DURATION:PT1H
X-Robots-Tag:noindex
X-PUBLISHED-TTL:PT1H
BEGIN:VTIMEZONE
TZID:America/Chicago
BEGIN:DAYLIGHT
TZOFFSETFROM:-0600
TZOFFSETTO:-0500
TZNAME:CDT
DTSTART:20270314T080000
END:DAYLIGHT
BEGIN:STANDARD
TZOFFSETFROM:-0500
TZOFFSETTO:-0600
TZNAME:CST
DTSTART:20271107T070000
END:STANDARD
BEGIN:DAYLIGHT
TZOFFSETFROM:-0600
TZOFFSETTO:-0500
TZNAME:CDT
DTSTART:20280312T080000
END:DAYLIGHT
BEGIN:STANDARD
TZOFFSETFROM:-0500
TZOFFSETTO:-0600
TZNAME:CST
DTSTART:20281105T070000
END:STANDARD
BEGIN:DAYLIGHT
TZOFFSETFROM:-0600
TZOFFSETTO:-0500
TZNAME:CDT
DTSTART:20290311T080000
END:DAYLIGHT
BEGIN:STANDARD
TZOFFSETFROM:-0500
TZOFFSETTO:-0600
TZNAME:CST
DTSTART:20291104T070000
END:STANDARD
END:VTIMEZONE
BEGIN:VEVENT
DTSTART;TZID=America/Chicago:20280807T093000
DTEND;TZID=America/Chicago:20280807T103000
DTSTAMP:20260425T114610
CREATED:20240207T174449Z
LAST-MODIFIED:20260317T185548Z
UID:10002034-1849253400-1849257000@fayaltwp.org
SUMMARY:Aerobics
DESCRIPTION:
URL:https://fayaltwp.org/event/aerobics/2028-08-07/
END:VEVENT
BEGIN:VEVENT
DTSTART;TZID=America/Chicago:20280807T160000
DTEND;TZID=America/Chicago:20280807T183000
DTSTAMP:20260425T114610
CREATED:20250905T131821Z
LAST-MODIFIED:20250905T131821Z
UID:10003871-1849276800-1849285800@fayaltwp.org
SUMMARY:T.O.P.S.
DESCRIPTION:
URL:https://fayaltwp.org/event/t-o-p-s/2028-08-07/
END:VEVENT
BEGIN:VEVENT
DTSTART;TZID=America/Chicago:20280808T180000
DTEND;TZID=America/Chicago:20280808T190000
DTSTAMP:20260425T114610
CREATED:20240213T194019Z
LAST-MODIFIED:20240718T171231Z
UID:10002394-1849370400-1849374000@fayaltwp.org
SUMMARY:Public Utility Meetings
DESCRIPTION:Meeting lengths may vary
URL:https://fayaltwp.org/event/public-utility-meetings-2-2/2028-08-08/
END:VEVENT
BEGIN:VEVENT
DTSTART;TZID=America/Chicago:20280809T093000
DTEND;TZID=America/Chicago:20280809T103000
DTSTAMP:20260425T114610
CREATED:20240207T174449Z
LAST-MODIFIED:20260317T185548Z
UID:10002035-1849426200-1849429800@fayaltwp.org
SUMMARY:Aerobics
DESCRIPTION:
URL:https://fayaltwp.org/event/aerobics/2028-08-09/
END:VEVENT
BEGIN:VEVENT
DTSTART;TZID=America/Chicago:20280810T093000
DTEND;TZID=America/Chicago:20280810T223000
DTSTAMP:20260425T114610
CREATED:20260112T180331Z
LAST-MODIFIED:20260317T190351Z
UID:10003610-1849512600-1849559400@fayaltwp.org
SUMMARY:Yoga
DESCRIPTION:
URL:https://fayaltwp.org/event/yoga-2-2/2028-08-10/
END:VEVENT
BEGIN:VEVENT
DTSTART;TZID=America/Chicago:20280811T093000
DTEND;TZID=America/Chicago:20280811T103000
DTSTAMP:20260425T114610
CREATED:20240207T174449Z
LAST-MODIFIED:20260317T185548Z
UID:10002036-1849599000-1849602600@fayaltwp.org
SUMMARY:Aerobics
DESCRIPTION:
URL:https://fayaltwp.org/event/aerobics/2028-08-11/
END:VEVENT
END:VCALENDAR