BEGIN:VCALENDAR
VERSION:2.0
PRODID:-//Fayal Twp - ECPv6.15.17.1//NONSGML v1.0//EN
CALSCALE:GREGORIAN
METHOD:PUBLISH
X-WR-CALNAME:Fayal Twp
X-ORIGINAL-URL:https://fayaltwp.org
X-WR-CALDESC:Events for Fayal Twp
REFRESH-INTERVAL;VALUE=DURATION:PT1H
X-Robots-Tag:noindex
X-PUBLISHED-TTL:PT1H
BEGIN:VTIMEZONE
TZID:America/Chicago
BEGIN:DAYLIGHT
TZOFFSETFROM:-0600
TZOFFSETTO:-0500
TZNAME:CDT
DTSTART:20270314T080000
END:DAYLIGHT
BEGIN:STANDARD
TZOFFSETFROM:-0500
TZOFFSETTO:-0600
TZNAME:CST
DTSTART:20271107T070000
END:STANDARD
BEGIN:DAYLIGHT
TZOFFSETFROM:-0600
TZOFFSETTO:-0500
TZNAME:CDT
DTSTART:20280312T080000
END:DAYLIGHT
BEGIN:STANDARD
TZOFFSETFROM:-0500
TZOFFSETTO:-0600
TZNAME:CST
DTSTART:20281105T070000
END:STANDARD
BEGIN:DAYLIGHT
TZOFFSETFROM:-0600
TZOFFSETTO:-0500
TZNAME:CDT
DTSTART:20290311T080000
END:DAYLIGHT
BEGIN:STANDARD
TZOFFSETFROM:-0500
TZOFFSETTO:-0600
TZNAME:CST
DTSTART:20291104T070000
END:STANDARD
END:VTIMEZONE
BEGIN:VEVENT
DTSTART;TZID=America/Chicago:20280703T093000
DTEND;TZID=America/Chicago:20280703T103000
DTSTAMP:20260425T100902
CREATED:20240207T174449Z
LAST-MODIFIED:20260317T185548Z
UID:10002019-1846229400-1846233000@fayaltwp.org
SUMMARY:Aerobics
DESCRIPTION:
URL:https://fayaltwp.org/event/aerobics/2028-07-03/
END:VEVENT
BEGIN:VEVENT
DTSTART;TZID=America/Chicago:20280703T160000
DTEND;TZID=America/Chicago:20280703T183000
DTSTAMP:20260425T100902
CREATED:20250905T131821Z
LAST-MODIFIED:20250905T131821Z
UID:10003866-1846252800-1846261800@fayaltwp.org
SUMMARY:T.O.P.S.
DESCRIPTION:
URL:https://fayaltwp.org/event/t-o-p-s/2028-07-03/
END:VEVENT
BEGIN:VEVENT
DTSTART;TZID=America/Chicago:20280704T190000
DTEND;TZID=America/Chicago:20280704T203000
DTSTAMP:20260425T100902
CREATED:20240213T194504Z
LAST-MODIFIED:20250318T164658Z
UID:10002441-1846350000-1846355400@fayaltwp.org
SUMMARY:Town Board Meeting
DESCRIPTION:Meeting lengths may vary
URL:https://fayaltwp.org/event/town-board-meeting-3/2028-07-04/
END:VEVENT
BEGIN:VEVENT
DTSTART;TZID=America/Chicago:20280705T093000
DTEND;TZID=America/Chicago:20280705T103000
DTSTAMP:20260425T100902
CREATED:20240207T174449Z
LAST-MODIFIED:20260317T185548Z
UID:10002020-1846402200-1846405800@fayaltwp.org
SUMMARY:Aerobics
DESCRIPTION:
URL:https://fayaltwp.org/event/aerobics/2028-07-05/
END:VEVENT
BEGIN:VEVENT
DTSTART;TZID=America/Chicago:20280706T093000
DTEND;TZID=America/Chicago:20280706T223000
DTSTAMP:20260425T100902
CREATED:20260112T180331Z
LAST-MODIFIED:20260317T190351Z
UID:10003605-1846488600-1846535400@fayaltwp.org
SUMMARY:Yoga
DESCRIPTION:
URL:https://fayaltwp.org/event/yoga-2-2/2028-07-06/
END:VEVENT
BEGIN:VEVENT
DTSTART;TZID=America/Chicago:20280707T093000
DTEND;TZID=America/Chicago:20280707T103000
DTSTAMP:20260425T100902
CREATED:20240207T174449Z
LAST-MODIFIED:20260317T185548Z
UID:10002021-1846575000-1846578600@fayaltwp.org
SUMMARY:Aerobics
DESCRIPTION:
URL:https://fayaltwp.org/event/aerobics/2028-07-07/
END:VEVENT
END:VCALENDAR