BEGIN:VCALENDAR
VERSION:2.0
PRODID:-//Fayal Twp - ECPv6.15.17.1//NONSGML v1.0//EN
CALSCALE:GREGORIAN
METHOD:PUBLISH
X-WR-CALNAME:Fayal Twp
X-ORIGINAL-URL:https://fayaltwp.org
X-WR-CALDESC:Events for Fayal Twp
REFRESH-INTERVAL;VALUE=DURATION:PT1H
X-Robots-Tag:noindex
X-PUBLISHED-TTL:PT1H
BEGIN:VTIMEZONE
TZID:America/Chicago
BEGIN:DAYLIGHT
TZOFFSETFROM:-0600
TZOFFSETTO:-0500
TZNAME:CDT
DTSTART:20270314T080000
END:DAYLIGHT
BEGIN:STANDARD
TZOFFSETFROM:-0500
TZOFFSETTO:-0600
TZNAME:CST
DTSTART:20271107T070000
END:STANDARD
BEGIN:DAYLIGHT
TZOFFSETFROM:-0600
TZOFFSETTO:-0500
TZNAME:CDT
DTSTART:20280312T080000
END:DAYLIGHT
BEGIN:STANDARD
TZOFFSETFROM:-0500
TZOFFSETTO:-0600
TZNAME:CST
DTSTART:20281105T070000
END:STANDARD
BEGIN:DAYLIGHT
TZOFFSETFROM:-0600
TZOFFSETTO:-0500
TZNAME:CDT
DTSTART:20290311T080000
END:DAYLIGHT
BEGIN:STANDARD
TZOFFSETFROM:-0500
TZOFFSETTO:-0600
TZNAME:CST
DTSTART:20291104T070000
END:STANDARD
END:VTIMEZONE
BEGIN:VEVENT
DTSTART;TZID=America/Chicago:20280619T093000
DTEND;TZID=America/Chicago:20280619T103000
DTSTAMP:20260425T100904
CREATED:20240207T174449Z
LAST-MODIFIED:20260317T185548Z
UID:10002013-1845019800-1845023400@fayaltwp.org
SUMMARY:Aerobics
DESCRIPTION:
URL:https://fayaltwp.org/event/aerobics/2028-06-19/
END:VEVENT
BEGIN:VEVENT
DTSTART;TZID=America/Chicago:20280619T160000
DTEND;TZID=America/Chicago:20280619T183000
DTSTAMP:20260425T100904
CREATED:20250905T131821Z
LAST-MODIFIED:20250905T131821Z
UID:10003864-1845043200-1845052200@fayaltwp.org
SUMMARY:T.O.P.S.
DESCRIPTION:
URL:https://fayaltwp.org/event/t-o-p-s/2028-06-19/
END:VEVENT
BEGIN:VEVENT
DTSTART;TZID=America/Chicago:20280620T190000
DTEND;TZID=America/Chicago:20280620T203000
DTSTAMP:20260425T100904
CREATED:20230727T144614Z
LAST-MODIFIED:20250115T222032Z
UID:10003381-1845140400-1845145800@fayaltwp.org
SUMMARY:Town Board Meeting
DESCRIPTION:Meeting lengths may vary
URL:https://fayaltwp.org/event/town-board-meeting-2/2028-06-20/
END:VEVENT
BEGIN:VEVENT
DTSTART;TZID=America/Chicago:20280621T093000
DTEND;TZID=America/Chicago:20280621T103000
DTSTAMP:20260425T100904
CREATED:20240207T174449Z
LAST-MODIFIED:20260317T185548Z
UID:10002014-1845192600-1845196200@fayaltwp.org
SUMMARY:Aerobics
DESCRIPTION:
URL:https://fayaltwp.org/event/aerobics/2028-06-21/
END:VEVENT
BEGIN:VEVENT
DTSTART;TZID=America/Chicago:20280622T093000
DTEND;TZID=America/Chicago:20280622T223000
DTSTAMP:20260425T100904
CREATED:20260112T180331Z
LAST-MODIFIED:20260317T190351Z
UID:10003603-1845279000-1845325800@fayaltwp.org
SUMMARY:Yoga
DESCRIPTION:
URL:https://fayaltwp.org/event/yoga-2-2/2028-06-22/
END:VEVENT
BEGIN:VEVENT
DTSTART;TZID=America/Chicago:20280623T093000
DTEND;TZID=America/Chicago:20280623T103000
DTSTAMP:20260425T100904
CREATED:20240207T174449Z
LAST-MODIFIED:20260317T185548Z
UID:10002015-1845365400-1845369000@fayaltwp.org
SUMMARY:Aerobics
DESCRIPTION:
URL:https://fayaltwp.org/event/aerobics/2028-06-23/
END:VEVENT
END:VCALENDAR