BEGIN:VCALENDAR
VERSION:2.0
PRODID:-//Fayal Twp - ECPv6.15.17.1//NONSGML v1.0//EN
CALSCALE:GREGORIAN
METHOD:PUBLISH
X-WR-CALNAME:Fayal Twp
X-ORIGINAL-URL:https://fayaltwp.org
X-WR-CALDESC:Events for Fayal Twp
REFRESH-INTERVAL;VALUE=DURATION:PT1H
X-Robots-Tag:noindex
X-PUBLISHED-TTL:PT1H
BEGIN:VTIMEZONE
TZID:America/Chicago
BEGIN:DAYLIGHT
TZOFFSETFROM:-0600
TZOFFSETTO:-0500
TZNAME:CDT
DTSTART:20270314T080000
END:DAYLIGHT
BEGIN:STANDARD
TZOFFSETFROM:-0500
TZOFFSETTO:-0600
TZNAME:CST
DTSTART:20271107T070000
END:STANDARD
BEGIN:DAYLIGHT
TZOFFSETFROM:-0600
TZOFFSETTO:-0500
TZNAME:CDT
DTSTART:20280312T080000
END:DAYLIGHT
BEGIN:STANDARD
TZOFFSETFROM:-0500
TZOFFSETTO:-0600
TZNAME:CST
DTSTART:20281105T070000
END:STANDARD
BEGIN:DAYLIGHT
TZOFFSETFROM:-0600
TZOFFSETTO:-0500
TZNAME:CDT
DTSTART:20290311T080000
END:DAYLIGHT
BEGIN:STANDARD
TZOFFSETFROM:-0500
TZOFFSETTO:-0600
TZNAME:CST
DTSTART:20291104T070000
END:STANDARD
END:VTIMEZONE
BEGIN:VEVENT
DTSTART;TZID=America/Chicago:20280522T093000
DTEND;TZID=America/Chicago:20280522T103000
DTSTAMP:20260425T063904
CREATED:20240207T174449Z
LAST-MODIFIED:20260317T185548Z
UID:10002001-1842600600-1842604200@fayaltwp.org
SUMMARY:Aerobics
DESCRIPTION:
URL:https://fayaltwp.org/event/aerobics/2028-05-22/
END:VEVENT
BEGIN:VEVENT
DTSTART;TZID=America/Chicago:20280522T160000
DTEND;TZID=America/Chicago:20280522T183000
DTSTAMP:20260425T063904
CREATED:20250905T131821Z
LAST-MODIFIED:20250905T131821Z
UID:10003860-1842624000-1842633000@fayaltwp.org
SUMMARY:T.O.P.S.
DESCRIPTION:
URL:https://fayaltwp.org/event/t-o-p-s/2028-05-22/
END:VEVENT
BEGIN:VEVENT
DTSTART;TZID=America/Chicago:20280524T093000
DTEND;TZID=America/Chicago:20280524T103000
DTSTAMP:20260425T063904
CREATED:20240207T174449Z
LAST-MODIFIED:20260317T185548Z
UID:10002002-1842773400-1842777000@fayaltwp.org
SUMMARY:Aerobics
DESCRIPTION:
URL:https://fayaltwp.org/event/aerobics/2028-05-24/
END:VEVENT
BEGIN:VEVENT
DTSTART;TZID=America/Chicago:20280525T093000
DTEND;TZID=America/Chicago:20280525T223000
DTSTAMP:20260425T063904
CREATED:20260112T180331Z
LAST-MODIFIED:20260317T190351Z
UID:10003599-1842859800-1842906600@fayaltwp.org
SUMMARY:Yoga
DESCRIPTION:
URL:https://fayaltwp.org/event/yoga-2-2/2028-05-25/
END:VEVENT
BEGIN:VEVENT
DTSTART;TZID=America/Chicago:20280526T093000
DTEND;TZID=America/Chicago:20280526T103000
DTSTAMP:20260425T063904
CREATED:20240207T174449Z
LAST-MODIFIED:20260317T185548Z
UID:10002003-1842946200-1842949800@fayaltwp.org
SUMMARY:Aerobics
DESCRIPTION:
URL:https://fayaltwp.org/event/aerobics/2028-05-26/
END:VEVENT
END:VCALENDAR