BEGIN:VCALENDAR
VERSION:2.0
PRODID:-//Fayal Twp - ECPv6.15.17.1//NONSGML v1.0//EN
CALSCALE:GREGORIAN
METHOD:PUBLISH
X-ORIGINAL-URL:https://fayaltwp.org
X-WR-CALDESC:Events for Fayal Twp
REFRESH-INTERVAL;VALUE=DURATION:PT1H
X-Robots-Tag:noindex
X-PUBLISHED-TTL:PT1H
BEGIN:VTIMEZONE
TZID:America/Chicago
BEGIN:DAYLIGHT
TZOFFSETFROM:-0600
TZOFFSETTO:-0500
TZNAME:CDT
DTSTART:20270314T080000
END:DAYLIGHT
BEGIN:STANDARD
TZOFFSETFROM:-0500
TZOFFSETTO:-0600
TZNAME:CST
DTSTART:20271107T070000
END:STANDARD
BEGIN:DAYLIGHT
TZOFFSETFROM:-0600
TZOFFSETTO:-0500
TZNAME:CDT
DTSTART:20280312T080000
END:DAYLIGHT
BEGIN:STANDARD
TZOFFSETFROM:-0500
TZOFFSETTO:-0600
TZNAME:CST
DTSTART:20281105T070000
END:STANDARD
BEGIN:DAYLIGHT
TZOFFSETFROM:-0600
TZOFFSETTO:-0500
TZNAME:CDT
DTSTART:20290311T080000
END:DAYLIGHT
BEGIN:STANDARD
TZOFFSETFROM:-0500
TZOFFSETTO:-0600
TZNAME:CST
DTSTART:20291104T070000
END:STANDARD
END:VTIMEZONE
BEGIN:VEVENT
DTSTART;TZID=America/Chicago:20280501T093000
DTEND;TZID=America/Chicago:20280501T103000
DTSTAMP:20260425T083033
CREATED:20240207T174449Z
LAST-MODIFIED:20260317T185548Z
UID:10001992-1840786200-1840789800@fayaltwp.org
SUMMARY:Aerobics
DESCRIPTION:
URL:https://fayaltwp.org/event/aerobics/2028-05-01/
END:VEVENT
BEGIN:VEVENT
DTSTART;TZID=America/Chicago:20280501T160000
DTEND;TZID=America/Chicago:20280501T183000
DTSTAMP:20260425T083033
CREATED:20250905T131821Z
LAST-MODIFIED:20250905T131821Z
UID:10003857-1840809600-1840818600@fayaltwp.org
SUMMARY:T.O.P.S.
DESCRIPTION:
URL:https://fayaltwp.org/event/t-o-p-s/2028-05-01/
END:VEVENT
BEGIN:VEVENT
DTSTART;TZID=America/Chicago:20280502T190000
DTEND;TZID=America/Chicago:20280502T203000
DTSTAMP:20260425T083033
CREATED:20240213T194504Z
LAST-MODIFIED:20250318T164658Z
UID:10002439-1840906800-1840912200@fayaltwp.org
SUMMARY:Town Board Meeting
DESCRIPTION:Meeting lengths may vary
URL:https://fayaltwp.org/event/town-board-meeting-3/2028-05-02/
END:VEVENT
BEGIN:VEVENT
DTSTART;TZID=America/Chicago:20280503T093000
DTEND;TZID=America/Chicago:20280503T103000
DTSTAMP:20260425T083033
CREATED:20240207T174449Z
LAST-MODIFIED:20260317T185548Z
UID:10001993-1840959000-1840962600@fayaltwp.org
SUMMARY:Aerobics
DESCRIPTION:
URL:https://fayaltwp.org/event/aerobics/2028-05-03/
END:VEVENT
BEGIN:VEVENT
DTSTART;TZID=America/Chicago:20280504T093000
DTEND;TZID=America/Chicago:20280504T223000
DTSTAMP:20260425T083033
CREATED:20260112T180331Z
LAST-MODIFIED:20260317T190351Z
UID:10003596-1841045400-1841092200@fayaltwp.org
SUMMARY:Yoga
DESCRIPTION:
URL:https://fayaltwp.org/event/yoga-2-2/2028-05-04/
END:VEVENT
BEGIN:VEVENT
DTSTART;TZID=America/Chicago:20280505T093000
DTEND;TZID=America/Chicago:20280505T103000
DTSTAMP:20260425T083033
CREATED:20240207T174449Z
LAST-MODIFIED:20260317T185548Z
UID:10001994-1841131800-1841135400@fayaltwp.org
SUMMARY:Aerobics
DESCRIPTION:
URL:https://fayaltwp.org/event/aerobics/2028-05-05/
END:VEVENT
END:VCALENDAR