BEGIN:VCALENDAR
VERSION:2.0
PRODID:-//Fayal Twp - ECPv6.15.17.1//NONSGML v1.0//EN
CALSCALE:GREGORIAN
METHOD:PUBLISH
X-ORIGINAL-URL:https://fayaltwp.org
X-WR-CALDESC:Events for Fayal Twp
REFRESH-INTERVAL;VALUE=DURATION:PT1H
X-Robots-Tag:noindex
X-PUBLISHED-TTL:PT1H
BEGIN:VTIMEZONE
TZID:America/Chicago
BEGIN:DAYLIGHT
TZOFFSETFROM:-0600
TZOFFSETTO:-0500
TZNAME:CDT
DTSTART:20270314T080000
END:DAYLIGHT
BEGIN:STANDARD
TZOFFSETFROM:-0500
TZOFFSETTO:-0600
TZNAME:CST
DTSTART:20271107T070000
END:STANDARD
BEGIN:DAYLIGHT
TZOFFSETFROM:-0600
TZOFFSETTO:-0500
TZNAME:CDT
DTSTART:20280312T080000
END:DAYLIGHT
BEGIN:STANDARD
TZOFFSETFROM:-0500
TZOFFSETTO:-0600
TZNAME:CST
DTSTART:20281105T070000
END:STANDARD
BEGIN:DAYLIGHT
TZOFFSETFROM:-0600
TZOFFSETTO:-0500
TZNAME:CDT
DTSTART:20290311T080000
END:DAYLIGHT
BEGIN:STANDARD
TZOFFSETFROM:-0500
TZOFFSETTO:-0600
TZNAME:CST
DTSTART:20291104T070000
END:STANDARD
END:VTIMEZONE
BEGIN:VEVENT
DTSTART;TZID=America/Chicago:20280306T093000
DTEND;TZID=America/Chicago:20280306T103000
DTSTAMP:20260425T064732
CREATED:20240207T174449Z
LAST-MODIFIED:20260317T185548Z
UID:10001968-1835947800-1835951400@fayaltwp.org
SUMMARY:Aerobics
DESCRIPTION:
URL:https://fayaltwp.org/event/aerobics/2028-03-06/
END:VEVENT
BEGIN:VEVENT
DTSTART;TZID=America/Chicago:20280306T160000
DTEND;TZID=America/Chicago:20280306T183000
DTSTAMP:20260425T064732
CREATED:20250905T131821Z
LAST-MODIFIED:20250905T131821Z
UID:10003849-1835971200-1835980200@fayaltwp.org
SUMMARY:T.O.P.S.
DESCRIPTION:
URL:https://fayaltwp.org/event/t-o-p-s/2028-03-06/
END:VEVENT
BEGIN:VEVENT
DTSTART;TZID=America/Chicago:20280307T190000
DTEND;TZID=America/Chicago:20280307T203000
DTSTAMP:20260425T064732
CREATED:20240213T194504Z
LAST-MODIFIED:20250318T164658Z
UID:10002437-1836068400-1836073800@fayaltwp.org
SUMMARY:Town Board Meeting
DESCRIPTION:Meeting lengths may vary
URL:https://fayaltwp.org/event/town-board-meeting-3/2028-03-07/
END:VEVENT
BEGIN:VEVENT
DTSTART;TZID=America/Chicago:20280308T093000
DTEND;TZID=America/Chicago:20280308T103000
DTSTAMP:20260425T064732
CREATED:20240207T174449Z
LAST-MODIFIED:20260317T185548Z
UID:10001969-1836120600-1836124200@fayaltwp.org
SUMMARY:Aerobics
DESCRIPTION:
URL:https://fayaltwp.org/event/aerobics/2028-03-08/
END:VEVENT
BEGIN:VEVENT
DTSTART;TZID=America/Chicago:20280309T093000
DTEND;TZID=America/Chicago:20280309T223000
DTSTAMP:20260425T064732
CREATED:20260112T180331Z
LAST-MODIFIED:20260317T190351Z
UID:10003588-1836207000-1836253800@fayaltwp.org
SUMMARY:Yoga
DESCRIPTION:
URL:https://fayaltwp.org/event/yoga-2-2/2028-03-09/
END:VEVENT
BEGIN:VEVENT
DTSTART;TZID=America/Chicago:20280310T093000
DTEND;TZID=America/Chicago:20280310T103000
DTSTAMP:20260425T064732
CREATED:20240207T174449Z
LAST-MODIFIED:20260317T185548Z
UID:10001970-1836293400-1836297000@fayaltwp.org
SUMMARY:Aerobics
DESCRIPTION:
URL:https://fayaltwp.org/event/aerobics/2028-03-10/
END:VEVENT
END:VCALENDAR