BEGIN:VCALENDAR
VERSION:2.0
PRODID:-//Fayal Twp - ECPv6.15.17.1//NONSGML v1.0//EN
CALSCALE:GREGORIAN
METHOD:PUBLISH
X-ORIGINAL-URL:https://fayaltwp.org
X-WR-CALDESC:Events for Fayal Twp
REFRESH-INTERVAL;VALUE=DURATION:PT1H
X-Robots-Tag:noindex
X-PUBLISHED-TTL:PT1H
BEGIN:VTIMEZONE
TZID:America/Chicago
BEGIN:DAYLIGHT
TZOFFSETFROM:-0600
TZOFFSETTO:-0500
TZNAME:CDT
DTSTART:20260308T080000
END:DAYLIGHT
BEGIN:STANDARD
TZOFFSETFROM:-0500
TZOFFSETTO:-0600
TZNAME:CST
DTSTART:20261101T070000
END:STANDARD
BEGIN:DAYLIGHT
TZOFFSETFROM:-0600
TZOFFSETTO:-0500
TZNAME:CDT
DTSTART:20270314T080000
END:DAYLIGHT
BEGIN:STANDARD
TZOFFSETFROM:-0500
TZOFFSETTO:-0600
TZNAME:CST
DTSTART:20271107T070000
END:STANDARD
BEGIN:DAYLIGHT
TZOFFSETFROM:-0600
TZOFFSETTO:-0500
TZNAME:CDT
DTSTART:20280312T080000
END:DAYLIGHT
BEGIN:STANDARD
TZOFFSETFROM:-0500
TZOFFSETTO:-0600
TZNAME:CST
DTSTART:20281105T070000
END:STANDARD
END:VTIMEZONE
BEGIN:VEVENT
DTSTART;TZID=America/Chicago:20270920T093000
DTEND;TZID=America/Chicago:20270920T103000
DTSTAMP:20260424T190746
CREATED:20240207T174449Z
LAST-MODIFIED:20260317T185548Z
UID:10001896-1821432600-1821436200@fayaltwp.org
SUMMARY:Aerobics
DESCRIPTION:
URL:https://fayaltwp.org/event/aerobics/2027-09-20/
END:VEVENT
BEGIN:VEVENT
DTSTART;TZID=America/Chicago:20270920T160000
DTEND;TZID=America/Chicago:20270920T183000
DTSTAMP:20260424T190746
CREATED:20250905T131821Z
LAST-MODIFIED:20250905T131821Z
UID:10003825-1821456000-1821465000@fayaltwp.org
SUMMARY:T.O.P.S.
DESCRIPTION:
URL:https://fayaltwp.org/event/t-o-p-s/2027-09-20/
END:VEVENT
BEGIN:VEVENT
DTSTART;TZID=America/Chicago:20270921T190000
DTEND;TZID=America/Chicago:20270921T203000
DTSTAMP:20260424T190746
CREATED:20230727T144614Z
LAST-MODIFIED:20250115T222032Z
UID:10003372-1821553200-1821558600@fayaltwp.org
SUMMARY:Town Board Meeting
DESCRIPTION:Meeting lengths may vary
URL:https://fayaltwp.org/event/town-board-meeting-2/2027-09-21/
END:VEVENT
BEGIN:VEVENT
DTSTART;TZID=America/Chicago:20270922T093000
DTEND;TZID=America/Chicago:20270922T103000
DTSTAMP:20260424T190746
CREATED:20240207T174449Z
LAST-MODIFIED:20260317T185548Z
UID:10001897-1821605400-1821609000@fayaltwp.org
SUMMARY:Aerobics
DESCRIPTION:
URL:https://fayaltwp.org/event/aerobics/2027-09-22/
END:VEVENT
BEGIN:VEVENT
DTSTART;TZID=America/Chicago:20270923T093000
DTEND;TZID=America/Chicago:20270923T223000
DTSTAMP:20260424T190746
CREATED:20260112T180331Z
LAST-MODIFIED:20260317T190351Z
UID:10003564-1821691800-1821738600@fayaltwp.org
SUMMARY:Yoga
DESCRIPTION:
URL:https://fayaltwp.org/event/yoga-2-2/2027-09-23/
END:VEVENT
BEGIN:VEVENT
DTSTART;TZID=America/Chicago:20270924T093000
DTEND;TZID=America/Chicago:20270924T103000
DTSTAMP:20260424T190746
CREATED:20240207T174449Z
LAST-MODIFIED:20260317T185548Z
UID:10001898-1821778200-1821781800@fayaltwp.org
SUMMARY:Aerobics
DESCRIPTION:
URL:https://fayaltwp.org/event/aerobics/2027-09-24/
END:VEVENT
END:VCALENDAR