BEGIN:VCALENDAR
VERSION:2.0
PRODID:-//Fayal Twp - ECPv6.15.17.1//NONSGML v1.0//EN
CALSCALE:GREGORIAN
METHOD:PUBLISH
X-WR-CALNAME:Fayal Twp
X-ORIGINAL-URL:https://fayaltwp.org
X-WR-CALDESC:Events for Fayal Twp
REFRESH-INTERVAL;VALUE=DURATION:PT1H
X-Robots-Tag:noindex
X-PUBLISHED-TTL:PT1H
BEGIN:VTIMEZONE
TZID:America/Chicago
BEGIN:DAYLIGHT
TZOFFSETFROM:-0600
TZOFFSETTO:-0500
TZNAME:CDT
DTSTART:20260308T080000
END:DAYLIGHT
BEGIN:STANDARD
TZOFFSETFROM:-0500
TZOFFSETTO:-0600
TZNAME:CST
DTSTART:20261101T070000
END:STANDARD
BEGIN:DAYLIGHT
TZOFFSETFROM:-0600
TZOFFSETTO:-0500
TZNAME:CDT
DTSTART:20270314T080000
END:DAYLIGHT
BEGIN:STANDARD
TZOFFSETFROM:-0500
TZOFFSETTO:-0600
TZNAME:CST
DTSTART:20271107T070000
END:STANDARD
BEGIN:DAYLIGHT
TZOFFSETFROM:-0600
TZOFFSETTO:-0500
TZNAME:CDT
DTSTART:20280312T080000
END:DAYLIGHT
BEGIN:STANDARD
TZOFFSETFROM:-0500
TZOFFSETTO:-0600
TZNAME:CST
DTSTART:20281105T070000
END:STANDARD
END:VTIMEZONE
BEGIN:VEVENT
DTSTART;TZID=America/Chicago:20270517T093000
DTEND;TZID=America/Chicago:20270517T103000
DTSTAMP:20260424T110526
CREATED:20240207T174449Z
LAST-MODIFIED:20260317T185548Z
UID:10001842-1810546200-1810549800@fayaltwp.org
SUMMARY:Aerobics
DESCRIPTION:
URL:https://fayaltwp.org/event/aerobics/2027-05-17/
END:VEVENT
BEGIN:VEVENT
DTSTART;TZID=America/Chicago:20270517T160000
DTEND;TZID=America/Chicago:20270517T183000
DTSTAMP:20260424T110526
CREATED:20250905T131821Z
LAST-MODIFIED:20250905T131821Z
UID:10003807-1810569600-1810578600@fayaltwp.org
SUMMARY:T.O.P.S.
DESCRIPTION:
URL:https://fayaltwp.org/event/t-o-p-s/2027-05-17/
END:VEVENT
BEGIN:VEVENT
DTSTART;TZID=America/Chicago:20270518T190000
DTEND;TZID=America/Chicago:20270518T203000
DTSTAMP:20260424T110526
CREATED:20230727T144614Z
LAST-MODIFIED:20250115T222032Z
UID:10003368-1810666800-1810672200@fayaltwp.org
SUMMARY:Town Board Meeting
DESCRIPTION:Meeting lengths may vary
URL:https://fayaltwp.org/event/town-board-meeting-2/2027-05-18/
END:VEVENT
BEGIN:VEVENT
DTSTART;TZID=America/Chicago:20270519T093000
DTEND;TZID=America/Chicago:20270519T103000
DTSTAMP:20260424T110526
CREATED:20240207T174449Z
LAST-MODIFIED:20260317T185548Z
UID:10001843-1810719000-1810722600@fayaltwp.org
SUMMARY:Aerobics
DESCRIPTION:
URL:https://fayaltwp.org/event/aerobics/2027-05-19/
END:VEVENT
BEGIN:VEVENT
DTSTART;TZID=America/Chicago:20270520T093000
DTEND;TZID=America/Chicago:20270520T223000
DTSTAMP:20260424T110526
CREATED:20260112T180331Z
LAST-MODIFIED:20260317T190351Z
UID:10003546-1810805400-1810852200@fayaltwp.org
SUMMARY:Yoga
DESCRIPTION:
URL:https://fayaltwp.org/event/yoga-2-2/2027-05-20/
END:VEVENT
BEGIN:VEVENT
DTSTART;TZID=America/Chicago:20270520T183000
DTEND;TZID=America/Chicago:20270520T200000
DTSTAMP:20260424T110526
CREATED:20190917T020221Z
LAST-MODIFIED:20250110T151531Z
UID:10003093-1810837800-1810843200@fayaltwp.org
SUMMARY:Eveleth-Fayal Garden Club
DESCRIPTION:Meeting lengths may vary
URL:https://fayaltwp.org/event/eveleth-fayal-garden-club/2027-05-20/
END:VEVENT
BEGIN:VEVENT
DTSTART;TZID=America/Chicago:20270521T093000
DTEND;TZID=America/Chicago:20270521T103000
DTSTAMP:20260424T110526
CREATED:20240207T174449Z
LAST-MODIFIED:20260317T185548Z
UID:10001844-1810891800-1810895400@fayaltwp.org
SUMMARY:Aerobics
DESCRIPTION:
URL:https://fayaltwp.org/event/aerobics/2027-05-21/
END:VEVENT
END:VCALENDAR