BEGIN:VCALENDAR
VERSION:2.0
PRODID:-//Fayal Twp - ECPv6.15.17.1//NONSGML v1.0//EN
CALSCALE:GREGORIAN
METHOD:PUBLISH
X-WR-CALNAME:Fayal Twp
X-ORIGINAL-URL:https://fayaltwp.org
X-WR-CALDESC:Events for Fayal Twp
REFRESH-INTERVAL;VALUE=DURATION:PT1H
X-Robots-Tag:noindex
X-PUBLISHED-TTL:PT1H
BEGIN:VTIMEZONE
TZID:America/Chicago
BEGIN:DAYLIGHT
TZOFFSETFROM:-0600
TZOFFSETTO:-0500
TZNAME:CDT
DTSTART:20260308T080000
END:DAYLIGHT
BEGIN:STANDARD
TZOFFSETFROM:-0500
TZOFFSETTO:-0600
TZNAME:CST
DTSTART:20261101T070000
END:STANDARD
BEGIN:DAYLIGHT
TZOFFSETFROM:-0600
TZOFFSETTO:-0500
TZNAME:CDT
DTSTART:20270314T080000
END:DAYLIGHT
BEGIN:STANDARD
TZOFFSETFROM:-0500
TZOFFSETTO:-0600
TZNAME:CST
DTSTART:20271107T070000
END:STANDARD
BEGIN:DAYLIGHT
TZOFFSETFROM:-0600
TZOFFSETTO:-0500
TZNAME:CDT
DTSTART:20280312T080000
END:DAYLIGHT
BEGIN:STANDARD
TZOFFSETFROM:-0500
TZOFFSETTO:-0600
TZNAME:CST
DTSTART:20281105T070000
END:STANDARD
END:VTIMEZONE
BEGIN:VEVENT
DTSTART;TZID=America/Chicago:20270405T093000
DTEND;TZID=America/Chicago:20270405T103000
DTSTAMP:20260424T092822
CREATED:20240207T174449Z
LAST-MODIFIED:20260317T185548Z
UID:10001824-1806917400-1806921000@fayaltwp.org
SUMMARY:Aerobics
DESCRIPTION:
URL:https://fayaltwp.org/event/aerobics/2027-04-05/
END:VEVENT
BEGIN:VEVENT
DTSTART;TZID=America/Chicago:20270405T160000
DTEND;TZID=America/Chicago:20270405T183000
DTSTAMP:20260424T092822
CREATED:20250905T131821Z
LAST-MODIFIED:20250905T131821Z
UID:10003801-1806940800-1806949800@fayaltwp.org
SUMMARY:T.O.P.S.
DESCRIPTION:
URL:https://fayaltwp.org/event/t-o-p-s/2027-04-05/
END:VEVENT
BEGIN:VEVENT
DTSTART;TZID=America/Chicago:20270406T190000
DTEND;TZID=America/Chicago:20270406T203000
DTSTAMP:20260424T092822
CREATED:20240213T194504Z
LAST-MODIFIED:20250318T164658Z
UID:10002426-1807038000-1807043400@fayaltwp.org
SUMMARY:Town Board Meeting
DESCRIPTION:Meeting lengths may vary
URL:https://fayaltwp.org/event/town-board-meeting-3/2027-04-06/
END:VEVENT
BEGIN:VEVENT
DTSTART;TZID=America/Chicago:20270407T093000
DTEND;TZID=America/Chicago:20270407T103000
DTSTAMP:20260424T092822
CREATED:20240207T174449Z
LAST-MODIFIED:20260317T185548Z
UID:10001825-1807090200-1807093800@fayaltwp.org
SUMMARY:Aerobics
DESCRIPTION:
URL:https://fayaltwp.org/event/aerobics/2027-04-07/
END:VEVENT
BEGIN:VEVENT
DTSTART;TZID=America/Chicago:20270408T093000
DTEND;TZID=America/Chicago:20270408T223000
DTSTAMP:20260424T092822
CREATED:20260112T180331Z
LAST-MODIFIED:20260317T190351Z
UID:10003540-1807176600-1807223400@fayaltwp.org
SUMMARY:Yoga
DESCRIPTION:
URL:https://fayaltwp.org/event/yoga-2-2/2027-04-08/
END:VEVENT
BEGIN:VEVENT
DTSTART;TZID=America/Chicago:20270409T093000
DTEND;TZID=America/Chicago:20270409T103000
DTSTAMP:20260424T092822
CREATED:20240207T174449Z
LAST-MODIFIED:20260317T185548Z
UID:10001826-1807263000-1807266600@fayaltwp.org
SUMMARY:Aerobics
DESCRIPTION:
URL:https://fayaltwp.org/event/aerobics/2027-04-09/
END:VEVENT
END:VCALENDAR