BEGIN:VCALENDAR
VERSION:2.0
PRODID:-//Fayal Twp - ECPv6.15.17.1//NONSGML v1.0//EN
CALSCALE:GREGORIAN
METHOD:PUBLISH
X-ORIGINAL-URL:https://fayaltwp.org
X-WR-CALDESC:Events for Fayal Twp
REFRESH-INTERVAL;VALUE=DURATION:PT1H
X-Robots-Tag:noindex
X-PUBLISHED-TTL:PT1H
BEGIN:VTIMEZONE
TZID:America/Chicago
BEGIN:DAYLIGHT
TZOFFSETFROM:-0600
TZOFFSETTO:-0500
TZNAME:CDT
DTSTART:20250309T080000
END:DAYLIGHT
BEGIN:STANDARD
TZOFFSETFROM:-0500
TZOFFSETTO:-0600
TZNAME:CST
DTSTART:20251102T070000
END:STANDARD
BEGIN:DAYLIGHT
TZOFFSETFROM:-0600
TZOFFSETTO:-0500
TZNAME:CDT
DTSTART:20260308T080000
END:DAYLIGHT
BEGIN:STANDARD
TZOFFSETFROM:-0500
TZOFFSETTO:-0600
TZNAME:CST
DTSTART:20261101T070000
END:STANDARD
BEGIN:DAYLIGHT
TZOFFSETFROM:-0600
TZOFFSETTO:-0500
TZNAME:CDT
DTSTART:20270314T080000
END:DAYLIGHT
BEGIN:STANDARD
TZOFFSETFROM:-0500
TZOFFSETTO:-0600
TZNAME:CST
DTSTART:20271107T070000
END:STANDARD
END:VTIMEZONE
BEGIN:VEVENT
DTSTART;TZID=America/Chicago:20260928T093000
DTEND;TZID=America/Chicago:20260928T103000
DTSTAMP:20260423T234258
CREATED:20240207T174449Z
LAST-MODIFIED:20260317T185548Z
UID:10001743-1790587800-1790591400@fayaltwp.org
SUMMARY:Aerobics
DESCRIPTION:
URL:https://fayaltwp.org/event/aerobics/2026-09-28/
END:VEVENT
BEGIN:VEVENT
DTSTART;TZID=America/Chicago:20260928T160000
DTEND;TZID=America/Chicago:20260928T183000
DTSTAMP:20260423T234258
CREATED:20250905T131821Z
LAST-MODIFIED:20250905T131821Z
UID:10003774-1790611200-1790620200@fayaltwp.org
SUMMARY:T.O.P.S.
DESCRIPTION:
URL:https://fayaltwp.org/event/t-o-p-s/2026-09-28/
END:VEVENT
BEGIN:VEVENT
DTSTART;TZID=America/Chicago:20260930T093000
DTEND;TZID=America/Chicago:20260930T103000
DTSTAMP:20260423T234258
CREATED:20240207T174449Z
LAST-MODIFIED:20260317T185548Z
UID:10001744-1790760600-1790764200@fayaltwp.org
SUMMARY:Aerobics
DESCRIPTION:
URL:https://fayaltwp.org/event/aerobics/2026-09-30/
END:VEVENT
BEGIN:VEVENT
DTSTART;TZID=America/Chicago:20261001T093000
DTEND;TZID=America/Chicago:20261001T223000
DTSTAMP:20260423T234258
CREATED:20260112T180331Z
LAST-MODIFIED:20260317T190351Z
UID:10003513-1790847000-1790893800@fayaltwp.org
SUMMARY:Yoga
DESCRIPTION:
URL:https://fayaltwp.org/event/yoga-2-2/2026-10-01/
END:VEVENT
BEGIN:VEVENT
DTSTART;TZID=America/Chicago:20261002T093000
DTEND;TZID=America/Chicago:20261002T103000
DTSTAMP:20260423T234258
CREATED:20240207T174449Z
LAST-MODIFIED:20260317T185548Z
UID:10001745-1790933400-1790937000@fayaltwp.org
SUMMARY:Aerobics
DESCRIPTION:
URL:https://fayaltwp.org/event/aerobics/2026-10-02/
END:VEVENT
END:VCALENDAR