BEGIN:VCALENDAR
VERSION:2.0
PRODID:-//Fayal Twp - ECPv6.15.17.1//NONSGML v1.0//EN
CALSCALE:GREGORIAN
METHOD:PUBLISH
X-WR-CALNAME:Fayal Twp
X-ORIGINAL-URL:https://fayaltwp.org
X-WR-CALDESC:Events for Fayal Twp
REFRESH-INTERVAL;VALUE=DURATION:PT1H
X-Robots-Tag:noindex
X-PUBLISHED-TTL:PT1H
BEGIN:VTIMEZONE
TZID:America/Chicago
BEGIN:DAYLIGHT
TZOFFSETFROM:-0600
TZOFFSETTO:-0500
TZNAME:CDT
DTSTART:20250309T080000
END:DAYLIGHT
BEGIN:STANDARD
TZOFFSETFROM:-0500
TZOFFSETTO:-0600
TZNAME:CST
DTSTART:20251102T070000
END:STANDARD
BEGIN:DAYLIGHT
TZOFFSETFROM:-0600
TZOFFSETTO:-0500
TZNAME:CDT
DTSTART:20260308T080000
END:DAYLIGHT
BEGIN:STANDARD
TZOFFSETFROM:-0500
TZOFFSETTO:-0600
TZNAME:CST
DTSTART:20261101T070000
END:STANDARD
BEGIN:DAYLIGHT
TZOFFSETFROM:-0600
TZOFFSETTO:-0500
TZNAME:CDT
DTSTART:20270314T080000
END:DAYLIGHT
BEGIN:STANDARD
TZOFFSETFROM:-0500
TZOFFSETTO:-0600
TZNAME:CST
DTSTART:20271107T070000
END:STANDARD
END:VTIMEZONE
BEGIN:VEVENT
DTSTART;TZID=America/Chicago:20260914T093000
DTEND;TZID=America/Chicago:20260914T103000
DTSTAMP:20260423T220801
CREATED:20240207T174449Z
LAST-MODIFIED:20260317T185548Z
UID:10001737-1789378200-1789381800@fayaltwp.org
SUMMARY:Aerobics
DESCRIPTION:
URL:https://fayaltwp.org/event/aerobics/2026-09-14/
END:VEVENT
BEGIN:VEVENT
DTSTART;TZID=America/Chicago:20260914T120000
DTEND;TZID=America/Chicago:20260914T140000
DTSTAMP:20260423T220801
CREATED:20240207T175425Z
LAST-MODIFIED:20240718T172046Z
UID:10002148-1789387200-1789394400@fayaltwp.org
SUMMARY:Sororiety Meeting
DESCRIPTION:
URL:https://fayaltwp.org/event/sororiety-meeting/2026-09-14/
END:VEVENT
BEGIN:VEVENT
DTSTART;TZID=America/Chicago:20260914T160000
DTEND;TZID=America/Chicago:20260914T183000
DTSTAMP:20260423T220801
CREATED:20250905T131821Z
LAST-MODIFIED:20250905T131821Z
UID:10003772-1789401600-1789410600@fayaltwp.org
SUMMARY:T.O.P.S.
DESCRIPTION:
URL:https://fayaltwp.org/event/t-o-p-s/2026-09-14/
END:VEVENT
BEGIN:VEVENT
DTSTART;TZID=America/Chicago:20260915T190000
DTEND;TZID=America/Chicago:20260915T203000
DTSTAMP:20260423T220801
CREATED:20230727T144614Z
LAST-MODIFIED:20250115T222032Z
UID:10003360-1789498800-1789504200@fayaltwp.org
SUMMARY:Town Board Meeting
DESCRIPTION:Meeting lengths may vary
URL:https://fayaltwp.org/event/town-board-meeting-2/2026-09-15/
END:VEVENT
BEGIN:VEVENT
DTSTART;TZID=America/Chicago:20260916T093000
DTEND;TZID=America/Chicago:20260916T103000
DTSTAMP:20260423T220801
CREATED:20240207T174449Z
LAST-MODIFIED:20260317T185548Z
UID:10001738-1789551000-1789554600@fayaltwp.org
SUMMARY:Aerobics
DESCRIPTION:
URL:https://fayaltwp.org/event/aerobics/2026-09-16/
END:VEVENT
BEGIN:VEVENT
DTSTART;TZID=America/Chicago:20260917T093000
DTEND;TZID=America/Chicago:20260917T223000
DTSTAMP:20260423T220801
CREATED:20260112T180331Z
LAST-MODIFIED:20260317T190351Z
UID:10003511-1789637400-1789684200@fayaltwp.org
SUMMARY:Yoga
DESCRIPTION:
URL:https://fayaltwp.org/event/yoga-2-2/2026-09-17/
END:VEVENT
BEGIN:VEVENT
DTSTART;TZID=America/Chicago:20260917T183000
DTEND;TZID=America/Chicago:20260917T200000
DTSTAMP:20260423T220801
CREATED:20190917T020221Z
LAST-MODIFIED:20250110T151531Z
UID:10003085-1789669800-1789675200@fayaltwp.org
SUMMARY:Eveleth-Fayal Garden Club
DESCRIPTION:Meeting lengths may vary
URL:https://fayaltwp.org/event/eveleth-fayal-garden-club/2026-09-17/
END:VEVENT
BEGIN:VEVENT
DTSTART;TZID=America/Chicago:20260918T093000
DTEND;TZID=America/Chicago:20260918T103000
DTSTAMP:20260423T220801
CREATED:20240207T174449Z
LAST-MODIFIED:20260317T185548Z
UID:10001739-1789723800-1789727400@fayaltwp.org
SUMMARY:Aerobics
DESCRIPTION:
URL:https://fayaltwp.org/event/aerobics/2026-09-18/
END:VEVENT
END:VCALENDAR