BEGIN:VCALENDAR
VERSION:2.0
PRODID:-//Fayal Twp - ECPv6.15.17.1//NONSGML v1.0//EN
CALSCALE:GREGORIAN
METHOD:PUBLISH
X-WR-CALNAME:Fayal Twp
X-ORIGINAL-URL:https://fayaltwp.org
X-WR-CALDESC:Events for Fayal Twp
REFRESH-INTERVAL;VALUE=DURATION:PT1H
X-Robots-Tag:noindex
X-PUBLISHED-TTL:PT1H
BEGIN:VTIMEZONE
TZID:America/Chicago
BEGIN:DAYLIGHT
TZOFFSETFROM:-0600
TZOFFSETTO:-0500
TZNAME:CDT
DTSTART:20250309T080000
END:DAYLIGHT
BEGIN:STANDARD
TZOFFSETFROM:-0500
TZOFFSETTO:-0600
TZNAME:CST
DTSTART:20251102T070000
END:STANDARD
BEGIN:DAYLIGHT
TZOFFSETFROM:-0600
TZOFFSETTO:-0500
TZNAME:CDT
DTSTART:20260308T080000
END:DAYLIGHT
BEGIN:STANDARD
TZOFFSETFROM:-0500
TZOFFSETTO:-0600
TZNAME:CST
DTSTART:20261101T070000
END:STANDARD
BEGIN:DAYLIGHT
TZOFFSETFROM:-0600
TZOFFSETTO:-0500
TZNAME:CDT
DTSTART:20270314T080000
END:DAYLIGHT
BEGIN:STANDARD
TZOFFSETFROM:-0500
TZOFFSETTO:-0600
TZNAME:CST
DTSTART:20271107T070000
END:STANDARD
END:VTIMEZONE
BEGIN:VEVENT
DTSTART;TZID=America/Chicago:20260817T093000
DTEND;TZID=America/Chicago:20260817T103000
DTSTAMP:20260423T220657
CREATED:20240207T174449Z
LAST-MODIFIED:20260317T185548Z
UID:10001725-1786959000-1786962600@fayaltwp.org
SUMMARY:Aerobics
DESCRIPTION:
URL:https://fayaltwp.org/event/aerobics/2026-08-17/
END:VEVENT
BEGIN:VEVENT
DTSTART;TZID=America/Chicago:20260817T160000
DTEND;TZID=America/Chicago:20260817T183000
DTSTAMP:20260423T220657
CREATED:20250905T131821Z
LAST-MODIFIED:20250905T131821Z
UID:10003768-1786982400-1786991400@fayaltwp.org
SUMMARY:T.O.P.S.
DESCRIPTION:
URL:https://fayaltwp.org/event/t-o-p-s/2026-08-17/
END:VEVENT
BEGIN:VEVENT
DTSTART;TZID=America/Chicago:20260818T190000
DTEND;TZID=America/Chicago:20260818T203000
DTSTAMP:20260423T220657
CREATED:20230727T144614Z
LAST-MODIFIED:20250115T222032Z
UID:10003359-1787079600-1787085000@fayaltwp.org
SUMMARY:Town Board Meeting
DESCRIPTION:Meeting lengths may vary
URL:https://fayaltwp.org/event/town-board-meeting-2/2026-08-18/
END:VEVENT
BEGIN:VEVENT
DTSTART;TZID=America/Chicago:20260819T093000
DTEND;TZID=America/Chicago:20260819T103000
DTSTAMP:20260423T220657
CREATED:20240207T174449Z
LAST-MODIFIED:20260317T185548Z
UID:10001726-1787131800-1787135400@fayaltwp.org
SUMMARY:Aerobics
DESCRIPTION:
URL:https://fayaltwp.org/event/aerobics/2026-08-19/
END:VEVENT
BEGIN:VEVENT
DTSTART;TZID=America/Chicago:20260820T093000
DTEND;TZID=America/Chicago:20260820T223000
DTSTAMP:20260423T220657
CREATED:20260112T180331Z
LAST-MODIFIED:20260317T190351Z
UID:10003507-1787218200-1787265000@fayaltwp.org
SUMMARY:Yoga
DESCRIPTION:
URL:https://fayaltwp.org/event/yoga-2-2/2026-08-20/
END:VEVENT
BEGIN:VEVENT
DTSTART;TZID=America/Chicago:20260820T183000
DTEND;TZID=America/Chicago:20260820T200000
DTSTAMP:20260423T220657
CREATED:20190917T020221Z
LAST-MODIFIED:20250110T151531Z
UID:10003084-1787250600-1787256000@fayaltwp.org
SUMMARY:Eveleth-Fayal Garden Club
DESCRIPTION:Meeting lengths may vary
URL:https://fayaltwp.org/event/eveleth-fayal-garden-club/2026-08-20/
END:VEVENT
BEGIN:VEVENT
DTSTART;TZID=America/Chicago:20260821T093000
DTEND;TZID=America/Chicago:20260821T103000
DTSTAMP:20260423T220657
CREATED:20240207T174449Z
LAST-MODIFIED:20260317T185548Z
UID:10001727-1787304600-1787308200@fayaltwp.org
SUMMARY:Aerobics
DESCRIPTION:
URL:https://fayaltwp.org/event/aerobics/2026-08-21/
END:VEVENT
END:VCALENDAR