BEGIN:VCALENDAR
VERSION:2.0
PRODID:-//Fayal Twp - ECPv6.15.17.1//NONSGML v1.0//EN
CALSCALE:GREGORIAN
METHOD:PUBLISH
X-WR-CALNAME:Fayal Twp
X-ORIGINAL-URL:https://fayaltwp.org
X-WR-CALDESC:Events for Fayal Twp
REFRESH-INTERVAL;VALUE=DURATION:PT1H
X-Robots-Tag:noindex
X-PUBLISHED-TTL:PT1H
BEGIN:VTIMEZONE
TZID:America/Chicago
BEGIN:DAYLIGHT
TZOFFSETFROM:-0600
TZOFFSETTO:-0500
TZNAME:CDT
DTSTART:20250309T080000
END:DAYLIGHT
BEGIN:STANDARD
TZOFFSETFROM:-0500
TZOFFSETTO:-0600
TZNAME:CST
DTSTART:20251102T070000
END:STANDARD
BEGIN:DAYLIGHT
TZOFFSETFROM:-0600
TZOFFSETTO:-0500
TZNAME:CDT
DTSTART:20260308T080000
END:DAYLIGHT
BEGIN:STANDARD
TZOFFSETFROM:-0500
TZOFFSETTO:-0600
TZNAME:CST
DTSTART:20261101T070000
END:STANDARD
BEGIN:DAYLIGHT
TZOFFSETFROM:-0600
TZOFFSETTO:-0500
TZNAME:CDT
DTSTART:20270314T080000
END:DAYLIGHT
BEGIN:STANDARD
TZOFFSETFROM:-0500
TZOFFSETTO:-0600
TZNAME:CST
DTSTART:20271107T070000
END:STANDARD
END:VTIMEZONE
BEGIN:VEVENT
DTSTART;VALUE=DATE:20260326
DTEND;VALUE=DATE:20260330
DTSTAMP:20260423T153538
CREATED:20260112T172845Z
LAST-MODIFIED:20260112T172845Z
UID:10004004-1774501200-1774760399@fayaltwp.org
SUMMARY:Rummage Sale
DESCRIPTION:
URL:https://fayaltwp.org/event/rummage-sale-12/
END:VEVENT
BEGIN:VEVENT
DTSTART;VALUE=DATE:20260329
DTEND;VALUE=DATE:20260331
DTSTAMP:20260423T153538
CREATED:20260317T184112Z
LAST-MODIFIED:20260317T184112Z
UID:10004049-1774760400-1774846799@fayaltwp.org
SUMMARY:Town Hall Rented
DESCRIPTION:
URL:https://fayaltwp.org/event/town-hall-rented-174/
END:VEVENT
BEGIN:VEVENT
DTSTART;TZID=America/Chicago:20260330T093000
DTEND;TZID=America/Chicago:20260330T103000
DTSTAMP:20260423T153538
CREATED:20240207T174449Z
LAST-MODIFIED:20260317T185548Z
UID:10001665-1774863000-1774866600@fayaltwp.org
SUMMARY:Aerobics
DESCRIPTION:
URL:https://fayaltwp.org/event/aerobics/2026-03-30/
END:VEVENT
BEGIN:VEVENT
DTSTART;TZID=America/Chicago:20260330T160000
DTEND;TZID=America/Chicago:20260330T183000
DTSTAMP:20260423T153538
CREATED:20250905T131821Z
LAST-MODIFIED:20250905T131821Z
UID:10003748-1774886400-1774895400@fayaltwp.org
SUMMARY:T.O.P.S.
DESCRIPTION:
URL:https://fayaltwp.org/event/t-o-p-s/2026-03-30/
END:VEVENT
BEGIN:VEVENT
DTSTART;TZID=America/Chicago:20260401T093000
DTEND;TZID=America/Chicago:20260401T103000
DTSTAMP:20260423T153538
CREATED:20240207T174449Z
LAST-MODIFIED:20260317T185548Z
UID:10001666-1775035800-1775039400@fayaltwp.org
SUMMARY:Aerobics
DESCRIPTION:
URL:https://fayaltwp.org/event/aerobics/2026-04-01/
END:VEVENT
BEGIN:VEVENT
DTSTART;TZID=America/Chicago:20260403T093000
DTEND;TZID=America/Chicago:20260403T103000
DTSTAMP:20260423T153538
CREATED:20240207T174449Z
LAST-MODIFIED:20260317T185548Z
UID:10001667-1775208600-1775212200@fayaltwp.org
SUMMARY:Aerobics
DESCRIPTION:
URL:https://fayaltwp.org/event/aerobics/2026-04-03/
END:VEVENT
BEGIN:VEVENT
DTSTART;VALUE=DATE:20260404
DTEND;VALUE=DATE:20260406
DTSTAMP:20260423T153538
CREATED:20260212T174259Z
LAST-MODIFIED:20260212T174259Z
UID:10004048-1775278800-1775365199@fayaltwp.org
SUMMARY:Town Hall Rented
DESCRIPTION:
URL:https://fayaltwp.org/event/town-hall-rented-182/
END:VEVENT
END:VCALENDAR