BEGIN:VCALENDAR
VERSION:2.0
PRODID:-//Fayal Twp - ECPv6.15.17.1//NONSGML v1.0//EN
CALSCALE:GREGORIAN
METHOD:PUBLISH
X-ORIGINAL-URL:https://fayaltwp.org
X-WR-CALDESC:Events for Fayal Twp
REFRESH-INTERVAL;VALUE=DURATION:PT1H
X-Robots-Tag:noindex
X-PUBLISHED-TTL:PT1H
BEGIN:VTIMEZONE
TZID:America/Chicago
BEGIN:DAYLIGHT
TZOFFSETFROM:-0600
TZOFFSETTO:-0500
TZNAME:CDT
DTSTART:20240310T080000
END:DAYLIGHT
BEGIN:STANDARD
TZOFFSETFROM:-0500
TZOFFSETTO:-0600
TZNAME:CST
DTSTART:20241103T070000
END:STANDARD
BEGIN:DAYLIGHT
TZOFFSETFROM:-0600
TZOFFSETTO:-0500
TZNAME:CDT
DTSTART:20250309T080000
END:DAYLIGHT
BEGIN:STANDARD
TZOFFSETFROM:-0500
TZOFFSETTO:-0600
TZNAME:CST
DTSTART:20251102T070000
END:STANDARD
BEGIN:DAYLIGHT
TZOFFSETFROM:-0600
TZOFFSETTO:-0500
TZNAME:CDT
DTSTART:20260308T080000
END:DAYLIGHT
BEGIN:STANDARD
TZOFFSETFROM:-0500
TZOFFSETTO:-0600
TZNAME:CST
DTSTART:20261101T070000
END:STANDARD
END:VTIMEZONE
BEGIN:VEVENT
DTSTART;VALUE=DATE:20251122
DTEND;VALUE=DATE:20251124
DTSTAMP:20260423T221128
CREATED:20250908T130119Z
LAST-MODIFIED:20250908T130119Z
UID:10003983-1763787600-1763873999@fayaltwp.org
SUMMARY:Town Hall Rented
DESCRIPTION:
URL:https://fayaltwp.org/event/town-hall-rented-144/
END:VEVENT
BEGIN:VEVENT
DTSTART;TZID=America/Chicago:20251124T093000
DTEND;TZID=America/Chicago:20251124T103000
DTSTAMP:20260423T221128
CREATED:20240207T174449Z
LAST-MODIFIED:20260317T185548Z
UID:10001611-1763976600-1763980200@fayaltwp.org
SUMMARY:Aerobics
DESCRIPTION:
URL:https://fayaltwp.org/event/aerobics/2025-11-24/
END:VEVENT
BEGIN:VEVENT
DTSTART;TZID=America/Chicago:20251124T160000
DTEND;TZID=America/Chicago:20251124T183000
DTSTAMP:20260423T221128
CREATED:20250905T131821Z
LAST-MODIFIED:20250905T131821Z
UID:10003730-1764000000-1764009000@fayaltwp.org
SUMMARY:T.O.P.S.
DESCRIPTION:
URL:https://fayaltwp.org/event/t-o-p-s/2025-11-24/
END:VEVENT
BEGIN:VEVENT
DTSTART;TZID=America/Chicago:20251126T093000
DTEND;TZID=America/Chicago:20251126T103000
DTSTAMP:20260423T221128
CREATED:20240207T174449Z
LAST-MODIFIED:20260317T185548Z
UID:10001612-1764149400-1764153000@fayaltwp.org
SUMMARY:Aerobics
DESCRIPTION:
URL:https://fayaltwp.org/event/aerobics/2025-11-26/
END:VEVENT
BEGIN:VEVENT
DTSTART;TZID=America/Chicago:20251127T093000
DTEND;TZID=America/Chicago:20251127T223000
DTSTAMP:20260423T221128
CREATED:20250908T145635Z
LAST-MODIFIED:20250908T145635Z
UID:10003469-1764235800-1764282600@fayaltwp.org
SUMMARY:Yoga
DESCRIPTION:
URL:https://fayaltwp.org/event/yoga-2/2025-11-27/
END:VEVENT
BEGIN:VEVENT
DTSTART;TZID=America/Chicago:20251128T093000
DTEND;TZID=America/Chicago:20251128T103000
DTSTAMP:20260423T221128
CREATED:20240207T174449Z
LAST-MODIFIED:20260317T185548Z
UID:10001613-1764322200-1764325800@fayaltwp.org
SUMMARY:Aerobics
DESCRIPTION:
URL:https://fayaltwp.org/event/aerobics/2025-11-28/
END:VEVENT
BEGIN:VEVENT
DTSTART;VALUE=DATE:20251129
DTEND;VALUE=DATE:20251201
DTSTAMP:20260423T221128
CREATED:20251114T151947Z
LAST-MODIFIED:20251114T151947Z
UID:10003991-1764392400-1764478799@fayaltwp.org
SUMMARY:Town Hall Rented
DESCRIPTION:
URL:https://fayaltwp.org/event/town-hall-rented-152/
END:VEVENT
END:VCALENDAR