BEGIN:VCALENDAR
VERSION:2.0
PRODID:-//Fayal Twp - ECPv6.15.17.1//NONSGML v1.0//EN
CALSCALE:GREGORIAN
METHOD:PUBLISH
X-WR-CALNAME:Fayal Twp
X-ORIGINAL-URL:https://fayaltwp.org
X-WR-CALDESC:Events for Fayal Twp
REFRESH-INTERVAL;VALUE=DURATION:PT1H
X-Robots-Tag:noindex
X-PUBLISHED-TTL:PT1H
BEGIN:VTIMEZONE
TZID:America/Chicago
BEGIN:DAYLIGHT
TZOFFSETFROM:-0600
TZOFFSETTO:-0500
TZNAME:CDT
DTSTART:20240310T080000
END:DAYLIGHT
BEGIN:STANDARD
TZOFFSETFROM:-0500
TZOFFSETTO:-0600
TZNAME:CST
DTSTART:20241103T070000
END:STANDARD
BEGIN:DAYLIGHT
TZOFFSETFROM:-0600
TZOFFSETTO:-0500
TZNAME:CDT
DTSTART:20250309T080000
END:DAYLIGHT
BEGIN:STANDARD
TZOFFSETFROM:-0500
TZOFFSETTO:-0600
TZNAME:CST
DTSTART:20251102T070000
END:STANDARD
BEGIN:DAYLIGHT
TZOFFSETFROM:-0600
TZOFFSETTO:-0500
TZNAME:CDT
DTSTART:20260308T080000
END:DAYLIGHT
BEGIN:STANDARD
TZOFFSETFROM:-0500
TZOFFSETTO:-0600
TZNAME:CST
DTSTART:20261101T070000
END:STANDARD
END:VTIMEZONE
BEGIN:VEVENT
DTSTART;VALUE=DATE:20250830
DTEND;VALUE=DATE:20250901
DTSTAMP:20260423T233948
CREATED:20250711T142301Z
LAST-MODIFIED:20250711T142301Z
UID:10003451-1756530000-1756616399@fayaltwp.org
SUMMARY:Town Hall Rented
DESCRIPTION:
URL:https://fayaltwp.org/event/town-hall-rented-137/
END:VEVENT
BEGIN:VEVENT
DTSTART;VALUE=DATE:20250831
DTEND;VALUE=DATE:20250902
DTSTAMP:20260423T233948
CREATED:20250224T191645Z
LAST-MODIFIED:20250224T191645Z
UID:10003422-1756616400-1756702799@fayaltwp.org
SUMMARY:Town Hall Rented
DESCRIPTION:
URL:https://fayaltwp.org/event/town-hall-rented-120/
END:VEVENT
BEGIN:VEVENT
DTSTART;TZID=America/Chicago:20250901T093000
DTEND;TZID=America/Chicago:20250901T103000
DTSTAMP:20260423T233948
CREATED:20240207T174449Z
LAST-MODIFIED:20260317T185548Z
UID:10001575-1756719000-1756722600@fayaltwp.org
SUMMARY:Aerobics
DESCRIPTION:
URL:https://fayaltwp.org/event/aerobics/2025-09-01/
END:VEVENT
BEGIN:VEVENT
DTSTART;TZID=America/Chicago:20250902T190000
DTEND;TZID=America/Chicago:20250902T203000
DTSTAMP:20260423T233948
CREATED:20240213T194504Z
LAST-MODIFIED:20250318T164658Z
UID:10002407-1756839600-1756845000@fayaltwp.org
SUMMARY:Town Board Meeting
DESCRIPTION:Meeting lengths may vary
URL:https://fayaltwp.org/event/town-board-meeting-3/2025-09-02/
END:VEVENT
BEGIN:VEVENT
DTSTART;TZID=America/Chicago:20250903T093000
DTEND;TZID=America/Chicago:20250903T103000
DTSTAMP:20260423T233948
CREATED:20240207T174449Z
LAST-MODIFIED:20260317T185548Z
UID:10001576-1756891800-1756895400@fayaltwp.org
SUMMARY:Aerobics
DESCRIPTION:
URL:https://fayaltwp.org/event/aerobics/2025-09-03/
END:VEVENT
BEGIN:VEVENT
DTSTART;TZID=America/Chicago:20250904T093000
DTEND;TZID=America/Chicago:20250904T223000
DTSTAMP:20260423T233948
CREATED:20250905T131632Z
LAST-MODIFIED:20250905T131632Z
UID:10003457-1756978200-1757025000@fayaltwp.org
SUMMARY:Yoga
DESCRIPTION:
URL:https://fayaltwp.org/event/yoga/
END:VEVENT
BEGIN:VEVENT
DTSTART;TZID=America/Chicago:20250905T093000
DTEND;TZID=America/Chicago:20250905T103000
DTSTAMP:20260423T233948
CREATED:20240207T174449Z
LAST-MODIFIED:20260317T185548Z
UID:10001577-1757064600-1757068200@fayaltwp.org
SUMMARY:Aerobics
DESCRIPTION:
URL:https://fayaltwp.org/event/aerobics/2025-09-05/
END:VEVENT
BEGIN:VEVENT
DTSTART;VALUE=DATE:20250906
DTEND;VALUE=DATE:20250908
DTSTAMP:20260423T233948
CREATED:20250711T142411Z
LAST-MODIFIED:20250711T142411Z
UID:10003452-1757134800-1757221199@fayaltwp.org
SUMMARY:Town Hall Rented
DESCRIPTION:
URL:https://fayaltwp.org/event/town-hall-rented-138/
END:VEVENT
END:VCALENDAR