BEGIN:VCALENDAR
VERSION:2.0
PRODID:-//Fayal Twp - ECPv6.15.17.1//NONSGML v1.0//EN
CALSCALE:GREGORIAN
METHOD:PUBLISH
X-ORIGINAL-URL:https://fayaltwp.org
X-WR-CALDESC:Events for Fayal Twp
REFRESH-INTERVAL;VALUE=DURATION:PT1H
X-Robots-Tag:noindex
X-PUBLISHED-TTL:PT1H
BEGIN:VTIMEZONE
TZID:America/Chicago
BEGIN:DAYLIGHT
TZOFFSETFROM:-0600
TZOFFSETTO:-0500
TZNAME:CDT
DTSTART:20240310T080000
END:DAYLIGHT
BEGIN:STANDARD
TZOFFSETFROM:-0500
TZOFFSETTO:-0600
TZNAME:CST
DTSTART:20241103T070000
END:STANDARD
BEGIN:DAYLIGHT
TZOFFSETFROM:-0600
TZOFFSETTO:-0500
TZNAME:CDT
DTSTART:20250309T080000
END:DAYLIGHT
BEGIN:STANDARD
TZOFFSETFROM:-0500
TZOFFSETTO:-0600
TZNAME:CST
DTSTART:20251102T070000
END:STANDARD
BEGIN:DAYLIGHT
TZOFFSETFROM:-0600
TZOFFSETTO:-0500
TZNAME:CDT
DTSTART:20260308T080000
END:DAYLIGHT
BEGIN:STANDARD
TZOFFSETFROM:-0500
TZOFFSETTO:-0600
TZNAME:CST
DTSTART:20261101T070000
END:STANDARD
END:VTIMEZONE
BEGIN:VEVENT
DTSTART;TZID=America/Chicago:20250803T110000
DTEND;TZID=America/Chicago:20250803T170000
DTSTAMP:20260424T025016
CREATED:20250211T191906Z
LAST-MODIFIED:20250211T191906Z
UID:10003417-1754218800-1754240400@fayaltwp.org
SUMMARY:Town Hall and Picnic Shelter Reserved
DESCRIPTION:
URL:https://fayaltwp.org/event/town-hall-and-picnic-shelter-reserved/
END:VEVENT
BEGIN:VEVENT
DTSTART;TZID=America/Chicago:20250804T093000
DTEND;TZID=America/Chicago:20250804T103000
DTSTAMP:20260424T025016
CREATED:20240207T174449Z
LAST-MODIFIED:20260317T185548Z
UID:10001563-1754299800-1754303400@fayaltwp.org
SUMMARY:Aerobics
DESCRIPTION:
URL:https://fayaltwp.org/event/aerobics/2025-08-04/
END:VEVENT
BEGIN:VEVENT
DTSTART;TZID=America/Chicago:20250805T190000
DTEND;TZID=America/Chicago:20250805T203000
DTSTAMP:20260424T025016
CREATED:20240213T194504Z
LAST-MODIFIED:20250318T164658Z
UID:10002406-1754420400-1754425800@fayaltwp.org
SUMMARY:Town Board Meeting
DESCRIPTION:Meeting lengths may vary
URL:https://fayaltwp.org/event/town-board-meeting-3/2025-08-05/
END:VEVENT
BEGIN:VEVENT
DTSTART;TZID=America/Chicago:20250806T093000
DTEND;TZID=America/Chicago:20250806T103000
DTSTAMP:20260424T025016
CREATED:20240207T174449Z
LAST-MODIFIED:20260317T185548Z
UID:10001564-1754472600-1754476200@fayaltwp.org
SUMMARY:Aerobics
DESCRIPTION:
URL:https://fayaltwp.org/event/aerobics/2025-08-06/
END:VEVENT
BEGIN:VEVENT
DTSTART;TZID=America/Chicago:20250808T093000
DTEND;TZID=America/Chicago:20250808T103000
DTSTAMP:20260424T025016
CREATED:20240207T174449Z
LAST-MODIFIED:20260317T185548Z
UID:10001565-1754645400-1754649000@fayaltwp.org
SUMMARY:Aerobics
DESCRIPTION:
URL:https://fayaltwp.org/event/aerobics/2025-08-08/
END:VEVENT
BEGIN:VEVENT
DTSTART;VALUE=DATE:20250809
DTEND;VALUE=DATE:20250811
DTSTAMP:20260424T025016
CREATED:20250711T142204Z
LAST-MODIFIED:20250711T142204Z
UID:10003448-1754715600-1754801999@fayaltwp.org
SUMMARY:Town Hall Rented
DESCRIPTION:
URL:https://fayaltwp.org/event/town-hall-rented-134/
END:VEVENT
END:VCALENDAR