BEGIN:VCALENDAR
VERSION:2.0
PRODID:-//Fayal Twp - ECPv6.15.17.1//NONSGML v1.0//EN
CALSCALE:GREGORIAN
METHOD:PUBLISH
X-WR-CALNAME:Fayal Twp
X-ORIGINAL-URL:https://fayaltwp.org
X-WR-CALDESC:Events for Fayal Twp
REFRESH-INTERVAL;VALUE=DURATION:PT1H
X-Robots-Tag:noindex
X-PUBLISHED-TTL:PT1H
BEGIN:VTIMEZONE
TZID:America/Chicago
BEGIN:DAYLIGHT
TZOFFSETFROM:-0600
TZOFFSETTO:-0500
TZNAME:CDT
DTSTART:20240310T080000
END:DAYLIGHT
BEGIN:STANDARD
TZOFFSETFROM:-0500
TZOFFSETTO:-0600
TZNAME:CST
DTSTART:20241103T070000
END:STANDARD
BEGIN:DAYLIGHT
TZOFFSETFROM:-0600
TZOFFSETTO:-0500
TZNAME:CDT
DTSTART:20250309T080000
END:DAYLIGHT
BEGIN:STANDARD
TZOFFSETFROM:-0500
TZOFFSETTO:-0600
TZNAME:CST
DTSTART:20251102T070000
END:STANDARD
BEGIN:DAYLIGHT
TZOFFSETFROM:-0600
TZOFFSETTO:-0500
TZNAME:CDT
DTSTART:20260308T080000
END:DAYLIGHT
BEGIN:STANDARD
TZOFFSETFROM:-0500
TZOFFSETTO:-0600
TZNAME:CST
DTSTART:20261101T070000
END:STANDARD
END:VTIMEZONE
BEGIN:VEVENT
DTSTART;VALUE=DATE:20250621
DTEND;VALUE=DATE:20250623
DTSTAMP:20260424T060454
CREATED:20250211T191646Z
LAST-MODIFIED:20250211T191646Z
UID:10003414-1750482000-1750568399@fayaltwp.org
SUMMARY:Town Hall Rented
DESCRIPTION:
URL:https://fayaltwp.org/event/town-hall-rented-113/
END:VEVENT
BEGIN:VEVENT
DTSTART;TZID=America/Chicago:20250623T093000
DTEND;TZID=America/Chicago:20250623T103000
DTSTAMP:20260424T060454
CREATED:20240207T174449Z
LAST-MODIFIED:20260317T185548Z
UID:10001545-1750671000-1750674600@fayaltwp.org
SUMMARY:Aerobics
DESCRIPTION:
URL:https://fayaltwp.org/event/aerobics/2025-06-23/
END:VEVENT
BEGIN:VEVENT
DTSTART;TZID=America/Chicago:20250625T093000
DTEND;TZID=America/Chicago:20250625T103000
DTSTAMP:20260424T060454
CREATED:20240207T174449Z
LAST-MODIFIED:20260317T185548Z
UID:10001546-1750843800-1750847400@fayaltwp.org
SUMMARY:Aerobics
DESCRIPTION:
URL:https://fayaltwp.org/event/aerobics/2025-06-25/
END:VEVENT
BEGIN:VEVENT
DTSTART;TZID=America/Chicago:20250627T093000
DTEND;TZID=America/Chicago:20250627T103000
DTSTAMP:20260424T060454
CREATED:20240207T174449Z
LAST-MODIFIED:20260317T185548Z
UID:10001547-1751016600-1751020200@fayaltwp.org
SUMMARY:Aerobics
DESCRIPTION:
URL:https://fayaltwp.org/event/aerobics/2025-06-27/
END:VEVENT
BEGIN:VEVENT
DTSTART;VALUE=DATE:20250628
DTEND;VALUE=DATE:20250630
DTSTAMP:20260424T060454
CREATED:20250211T191703Z
LAST-MODIFIED:20250211T191703Z
UID:10003415-1751086800-1751173199@fayaltwp.org
SUMMARY:Town Hall Rented
DESCRIPTION:
URL:https://fayaltwp.org/event/town-hall-rented-114/
END:VEVENT
END:VCALENDAR