BEGIN:VCALENDAR
VERSION:2.0
PRODID:-//Fayal Twp - ECPv6.15.17.1//NONSGML v1.0//EN
CALSCALE:GREGORIAN
METHOD:PUBLISH
X-ORIGINAL-URL:https://fayaltwp.org
X-WR-CALDESC:Events for Fayal Twp
REFRESH-INTERVAL;VALUE=DURATION:PT1H
X-Robots-Tag:noindex
X-PUBLISHED-TTL:PT1H
BEGIN:VTIMEZONE
TZID:America/Chicago
BEGIN:DAYLIGHT
TZOFFSETFROM:-0600
TZOFFSETTO:-0500
TZNAME:CDT
DTSTART:20240310T080000
END:DAYLIGHT
BEGIN:STANDARD
TZOFFSETFROM:-0500
TZOFFSETTO:-0600
TZNAME:CST
DTSTART:20241103T070000
END:STANDARD
BEGIN:DAYLIGHT
TZOFFSETFROM:-0600
TZOFFSETTO:-0500
TZNAME:CDT
DTSTART:20250309T080000
END:DAYLIGHT
BEGIN:STANDARD
TZOFFSETFROM:-0500
TZOFFSETTO:-0600
TZNAME:CST
DTSTART:20251102T070000
END:STANDARD
BEGIN:DAYLIGHT
TZOFFSETFROM:-0600
TZOFFSETTO:-0500
TZNAME:CDT
DTSTART:20260308T080000
END:DAYLIGHT
BEGIN:STANDARD
TZOFFSETFROM:-0500
TZOFFSETTO:-0600
TZNAME:CST
DTSTART:20261101T070000
END:STANDARD
END:VTIMEZONE
BEGIN:VEVENT
DTSTART;VALUE=DATE:20250510
DTEND;VALUE=DATE:20250512
DTSTAMP:20260424T093108
CREATED:20250318T165607Z
LAST-MODIFIED:20250318T165607Z
UID:10003437-1746853200-1746939599@fayaltwp.org
SUMMARY:Town Hall Rented
DESCRIPTION:
URL:https://fayaltwp.org/event/town-hall-rented-123/
END:VEVENT
BEGIN:VEVENT
DTSTART;TZID=America/Chicago:20250512T093000
DTEND;TZID=America/Chicago:20250512T103000
DTSTAMP:20260424T093108
CREATED:20240207T174449Z
LAST-MODIFIED:20260317T185548Z
UID:10001527-1747042200-1747045800@fayaltwp.org
SUMMARY:Aerobics
DESCRIPTION:
URL:https://fayaltwp.org/event/aerobics/2025-05-12/
END:VEVENT
BEGIN:VEVENT
DTSTART;TZID=America/Chicago:20250512T120000
DTEND;TZID=America/Chicago:20250512T140000
DTSTAMP:20260424T093108
CREATED:20240207T175425Z
LAST-MODIFIED:20240718T172046Z
UID:10002132-1747051200-1747058400@fayaltwp.org
SUMMARY:Sororiety Meeting
DESCRIPTION:
URL:https://fayaltwp.org/event/sororiety-meeting/2025-05-12/
END:VEVENT
BEGIN:VEVENT
DTSTART;TZID=America/Chicago:20250513T180000
DTEND;TZID=America/Chicago:20250513T190000
DTSTAMP:20260424T093108
CREATED:20240213T194019Z
LAST-MODIFIED:20240718T171231Z
UID:10002355-1747159200-1747162800@fayaltwp.org
SUMMARY:Public Utility Meetings
DESCRIPTION:Meeting lengths may vary
URL:https://fayaltwp.org/event/public-utility-meetings-2-2/2025-05-13/
END:VEVENT
BEGIN:VEVENT
DTSTART;TZID=America/Chicago:20250514T093000
DTEND;TZID=America/Chicago:20250514T103000
DTSTAMP:20260424T093108
CREATED:20240207T174449Z
LAST-MODIFIED:20260317T185548Z
UID:10001528-1747215000-1747218600@fayaltwp.org
SUMMARY:Aerobics
DESCRIPTION:
URL:https://fayaltwp.org/event/aerobics/2025-05-14/
END:VEVENT
BEGIN:VEVENT
DTSTART;TZID=America/Chicago:20250515T183000
DTEND;TZID=America/Chicago:20250515T200000
DTSTAMP:20260424T093108
CREATED:20190917T020221Z
LAST-MODIFIED:20250110T151531Z
UID:10003072-1747333800-1747339200@fayaltwp.org
SUMMARY:Eveleth-Fayal Garden Club
DESCRIPTION:Meeting lengths may vary
URL:https://fayaltwp.org/event/eveleth-fayal-garden-club/2025-05-15/
END:VEVENT
BEGIN:VEVENT
DTSTART;VALUE=DATE:20250516
DTEND;VALUE=DATE:20250518
DTSTAMP:20260424T093108
CREATED:20250501T192637Z
LAST-MODIFIED:20250501T192637Z
UID:10003445-1747371600-1747457999@fayaltwp.org
SUMMARY:Town Hall Rented
DESCRIPTION:
URL:https://fayaltwp.org/event/town-hall-rented-131/
END:VEVENT
BEGIN:VEVENT
DTSTART;TZID=America/Chicago:20250516T093000
DTEND;TZID=America/Chicago:20250516T103000
DTSTAMP:20260424T093108
CREATED:20240207T174449Z
LAST-MODIFIED:20260317T185548Z
UID:10001529-1747387800-1747391400@fayaltwp.org
SUMMARY:Aerobics
DESCRIPTION:
URL:https://fayaltwp.org/event/aerobics/2025-05-16/
END:VEVENT
BEGIN:VEVENT
DTSTART;TZID=America/Chicago:20250516T173000
DTEND;TZID=America/Chicago:20250516T173000
DTSTAMP:20260424T093108
CREATED:20190917T020012Z
LAST-MODIFIED:20260317T185333Z
UID:10004116-1747416600-1747416600@fayaltwp.org
SUMMARY:Planning Commission Meeting
DESCRIPTION:Meeting lengths may vary
URL:https://fayaltwp.org/event/fayal-planning-commission/2025-05-16/
END:VEVENT
END:VCALENDAR