BEGIN:VCALENDAR
VERSION:2.0
PRODID:-//Fayal Twp - ECPv6.15.17.1//NONSGML v1.0//EN
CALSCALE:GREGORIAN
METHOD:PUBLISH
X-ORIGINAL-URL:https://fayaltwp.org
X-WR-CALDESC:Events for Fayal Twp
REFRESH-INTERVAL;VALUE=DURATION:PT1H
X-Robots-Tag:noindex
X-PUBLISHED-TTL:PT1H
BEGIN:VTIMEZONE
TZID:America/Chicago
BEGIN:DAYLIGHT
TZOFFSETFROM:-0600
TZOFFSETTO:-0500
TZNAME:CDT
DTSTART:20240310T080000
END:DAYLIGHT
BEGIN:STANDARD
TZOFFSETFROM:-0500
TZOFFSETTO:-0600
TZNAME:CST
DTSTART:20241103T070000
END:STANDARD
BEGIN:DAYLIGHT
TZOFFSETFROM:-0600
TZOFFSETTO:-0500
TZNAME:CDT
DTSTART:20250309T080000
END:DAYLIGHT
BEGIN:STANDARD
TZOFFSETFROM:-0500
TZOFFSETTO:-0600
TZNAME:CST
DTSTART:20251102T070000
END:STANDARD
BEGIN:DAYLIGHT
TZOFFSETFROM:-0600
TZOFFSETTO:-0500
TZNAME:CDT
DTSTART:20260308T080000
END:DAYLIGHT
BEGIN:STANDARD
TZOFFSETFROM:-0500
TZOFFSETTO:-0600
TZNAME:CST
DTSTART:20261101T070000
END:STANDARD
END:VTIMEZONE
BEGIN:VEVENT
DTSTART;TZID=America/Chicago:20250428T093000
DTEND;TZID=America/Chicago:20250428T103000
DTSTAMP:20260424T075054
CREATED:20240207T174449Z
LAST-MODIFIED:20260317T185548Z
UID:10001521-1745832600-1745836200@fayaltwp.org
SUMMARY:Aerobics
DESCRIPTION:
URL:https://fayaltwp.org/event/aerobics/2025-04-28/
END:VEVENT
BEGIN:VEVENT
DTSTART;TZID=America/Chicago:20250430T093000
DTEND;TZID=America/Chicago:20250430T103000
DTSTAMP:20260424T075054
CREATED:20240207T174449Z
LAST-MODIFIED:20260317T185548Z
UID:10001522-1746005400-1746009000@fayaltwp.org
SUMMARY:Aerobics
DESCRIPTION:
URL:https://fayaltwp.org/event/aerobics/2025-04-30/
END:VEVENT
BEGIN:VEVENT
DTSTART;TZID=America/Chicago:20250430T130000
DTEND;TZID=America/Chicago:20250430T140000
DTSTAMP:20260424T075054
CREATED:20250318T164320Z
LAST-MODIFIED:20250318T164320Z
UID:10003427-1746018000-1746021600@fayaltwp.org
SUMMARY:Local Board of Appeal and Equalization
DESCRIPTION:
URL:https://fayaltwp.org/event/local-board-of-appeal-and-equalization/
END:VEVENT
BEGIN:VEVENT
DTSTART;VALUE=DATE:20250503
DTEND;VALUE=DATE:20250505
DTSTAMP:20260424T075054
CREATED:20250501T192513Z
LAST-MODIFIED:20250501T192513Z
UID:10003443-1746248400-1746334799@fayaltwp.org
SUMMARY:Town Hall Rented
DESCRIPTION:
URL:https://fayaltwp.org/event/town-hall-rented-129/
END:VEVENT
END:VCALENDAR