BEGIN:VCALENDAR
VERSION:2.0
PRODID:-//Fayal Twp - ECPv6.15.17.1//NONSGML v1.0//EN
CALSCALE:GREGORIAN
METHOD:PUBLISH
X-ORIGINAL-URL:https://fayaltwp.org
X-WR-CALDESC:Events for Fayal Twp
REFRESH-INTERVAL;VALUE=DURATION:PT1H
X-Robots-Tag:noindex
X-PUBLISHED-TTL:PT1H
BEGIN:VTIMEZONE
TZID:America/Chicago
BEGIN:DAYLIGHT
TZOFFSETFROM:-0600
TZOFFSETTO:-0500
TZNAME:CDT
DTSTART:20240310T080000
END:DAYLIGHT
BEGIN:STANDARD
TZOFFSETFROM:-0500
TZOFFSETTO:-0600
TZNAME:CST
DTSTART:20241103T070000
END:STANDARD
BEGIN:DAYLIGHT
TZOFFSETFROM:-0600
TZOFFSETTO:-0500
TZNAME:CDT
DTSTART:20250309T080000
END:DAYLIGHT
BEGIN:STANDARD
TZOFFSETFROM:-0500
TZOFFSETTO:-0600
TZNAME:CST
DTSTART:20251102T070000
END:STANDARD
BEGIN:DAYLIGHT
TZOFFSETFROM:-0600
TZOFFSETTO:-0500
TZNAME:CDT
DTSTART:20260308T080000
END:DAYLIGHT
BEGIN:STANDARD
TZOFFSETFROM:-0500
TZOFFSETTO:-0600
TZNAME:CST
DTSTART:20261101T070000
END:STANDARD
END:VTIMEZONE
BEGIN:VEVENT
DTSTART;VALUE=DATE:20250419
DTEND;VALUE=DATE:20250421
DTSTAMP:20260424T110900
CREATED:20250211T191408Z
LAST-MODIFIED:20250211T191408Z
UID:10003412-1745038800-1745125199@fayaltwp.org
SUMMARY:Town Hall Rented
DESCRIPTION:
URL:https://fayaltwp.org/event/town-hall-rented-111/
END:VEVENT
BEGIN:VEVENT
DTSTART;VALUE=DATE:20250420
DTEND;VALUE=DATE:20250422
DTSTAMP:20260424T110900
CREATED:20250409T145349Z
LAST-MODIFIED:20250409T145349Z
UID:10003441-1745125200-1745211599@fayaltwp.org
SUMMARY:Town Hall Rented
DESCRIPTION:
URL:https://fayaltwp.org/event/town-hall-rented-127/
END:VEVENT
BEGIN:VEVENT
DTSTART;TZID=America/Chicago:20250421T093000
DTEND;TZID=America/Chicago:20250421T103000
DTSTAMP:20260424T110900
CREATED:20240207T174449Z
LAST-MODIFIED:20260317T185548Z
UID:10001518-1745227800-1745231400@fayaltwp.org
SUMMARY:Aerobics
DESCRIPTION:
URL:https://fayaltwp.org/event/aerobics/2025-04-21/
END:VEVENT
BEGIN:VEVENT
DTSTART;TZID=America/Chicago:20250423T093000
DTEND;TZID=America/Chicago:20250423T103000
DTSTAMP:20260424T110900
CREATED:20240207T174449Z
LAST-MODIFIED:20260317T185548Z
UID:10001519-1745400600-1745404200@fayaltwp.org
SUMMARY:Aerobics
DESCRIPTION:
URL:https://fayaltwp.org/event/aerobics/2025-04-23/
END:VEVENT
BEGIN:VEVENT
DTSTART;VALUE=DATE:20250425
DTEND;VALUE=DATE:20250427
DTSTAMP:20260424T110900
CREATED:20250114T215808Z
LAST-MODIFIED:20250114T215838Z
UID:10003260-1745557200-1745643599@fayaltwp.org
SUMMARY:Town Hall Rented
DESCRIPTION:
URL:https://fayaltwp.org/event/town-hall-rented-101/
END:VEVENT
BEGIN:VEVENT
DTSTART;TZID=America/Chicago:20250425T093000
DTEND;TZID=America/Chicago:20250425T103000
DTSTAMP:20260424T110900
CREATED:20240207T174449Z
LAST-MODIFIED:20260317T185548Z
UID:10001520-1745573400-1745577000@fayaltwp.org
SUMMARY:Aerobics
DESCRIPTION:
URL:https://fayaltwp.org/event/aerobics/2025-04-25/
END:VEVENT
BEGIN:VEVENT
DTSTART;TZID=America/Chicago:20250426T080000
DTEND;TZID=America/Chicago:20250426T170000
DTSTAMP:20260424T110900
CREATED:20250114T215745Z
LAST-MODIFIED:20250114T215745Z
UID:10003259-1745654400-1745686800@fayaltwp.org
SUMMARY:Men's Swap Meet
DESCRIPTION:
URL:https://fayaltwp.org/event/mens-swap-meet-2/
END:VEVENT
END:VCALENDAR