BEGIN:VCALENDAR
VERSION:2.0
PRODID:-//Fayal Twp - ECPv6.15.17.1//NONSGML v1.0//EN
CALSCALE:GREGORIAN
METHOD:PUBLISH
X-WR-CALNAME:Fayal Twp
X-ORIGINAL-URL:https://fayaltwp.org
X-WR-CALDESC:Events for Fayal Twp
REFRESH-INTERVAL;VALUE=DURATION:PT1H
X-Robots-Tag:noindex
X-PUBLISHED-TTL:PT1H
BEGIN:VTIMEZONE
TZID:America/Chicago
BEGIN:DAYLIGHT
TZOFFSETFROM:-0600
TZOFFSETTO:-0500
TZNAME:CDT
DTSTART:20240310T080000
END:DAYLIGHT
BEGIN:STANDARD
TZOFFSETFROM:-0500
TZOFFSETTO:-0600
TZNAME:CST
DTSTART:20241103T070000
END:STANDARD
BEGIN:DAYLIGHT
TZOFFSETFROM:-0600
TZOFFSETTO:-0500
TZNAME:CDT
DTSTART:20250309T080000
END:DAYLIGHT
BEGIN:STANDARD
TZOFFSETFROM:-0500
TZOFFSETTO:-0600
TZNAME:CST
DTSTART:20251102T070000
END:STANDARD
BEGIN:DAYLIGHT
TZOFFSETFROM:-0600
TZOFFSETTO:-0500
TZNAME:CDT
DTSTART:20260308T080000
END:DAYLIGHT
BEGIN:STANDARD
TZOFFSETFROM:-0500
TZOFFSETTO:-0600
TZNAME:CST
DTSTART:20261101T070000
END:STANDARD
END:VTIMEZONE
BEGIN:VEVENT
DTSTART;VALUE=DATE:20250405
DTEND;VALUE=DATE:20250407
DTSTAMP:20260424T092828
CREATED:20250211T191242Z
LAST-MODIFIED:20250211T191242Z
UID:10003408-1743829200-1743915599@fayaltwp.org
SUMMARY:Town Hall Rented
DESCRIPTION:
URL:https://fayaltwp.org/event/town-hall-rented-107/
END:VEVENT
BEGIN:VEVENT
DTSTART;VALUE=DATE:20250406
DTEND;VALUE=DATE:20250408
DTSTAMP:20260424T092828
CREATED:20250211T191301Z
LAST-MODIFIED:20250211T191301Z
UID:10003409-1743915600-1744001999@fayaltwp.org
SUMMARY:Town Hall Rented
DESCRIPTION:
URL:https://fayaltwp.org/event/town-hall-rented-108/
END:VEVENT
BEGIN:VEVENT
DTSTART;TZID=America/Chicago:20250407T093000
DTEND;TZID=America/Chicago:20250407T103000
DTSTAMP:20260424T092828
CREATED:20240207T174449Z
LAST-MODIFIED:20260317T185548Z
UID:10001512-1744018200-1744021800@fayaltwp.org
SUMMARY:Aerobics
DESCRIPTION:
URL:https://fayaltwp.org/event/aerobics/2025-04-07/
END:VEVENT
BEGIN:VEVENT
DTSTART;TZID=America/Chicago:20250408T070000
DTEND;TZID=America/Chicago:20250408T200000
DTSTAMP:20260424T092828
CREATED:20250114T215918Z
LAST-MODIFIED:20250114T215918Z
UID:10003261-1744095600-1744142400@fayaltwp.org
SUMMARY:Rock Ridge School District Special Election
DESCRIPTION:
URL:https://fayaltwp.org/event/rock-ridge-school-district-special-election/
END:VEVENT
BEGIN:VEVENT
DTSTART;TZID=America/Chicago:20250408T180000
DTEND;TZID=America/Chicago:20250408T190000
DTSTAMP:20260424T092828
CREATED:20240213T194019Z
LAST-MODIFIED:20240718T171231Z
UID:10002354-1744135200-1744138800@fayaltwp.org
SUMMARY:Public Utility Meetings
DESCRIPTION:Meeting lengths may vary
URL:https://fayaltwp.org/event/public-utility-meetings-2-2/2025-04-08/
END:VEVENT
BEGIN:VEVENT
DTSTART;TZID=America/Chicago:20250409T093000
DTEND;TZID=America/Chicago:20250409T103000
DTSTAMP:20260424T092828
CREATED:20240207T174449Z
LAST-MODIFIED:20260317T185548Z
UID:10001513-1744191000-1744194600@fayaltwp.org
SUMMARY:Aerobics
DESCRIPTION:
URL:https://fayaltwp.org/event/aerobics/2025-04-09/
END:VEVENT
BEGIN:VEVENT
DTSTART;TZID=America/Chicago:20250409T180000
DTEND;TZID=America/Chicago:20250409T193000
DTSTAMP:20260424T092828
CREATED:20250318T164142Z
LAST-MODIFIED:20250318T164142Z
UID:10003425-1744221600-1744227000@fayaltwp.org
SUMMARY:Public Utilities Meeting
DESCRIPTION:
URL:https://fayaltwp.org/event/public-utilities-meeting/
END:VEVENT
BEGIN:VEVENT
DTSTART;TZID=America/Chicago:20250411T093000
DTEND;TZID=America/Chicago:20250411T103000
DTSTAMP:20260424T092828
CREATED:20240207T174449Z
LAST-MODIFIED:20260317T185548Z
UID:10001514-1744363800-1744367400@fayaltwp.org
SUMMARY:Aerobics
DESCRIPTION:
URL:https://fayaltwp.org/event/aerobics/2025-04-11/
END:VEVENT
BEGIN:VEVENT
DTSTART;VALUE=DATE:20250412
DTEND;VALUE=DATE:20250414
DTSTAMP:20260424T092828
CREATED:20250211T191327Z
LAST-MODIFIED:20250211T191327Z
UID:10003410-1744434000-1744520399@fayaltwp.org
SUMMARY:Town Hall Rented
DESCRIPTION:
URL:https://fayaltwp.org/event/town-hall-rented-109/
END:VEVENT
END:VCALENDAR