BEGIN:VCALENDAR
VERSION:2.0
PRODID:-//Fayal Twp - ECPv6.15.17.1//NONSGML v1.0//EN
CALSCALE:GREGORIAN
METHOD:PUBLISH
X-ORIGINAL-URL:https://fayaltwp.org
X-WR-CALDESC:Events for Fayal Twp
REFRESH-INTERVAL;VALUE=DURATION:PT1H
X-Robots-Tag:noindex
X-PUBLISHED-TTL:PT1H
BEGIN:VTIMEZONE
TZID:America/Chicago
BEGIN:DAYLIGHT
TZOFFSETFROM:-0600
TZOFFSETTO:-0500
TZNAME:CDT
DTSTART:20240310T080000
END:DAYLIGHT
BEGIN:STANDARD
TZOFFSETFROM:-0500
TZOFFSETTO:-0600
TZNAME:CST
DTSTART:20241103T070000
END:STANDARD
BEGIN:DAYLIGHT
TZOFFSETFROM:-0600
TZOFFSETTO:-0500
TZNAME:CDT
DTSTART:20250309T080000
END:DAYLIGHT
BEGIN:STANDARD
TZOFFSETFROM:-0500
TZOFFSETTO:-0600
TZNAME:CST
DTSTART:20251102T070000
END:STANDARD
BEGIN:DAYLIGHT
TZOFFSETFROM:-0600
TZOFFSETTO:-0500
TZNAME:CDT
DTSTART:20260308T080000
END:DAYLIGHT
BEGIN:STANDARD
TZOFFSETFROM:-0500
TZOFFSETTO:-0600
TZNAME:CST
DTSTART:20261101T070000
END:STANDARD
END:VTIMEZONE
BEGIN:VEVENT
DTSTART;VALUE=DATE:20250327
DTEND;VALUE=DATE:20250331
DTSTAMP:20260424T110902
CREATED:20250114T201247Z
LAST-MODIFIED:20250114T201247Z
UID:10003122-1743051600-1743310799@fayaltwp.org
SUMMARY:Town Hall Rented
DESCRIPTION:
URL:https://fayaltwp.org/event/town-hall-rented-100/
END:VEVENT
BEGIN:VEVENT
DTSTART;VALUE=DATE:20250330
DTEND;VALUE=DATE:20250401
DTSTAMP:20260424T110902
CREATED:20250211T191026Z
LAST-MODIFIED:20250211T191026Z
UID:10003406-1743310800-1743397199@fayaltwp.org
SUMMARY:Town Hall Rented
DESCRIPTION:
URL:https://fayaltwp.org/event/town-hall-rented-105/
END:VEVENT
BEGIN:VEVENT
DTSTART;TZID=America/Chicago:20250331T093000
DTEND;TZID=America/Chicago:20250331T103000
DTSTAMP:20260424T110902
CREATED:20240207T174449Z
LAST-MODIFIED:20260317T185548Z
UID:10001509-1743413400-1743417000@fayaltwp.org
SUMMARY:Aerobics
DESCRIPTION:
URL:https://fayaltwp.org/event/aerobics/2025-03-31/
END:VEVENT
BEGIN:VEVENT
DTSTART;TZID=America/Chicago:20250401T190000
DTEND;TZID=America/Chicago:20250401T203000
DTSTAMP:20260424T110902
CREATED:20240213T194504Z
LAST-MODIFIED:20250318T164658Z
UID:10002402-1743534000-1743539400@fayaltwp.org
SUMMARY:Town Board Meeting
DESCRIPTION:Meeting lengths may vary
URL:https://fayaltwp.org/event/town-board-meeting-3/2025-04-01/
END:VEVENT
BEGIN:VEVENT
DTSTART;TZID=America/Chicago:20250402T093000
DTEND;TZID=America/Chicago:20250402T103000
DTSTAMP:20260424T110902
CREATED:20240207T174449Z
LAST-MODIFIED:20260317T185548Z
UID:10001510-1743586200-1743589800@fayaltwp.org
SUMMARY:Aerobics
DESCRIPTION:
URL:https://fayaltwp.org/event/aerobics/2025-04-02/
END:VEVENT
BEGIN:VEVENT
DTSTART;TZID=America/Chicago:20250404T093000
DTEND;TZID=America/Chicago:20250404T103000
DTSTAMP:20260424T110902
CREATED:20240207T174449Z
LAST-MODIFIED:20260317T185548Z
UID:10001511-1743759000-1743762600@fayaltwp.org
SUMMARY:Aerobics
DESCRIPTION:
URL:https://fayaltwp.org/event/aerobics/2025-04-04/
END:VEVENT
BEGIN:VEVENT
DTSTART;VALUE=DATE:20250405
DTEND;VALUE=DATE:20250407
DTSTAMP:20260424T110902
CREATED:20250211T191242Z
LAST-MODIFIED:20250211T191242Z
UID:10003408-1743829200-1743915599@fayaltwp.org
SUMMARY:Town Hall Rented
DESCRIPTION:
URL:https://fayaltwp.org/event/town-hall-rented-107/
END:VEVENT
END:VCALENDAR