BEGIN:VCALENDAR
VERSION:2.0
PRODID:-//Fayal Twp - ECPv6.15.17.1//NONSGML v1.0//EN
CALSCALE:GREGORIAN
METHOD:PUBLISH
X-ORIGINAL-URL:https://fayaltwp.org
X-WR-CALDESC:Events for Fayal Twp
REFRESH-INTERVAL;VALUE=DURATION:PT1H
X-Robots-Tag:noindex
X-PUBLISHED-TTL:PT1H
BEGIN:VTIMEZONE
TZID:America/Chicago
BEGIN:DAYLIGHT
TZOFFSETFROM:-0600
TZOFFSETTO:-0500
TZNAME:CDT
DTSTART:20240310T080000
END:DAYLIGHT
BEGIN:STANDARD
TZOFFSETFROM:-0500
TZOFFSETTO:-0600
TZNAME:CST
DTSTART:20241103T070000
END:STANDARD
BEGIN:DAYLIGHT
TZOFFSETFROM:-0600
TZOFFSETTO:-0500
TZNAME:CDT
DTSTART:20250309T080000
END:DAYLIGHT
BEGIN:STANDARD
TZOFFSETFROM:-0500
TZOFFSETTO:-0600
TZNAME:CST
DTSTART:20251102T070000
END:STANDARD
BEGIN:DAYLIGHT
TZOFFSETFROM:-0600
TZOFFSETTO:-0500
TZNAME:CDT
DTSTART:20260308T080000
END:DAYLIGHT
BEGIN:STANDARD
TZOFFSETFROM:-0500
TZOFFSETTO:-0600
TZNAME:CST
DTSTART:20261101T070000
END:STANDARD
END:VTIMEZONE
BEGIN:VEVENT
DTSTART;VALUE=DATE:20250315
DTEND;VALUE=DATE:20250317
DTSTAMP:20260424T110803
CREATED:20241125T160313Z
LAST-MODIFIED:20241125T160313Z
UID:10002839-1742014800-1742101199@fayaltwp.org
SUMMARY:Town Hall Rented
DESCRIPTION:
URL:https://fayaltwp.org/event/town-hall-rented-95/
END:VEVENT
BEGIN:VEVENT
DTSTART;TZID=America/Chicago:20250316T173000
DTEND;TZID=America/Chicago:20250316T173000
DTSTAMP:20260424T110803
CREATED:20190917T020012Z
LAST-MODIFIED:20260317T185333Z
UID:10004115-1742146200-1742146200@fayaltwp.org
SUMMARY:Planning Commission Meeting
DESCRIPTION:Meeting lengths may vary
URL:https://fayaltwp.org/event/fayal-planning-commission/2025-03-16/
END:VEVENT
BEGIN:VEVENT
DTSTART;TZID=America/Chicago:20250317T093000
DTEND;TZID=America/Chicago:20250317T103000
DTSTAMP:20260424T110803
CREATED:20240207T174449Z
LAST-MODIFIED:20260317T185548Z
UID:10001503-1742203800-1742207400@fayaltwp.org
SUMMARY:Aerobics
DESCRIPTION:
URL:https://fayaltwp.org/event/aerobics/2025-03-17/
END:VEVENT
BEGIN:VEVENT
DTSTART;TZID=America/Chicago:20250318T190000
DTEND;TZID=America/Chicago:20250318T203000
DTSTAMP:20260424T110803
CREATED:20230727T144614Z
LAST-MODIFIED:20250115T222032Z
UID:10001314-1742324400-1742329800@fayaltwp.org
SUMMARY:Town Board Meeting
DESCRIPTION:Meeting lengths may vary
URL:https://fayaltwp.org/event/town-board-meeting-2/2025-03-18/
END:VEVENT
BEGIN:VEVENT
DTSTART;TZID=America/Chicago:20250319T093000
DTEND;TZID=America/Chicago:20250319T103000
DTSTAMP:20260424T110803
CREATED:20240207T174449Z
LAST-MODIFIED:20260317T185548Z
UID:10001504-1742376600-1742380200@fayaltwp.org
SUMMARY:Aerobics
DESCRIPTION:
URL:https://fayaltwp.org/event/aerobics/2025-03-19/
END:VEVENT
BEGIN:VEVENT
DTSTART;TZID=America/Chicago:20250320T130000
DTEND;TZID=America/Chicago:20250320T150000
DTSTAMP:20260424T110803
CREATED:20250114T170317Z
LAST-MODIFIED:20250114T170338Z
UID:10003069-1742475600-1742482800@fayaltwp.org
SUMMARY:Eveleth-Fayal Garden Club
DESCRIPTION:Meeting lengths may vary
URL:https://fayaltwp.org/event/eveleth-fayal-garden-club-2/
END:VEVENT
BEGIN:VEVENT
DTSTART;TZID=America/Chicago:20250321T093000
DTEND;TZID=America/Chicago:20250321T103000
DTSTAMP:20260424T110803
CREATED:20240207T174449Z
LAST-MODIFIED:20260317T185548Z
UID:10001505-1742549400-1742553000@fayaltwp.org
SUMMARY:Aerobics
DESCRIPTION:
URL:https://fayaltwp.org/event/aerobics/2025-03-21/
END:VEVENT
BEGIN:VEVENT
DTSTART;VALUE=DATE:20250322
DTEND;VALUE=DATE:20250324
DTSTAMP:20260424T110803
CREATED:20250211T191050Z
LAST-MODIFIED:20250211T191050Z
UID:10003407-1742619600-1742705999@fayaltwp.org
SUMMARY:Town Hall Rented
DESCRIPTION:
URL:https://fayaltwp.org/event/town-hall-rented-106/
END:VEVENT
END:VCALENDAR