BEGIN:VCALENDAR
VERSION:2.0
PRODID:-//Fayal Twp - ECPv6.15.17.1//NONSGML v1.0//EN
CALSCALE:GREGORIAN
METHOD:PUBLISH
X-ORIGINAL-URL:https://fayaltwp.org
X-WR-CALDESC:Events for Fayal Twp
REFRESH-INTERVAL;VALUE=DURATION:PT1H
X-Robots-Tag:noindex
X-PUBLISHED-TTL:PT1H
BEGIN:VTIMEZONE
TZID:America/Chicago
BEGIN:DAYLIGHT
TZOFFSETFROM:-0600
TZOFFSETTO:-0500
TZNAME:CDT
DTSTART:20240310T080000
END:DAYLIGHT
BEGIN:STANDARD
TZOFFSETFROM:-0500
TZOFFSETTO:-0600
TZNAME:CST
DTSTART:20241103T070000
END:STANDARD
BEGIN:DAYLIGHT
TZOFFSETFROM:-0600
TZOFFSETTO:-0500
TZNAME:CDT
DTSTART:20250309T080000
END:DAYLIGHT
BEGIN:STANDARD
TZOFFSETFROM:-0500
TZOFFSETTO:-0600
TZNAME:CST
DTSTART:20251102T070000
END:STANDARD
BEGIN:DAYLIGHT
TZOFFSETFROM:-0600
TZOFFSETTO:-0500
TZNAME:CDT
DTSTART:20260308T080000
END:DAYLIGHT
BEGIN:STANDARD
TZOFFSETFROM:-0500
TZOFFSETTO:-0600
TZNAME:CST
DTSTART:20261101T070000
END:STANDARD
END:VTIMEZONE
BEGIN:VEVENT
DTSTART;VALUE=DATE:20250308
DTEND;VALUE=DATE:20250310
DTSTAMP:20260424T110901
CREATED:20250114T201159Z
LAST-MODIFIED:20250114T201159Z
UID:10003121-1741410000-1741496399@fayaltwp.org
SUMMARY:Town Hall Rented
DESCRIPTION:
URL:https://fayaltwp.org/event/town-hall-rented-99/
END:VEVENT
BEGIN:VEVENT
DTSTART;TZID=America/Chicago:20250310T093000
DTEND;TZID=America/Chicago:20250310T103000
DTSTAMP:20260424T110901
CREATED:20240207T174449Z
LAST-MODIFIED:20260317T185548Z
UID:10001500-1741599000-1741602600@fayaltwp.org
SUMMARY:Aerobics
DESCRIPTION:
URL:https://fayaltwp.org/event/aerobics/2025-03-10/
END:VEVENT
BEGIN:VEVENT
DTSTART;TZID=America/Chicago:20250310T120000
DTEND;TZID=America/Chicago:20250310T140000
DTSTAMP:20260424T110901
CREATED:20240207T175425Z
LAST-MODIFIED:20240718T172046Z
UID:10002130-1741608000-1741615200@fayaltwp.org
SUMMARY:Sororiety Meeting
DESCRIPTION:
URL:https://fayaltwp.org/event/sororiety-meeting/2025-03-10/
END:VEVENT
BEGIN:VEVENT
DTSTART;TZID=America/Chicago:20250311T180000
DTEND;TZID=America/Chicago:20250311T190000
DTSTAMP:20260424T110901
CREATED:20240213T194019Z
LAST-MODIFIED:20240718T171231Z
UID:10002353-1741716000-1741719600@fayaltwp.org
SUMMARY:Public Utility Meetings
DESCRIPTION:Meeting lengths may vary
URL:https://fayaltwp.org/event/public-utility-meetings-2-2/2025-03-11/
END:VEVENT
BEGIN:VEVENT
DTSTART;TZID=America/Chicago:20250311T190000
DTEND;TZID=America/Chicago:20250311T210000
DTSTAMP:20260424T110901
CREATED:20241125T160356Z
LAST-MODIFIED:20241125T160356Z
UID:10002840-1741719600-1741726800@fayaltwp.org
SUMMARY:Town of Fayal Annual Meeting
DESCRIPTION:
URL:https://fayaltwp.org/event/town-of-fayal-annual-meeting-2/
END:VEVENT
BEGIN:VEVENT
DTSTART;TZID=America/Chicago:20250312T093000
DTEND;TZID=America/Chicago:20250312T103000
DTSTAMP:20260424T110901
CREATED:20240207T174449Z
LAST-MODIFIED:20260317T185548Z
UID:10001501-1741771800-1741775400@fayaltwp.org
SUMMARY:Aerobics
DESCRIPTION:
URL:https://fayaltwp.org/event/aerobics/2025-03-12/
END:VEVENT
BEGIN:VEVENT
DTSTART;TZID=America/Chicago:20250314T093000
DTEND;TZID=America/Chicago:20250314T103000
DTSTAMP:20260424T110901
CREATED:20240207T174449Z
LAST-MODIFIED:20260317T185548Z
UID:10001502-1741944600-1741948200@fayaltwp.org
SUMMARY:Aerobics
DESCRIPTION:
URL:https://fayaltwp.org/event/aerobics/2025-03-14/
END:VEVENT
BEGIN:VEVENT
DTSTART;VALUE=DATE:20250315
DTEND;VALUE=DATE:20250317
DTSTAMP:20260424T110901
CREATED:20241125T160313Z
LAST-MODIFIED:20241125T160313Z
UID:10002839-1742014800-1742101199@fayaltwp.org
SUMMARY:Town Hall Rented
DESCRIPTION:
URL:https://fayaltwp.org/event/town-hall-rented-95/
END:VEVENT
END:VCALENDAR