BEGIN:VCALENDAR
VERSION:2.0
PRODID:-//Fayal Twp - ECPv6.15.17.1//NONSGML v1.0//EN
CALSCALE:GREGORIAN
METHOD:PUBLISH
X-ORIGINAL-URL:https://fayaltwp.org
X-WR-CALDESC:Events for Fayal Twp
REFRESH-INTERVAL;VALUE=DURATION:PT1H
X-Robots-Tag:noindex
X-PUBLISHED-TTL:PT1H
BEGIN:VTIMEZONE
TZID:America/Chicago
BEGIN:DAYLIGHT
TZOFFSETFROM:-0600
TZOFFSETTO:-0500
TZNAME:CDT
DTSTART:20240310T080000
END:DAYLIGHT
BEGIN:STANDARD
TZOFFSETFROM:-0500
TZOFFSETTO:-0600
TZNAME:CST
DTSTART:20241103T070000
END:STANDARD
BEGIN:DAYLIGHT
TZOFFSETFROM:-0600
TZOFFSETTO:-0500
TZNAME:CDT
DTSTART:20250309T080000
END:DAYLIGHT
BEGIN:STANDARD
TZOFFSETFROM:-0500
TZOFFSETTO:-0600
TZNAME:CST
DTSTART:20251102T070000
END:STANDARD
BEGIN:DAYLIGHT
TZOFFSETFROM:-0600
TZOFFSETTO:-0500
TZNAME:CDT
DTSTART:20260308T080000
END:DAYLIGHT
BEGIN:STANDARD
TZOFFSETFROM:-0500
TZOFFSETTO:-0600
TZNAME:CST
DTSTART:20261101T070000
END:STANDARD
END:VTIMEZONE
BEGIN:VEVENT
DTSTART;VALUE=DATE:20250104
DTEND;VALUE=DATE:20250106
DTSTAMP:20260424T160136
CREATED:20241023T180107Z
LAST-MODIFIED:20241023T180107Z
UID:10002832-1735966800-1736053199@fayaltwp.org
SUMMARY:Town Hall Rented
DESCRIPTION:
URL:https://fayaltwp.org/event/town-hall-rented-87/
END:VEVENT
BEGIN:VEVENT
DTSTART;TZID=America/Chicago:20250106T093000
DTEND;TZID=America/Chicago:20250106T103000
DTSTAMP:20260424T160136
CREATED:20240207T174449Z
LAST-MODIFIED:20260317T185548Z
UID:10001473-1736155800-1736159400@fayaltwp.org
SUMMARY:Aerobics
DESCRIPTION:
URL:https://fayaltwp.org/event/aerobics/2025-01-06/
END:VEVENT
BEGIN:VEVENT
DTSTART;TZID=America/Chicago:20250106T161500
DTEND;TZID=America/Chicago:20250106T183000
DTSTAMP:20260424T160136
CREATED:20190917T014302Z
LAST-MODIFIED:20220309T145134Z
UID:10001132-1736180100-1736188200@fayaltwp.org
SUMMARY:T.O.P.S Meeting
DESCRIPTION:Meeting length times may vary
URL:https://fayaltwp.org/event/t-o-p-s-meeting/2025-01-06/
END:VEVENT
BEGIN:VEVENT
DTSTART;TZID=America/Chicago:20250107T190000
DTEND;TZID=America/Chicago:20250107T203000
DTSTAMP:20260424T160136
CREATED:20240213T194504Z
LAST-MODIFIED:20250318T164658Z
UID:10001195-1736276400-1736281800@fayaltwp.org
SUMMARY:Town Board Meeting
DESCRIPTION:Meeting lengths may vary
URL:https://fayaltwp.org/event/town-board-meeting-3/2025-01-07/
END:VEVENT
BEGIN:VEVENT
DTSTART;TZID=America/Chicago:20250108T093000
DTEND;TZID=America/Chicago:20250108T103000
DTSTAMP:20260424T160136
CREATED:20240207T174449Z
LAST-MODIFIED:20260317T185548Z
UID:10001474-1736328600-1736332200@fayaltwp.org
SUMMARY:Aerobics
DESCRIPTION:
URL:https://fayaltwp.org/event/aerobics/2025-01-08/
END:VEVENT
BEGIN:VEVENT
DTSTART;TZID=America/Chicago:20250110T093000
DTEND;TZID=America/Chicago:20250110T103000
DTSTAMP:20260424T160136
CREATED:20240207T174449Z
LAST-MODIFIED:20260317T185548Z
UID:10001475-1736501400-1736505000@fayaltwp.org
SUMMARY:Aerobics
DESCRIPTION:
URL:https://fayaltwp.org/event/aerobics/2025-01-10/
END:VEVENT
BEGIN:VEVENT
DTSTART;VALUE=DATE:20250111
DTEND;VALUE=DATE:20250113
DTSTAMP:20260424T160136
CREATED:20241023T180127Z
LAST-MODIFIED:20241023T180134Z
UID:10002833-1736571600-1736657999@fayaltwp.org
SUMMARY:Town Hall Rented
DESCRIPTION:
URL:https://fayaltwp.org/event/town-hall-rented-88/
END:VEVENT
END:VCALENDAR