BEGIN:VCALENDAR
VERSION:2.0
PRODID:-//Fayal Twp - ECPv6.15.17.1//NONSGML v1.0//EN
CALSCALE:GREGORIAN
METHOD:PUBLISH
X-ORIGINAL-URL:https://fayaltwp.org
X-WR-CALDESC:Events for Fayal Twp
REFRESH-INTERVAL;VALUE=DURATION:PT1H
X-Robots-Tag:noindex
X-PUBLISHED-TTL:PT1H
BEGIN:VTIMEZONE
TZID:America/Chicago
BEGIN:DAYLIGHT
TZOFFSETFROM:-0600
TZOFFSETTO:-0500
TZNAME:CDT
DTSTART:20230312T080000
END:DAYLIGHT
BEGIN:STANDARD
TZOFFSETFROM:-0500
TZOFFSETTO:-0600
TZNAME:CST
DTSTART:20231105T070000
END:STANDARD
BEGIN:DAYLIGHT
TZOFFSETFROM:-0600
TZOFFSETTO:-0500
TZNAME:CDT
DTSTART:20240310T080000
END:DAYLIGHT
BEGIN:STANDARD
TZOFFSETFROM:-0500
TZOFFSETTO:-0600
TZNAME:CST
DTSTART:20241103T070000
END:STANDARD
BEGIN:DAYLIGHT
TZOFFSETFROM:-0600
TZOFFSETTO:-0500
TZNAME:CDT
DTSTART:20250309T080000
END:DAYLIGHT
BEGIN:STANDARD
TZOFFSETFROM:-0500
TZOFFSETTO:-0600
TZNAME:CST
DTSTART:20251102T070000
END:STANDARD
END:VTIMEZONE
BEGIN:VEVENT
DTSTART;VALUE=DATE:20241005
DTEND;VALUE=DATE:20241007
DTSTAMP:20260424T190600
CREATED:20240821T174601Z
LAST-MODIFIED:20240821T174601Z
UID:10002810-1728104400-1728190799@fayaltwp.org
SUMMARY:Town Hall Rented
DESCRIPTION:
URL:https://fayaltwp.org/event/town-hall-rented-72/
END:VEVENT
BEGIN:VEVENT
DTSTART;TZID=America/Chicago:20241007T093000
DTEND;TZID=America/Chicago:20241007T103000
DTSTAMP:20260424T190600
CREATED:20240207T174449Z
LAST-MODIFIED:20260317T185548Z
UID:10001434-1728293400-1728297000@fayaltwp.org
SUMMARY:Aerobics
DESCRIPTION:
URL:https://fayaltwp.org/event/aerobics/2024-10-07/
END:VEVENT
BEGIN:VEVENT
DTSTART;TZID=America/Chicago:20241007T161500
DTEND;TZID=America/Chicago:20241007T183000
DTSTAMP:20260424T190600
CREATED:20190917T014302Z
LAST-MODIFIED:20220309T145134Z
UID:10001119-1728317700-1728325800@fayaltwp.org
SUMMARY:T.O.P.S Meeting
DESCRIPTION:Meeting length times may vary
URL:https://fayaltwp.org/event/t-o-p-s-meeting/2024-10-07/
END:VEVENT
BEGIN:VEVENT
DTSTART;TZID=America/Chicago:20241008T180000
DTEND;TZID=America/Chicago:20241008T190000
DTSTAMP:20260424T190600
CREATED:20240213T194019Z
LAST-MODIFIED:20240718T171231Z
UID:10002348-1728410400-1728414000@fayaltwp.org
SUMMARY:Public Utility Meetings
DESCRIPTION:Meeting lengths may vary
URL:https://fayaltwp.org/event/public-utility-meetings-2-2/2024-10-08/
END:VEVENT
BEGIN:VEVENT
DTSTART;TZID=America/Chicago:20241009T093000
DTEND;TZID=America/Chicago:20241009T103000
DTSTAMP:20260424T190600
CREATED:20240207T174449Z
LAST-MODIFIED:20260317T185548Z
UID:10001435-1728466200-1728469800@fayaltwp.org
SUMMARY:Aerobics
DESCRIPTION:
URL:https://fayaltwp.org/event/aerobics/2024-10-09/
END:VEVENT
BEGIN:VEVENT
DTSTART;TZID=America/Chicago:20241011T093000
DTEND;TZID=America/Chicago:20241011T103000
DTSTAMP:20260424T190600
CREATED:20240207T174449Z
LAST-MODIFIED:20260317T185548Z
UID:10001436-1728639000-1728642600@fayaltwp.org
SUMMARY:Aerobics
DESCRIPTION:
URL:https://fayaltwp.org/event/aerobics/2024-10-11/
END:VEVENT
BEGIN:VEVENT
DTSTART;VALUE=DATE:20241012
DTEND;VALUE=DATE:20241014
DTSTAMP:20260424T190600
CREATED:20240916T185355Z
LAST-MODIFIED:20240916T185355Z
UID:10002816-1728709200-1728795599@fayaltwp.org
SUMMARY:Town Hall Rented
DESCRIPTION:
URL:https://fayaltwp.org/event/town-hall-rented-78/
END:VEVENT
END:VCALENDAR