BEGIN:VCALENDAR
VERSION:2.0
PRODID:-//Fayal Twp - ECPv6.15.17.1//NONSGML v1.0//EN
CALSCALE:GREGORIAN
METHOD:PUBLISH
X-ORIGINAL-URL:https://fayaltwp.org
X-WR-CALDESC:Events for Fayal Twp
REFRESH-INTERVAL;VALUE=DURATION:PT1H
X-Robots-Tag:noindex
X-PUBLISHED-TTL:PT1H
BEGIN:VTIMEZONE
TZID:America/Chicago
BEGIN:DAYLIGHT
TZOFFSETFROM:-0600
TZOFFSETTO:-0500
TZNAME:CDT
DTSTART:20230312T080000
END:DAYLIGHT
BEGIN:STANDARD
TZOFFSETFROM:-0500
TZOFFSETTO:-0600
TZNAME:CST
DTSTART:20231105T070000
END:STANDARD
BEGIN:DAYLIGHT
TZOFFSETFROM:-0600
TZOFFSETTO:-0500
TZNAME:CDT
DTSTART:20240310T080000
END:DAYLIGHT
BEGIN:STANDARD
TZOFFSETFROM:-0500
TZOFFSETTO:-0600
TZNAME:CST
DTSTART:20241103T070000
END:STANDARD
BEGIN:DAYLIGHT
TZOFFSETFROM:-0600
TZOFFSETTO:-0500
TZNAME:CDT
DTSTART:20250309T080000
END:DAYLIGHT
BEGIN:STANDARD
TZOFFSETFROM:-0500
TZOFFSETTO:-0600
TZNAME:CST
DTSTART:20251102T070000
END:STANDARD
END:VTIMEZONE
BEGIN:VEVENT
DTSTART;VALUE=DATE:20240928
DTEND;VALUE=DATE:20240930
DTSTAMP:20260424T190747
CREATED:20240409T172440Z
LAST-MODIFIED:20240409T172440Z
UID:10002723-1727499600-1727585999@fayaltwp.org
SUMMARY:Town Hall Rented
DESCRIPTION:
URL:https://fayaltwp.org/event/town-hall-rented-59/
END:VEVENT
BEGIN:VEVENT
DTSTART;TZID=America/Chicago:20240930T093000
DTEND;TZID=America/Chicago:20240930T103000
DTSTAMP:20260424T190747
CREATED:20240207T174449Z
LAST-MODIFIED:20260317T185548Z
UID:10001431-1727688600-1727692200@fayaltwp.org
SUMMARY:Aerobics
DESCRIPTION:
URL:https://fayaltwp.org/event/aerobics/2024-09-30/
END:VEVENT
BEGIN:VEVENT
DTSTART;TZID=America/Chicago:20240930T161500
DTEND;TZID=America/Chicago:20240930T183000
DTSTAMP:20260424T190747
CREATED:20190917T014302Z
LAST-MODIFIED:20220309T145134Z
UID:10001118-1727712900-1727721000@fayaltwp.org
SUMMARY:T.O.P.S Meeting
DESCRIPTION:Meeting length times may vary
URL:https://fayaltwp.org/event/t-o-p-s-meeting/2024-09-30/
END:VEVENT
BEGIN:VEVENT
DTSTART;TZID=America/Chicago:20241001T190000
DTEND;TZID=America/Chicago:20241001T203000
DTSTAMP:20260424T190747
CREATED:20240213T194504Z
LAST-MODIFIED:20250318T164658Z
UID:10001192-1727809200-1727814600@fayaltwp.org
SUMMARY:Town Board Meeting
DESCRIPTION:Meeting lengths may vary
URL:https://fayaltwp.org/event/town-board-meeting-3/2024-10-01/
END:VEVENT
BEGIN:VEVENT
DTSTART;TZID=America/Chicago:20241002T093000
DTEND;TZID=America/Chicago:20241002T103000
DTSTAMP:20260424T190747
CREATED:20240207T174449Z
LAST-MODIFIED:20260317T185548Z
UID:10001432-1727861400-1727865000@fayaltwp.org
SUMMARY:Aerobics
DESCRIPTION:
URL:https://fayaltwp.org/event/aerobics/2024-10-02/
END:VEVENT
BEGIN:VEVENT
DTSTART;TZID=America/Chicago:20241004T093000
DTEND;TZID=America/Chicago:20241004T103000
DTSTAMP:20260424T190747
CREATED:20240207T174449Z
LAST-MODIFIED:20260317T185548Z
UID:10001433-1728034200-1728037800@fayaltwp.org
SUMMARY:Aerobics
DESCRIPTION:
URL:https://fayaltwp.org/event/aerobics/2024-10-04/
END:VEVENT
BEGIN:VEVENT
DTSTART;TZID=America/Chicago:20241004T103000
DTEND;TZID=America/Chicago:20241004T200000
DTSTAMP:20260424T190747
CREATED:20240916T185329Z
LAST-MODIFIED:20240916T185329Z
UID:10002815-1728037800-1728072000@fayaltwp.org
SUMMARY:Town Hall Rented
DESCRIPTION:
URL:https://fayaltwp.org/event/town-hall-rented-77/
END:VEVENT
BEGIN:VEVENT
DTSTART;VALUE=DATE:20241005
DTEND;VALUE=DATE:20241007
DTSTAMP:20260424T190747
CREATED:20240821T174601Z
LAST-MODIFIED:20240821T174601Z
UID:10002810-1728104400-1728190799@fayaltwp.org
SUMMARY:Town Hall Rented
DESCRIPTION:
URL:https://fayaltwp.org/event/town-hall-rented-72/
END:VEVENT
END:VCALENDAR