BEGIN:VCALENDAR
VERSION:2.0
PRODID:-//Fayal Twp - ECPv6.15.17.1//NONSGML v1.0//EN
CALSCALE:GREGORIAN
METHOD:PUBLISH
X-ORIGINAL-URL:https://fayaltwp.org
X-WR-CALDESC:Events for Fayal Twp
REFRESH-INTERVAL;VALUE=DURATION:PT1H
X-Robots-Tag:noindex
X-PUBLISHED-TTL:PT1H
BEGIN:VTIMEZONE
TZID:America/Chicago
BEGIN:DAYLIGHT
TZOFFSETFROM:-0600
TZOFFSETTO:-0500
TZNAME:CDT
DTSTART:20230312T080000
END:DAYLIGHT
BEGIN:STANDARD
TZOFFSETFROM:-0500
TZOFFSETTO:-0600
TZNAME:CST
DTSTART:20231105T070000
END:STANDARD
BEGIN:DAYLIGHT
TZOFFSETFROM:-0600
TZOFFSETTO:-0500
TZNAME:CDT
DTSTART:20240310T080000
END:DAYLIGHT
BEGIN:STANDARD
TZOFFSETFROM:-0500
TZOFFSETTO:-0600
TZNAME:CST
DTSTART:20241103T070000
END:STANDARD
BEGIN:DAYLIGHT
TZOFFSETFROM:-0600
TZOFFSETTO:-0500
TZNAME:CDT
DTSTART:20250309T080000
END:DAYLIGHT
BEGIN:STANDARD
TZOFFSETFROM:-0500
TZOFFSETTO:-0600
TZNAME:CST
DTSTART:20251102T070000
END:STANDARD
END:VTIMEZONE
BEGIN:VEVENT
DTSTART;VALUE=DATE:20240922
DTEND;VALUE=DATE:20240924
DTSTAMP:20260424T222106
CREATED:20240821T174221Z
LAST-MODIFIED:20240821T174221Z
UID:10002807-1726981200-1727067599@fayaltwp.org
SUMMARY:Town Hall Rented
DESCRIPTION:
URL:https://fayaltwp.org/event/town-hall-rented-71/
END:VEVENT
BEGIN:VEVENT
DTSTART;TZID=America/Chicago:20240923T093000
DTEND;TZID=America/Chicago:20240923T103000
DTSTAMP:20260424T222106
CREATED:20240207T174449Z
LAST-MODIFIED:20260317T185548Z
UID:10001428-1727083800-1727087400@fayaltwp.org
SUMMARY:Aerobics
DESCRIPTION:
URL:https://fayaltwp.org/event/aerobics/2024-09-23/
END:VEVENT
BEGIN:VEVENT
DTSTART;TZID=America/Chicago:20240923T161500
DTEND;TZID=America/Chicago:20240923T183000
DTSTAMP:20260424T222106
CREATED:20190917T014302Z
LAST-MODIFIED:20220309T145134Z
UID:10001117-1727108100-1727116200@fayaltwp.org
SUMMARY:T.O.P.S Meeting
DESCRIPTION:Meeting length times may vary
URL:https://fayaltwp.org/event/t-o-p-s-meeting/2024-09-23/
END:VEVENT
BEGIN:VEVENT
DTSTART;TZID=America/Chicago:20240925T093000
DTEND;TZID=America/Chicago:20240925T103000
DTSTAMP:20260424T222106
CREATED:20240207T174449Z
LAST-MODIFIED:20260317T185548Z
UID:10001429-1727256600-1727260200@fayaltwp.org
SUMMARY:Aerobics
DESCRIPTION:
URL:https://fayaltwp.org/event/aerobics/2024-09-25/
END:VEVENT
BEGIN:VEVENT
DTSTART;TZID=America/Chicago:20240927T093000
DTEND;TZID=America/Chicago:20240927T103000
DTSTAMP:20260424T222106
CREATED:20240207T174449Z
LAST-MODIFIED:20260317T185548Z
UID:10001430-1727429400-1727433000@fayaltwp.org
SUMMARY:Aerobics
DESCRIPTION:
URL:https://fayaltwp.org/event/aerobics/2024-09-27/
END:VEVENT
BEGIN:VEVENT
DTSTART;VALUE=DATE:20240928
DTEND;VALUE=DATE:20240930
DTSTAMP:20260424T222106
CREATED:20240409T172440Z
LAST-MODIFIED:20240409T172440Z
UID:10002723-1727499600-1727585999@fayaltwp.org
SUMMARY:Town Hall Rented
DESCRIPTION:
URL:https://fayaltwp.org/event/town-hall-rented-59/
END:VEVENT
END:VCALENDAR