BEGIN:VCALENDAR
VERSION:2.0
PRODID:-//Fayal Twp - ECPv6.15.17.1//NONSGML v1.0//EN
CALSCALE:GREGORIAN
METHOD:PUBLISH
X-WR-CALNAME:Fayal Twp
X-ORIGINAL-URL:https://fayaltwp.org
X-WR-CALDESC:Events for Fayal Twp
REFRESH-INTERVAL;VALUE=DURATION:PT1H
X-Robots-Tag:noindex
X-PUBLISHED-TTL:PT1H
BEGIN:VTIMEZONE
TZID:America/Chicago
BEGIN:DAYLIGHT
TZOFFSETFROM:-0600
TZOFFSETTO:-0500
TZNAME:CDT
DTSTART:20230312T080000
END:DAYLIGHT
BEGIN:STANDARD
TZOFFSETFROM:-0500
TZOFFSETTO:-0600
TZNAME:CST
DTSTART:20231105T070000
END:STANDARD
BEGIN:DAYLIGHT
TZOFFSETFROM:-0600
TZOFFSETTO:-0500
TZNAME:CDT
DTSTART:20240310T080000
END:DAYLIGHT
BEGIN:STANDARD
TZOFFSETFROM:-0500
TZOFFSETTO:-0600
TZNAME:CST
DTSTART:20241103T070000
END:STANDARD
BEGIN:DAYLIGHT
TZOFFSETFROM:-0600
TZOFFSETTO:-0500
TZNAME:CDT
DTSTART:20250309T080000
END:DAYLIGHT
BEGIN:STANDARD
TZOFFSETFROM:-0500
TZOFFSETTO:-0600
TZNAME:CST
DTSTART:20251102T070000
END:STANDARD
END:VTIMEZONE
BEGIN:VEVENT
DTSTART;TZID=America/Chicago:20240909T093000
DTEND;TZID=America/Chicago:20240909T103000
DTSTAMP:20260424T204538
CREATED:20240207T174449Z
LAST-MODIFIED:20260317T185548Z
UID:10001422-1725874200-1725877800@fayaltwp.org
SUMMARY:Aerobics
DESCRIPTION:
URL:https://fayaltwp.org/event/aerobics/2024-09-09/
END:VEVENT
BEGIN:VEVENT
DTSTART;TZID=America/Chicago:20240909T120000
DTEND;TZID=America/Chicago:20240909T140000
DTSTAMP:20260424T204538
CREATED:20240207T175425Z
LAST-MODIFIED:20240718T172046Z
UID:10002124-1725883200-1725890400@fayaltwp.org
SUMMARY:Sororiety Meeting
DESCRIPTION:
URL:https://fayaltwp.org/event/sororiety-meeting/2024-09-09/
END:VEVENT
BEGIN:VEVENT
DTSTART;TZID=America/Chicago:20240909T161500
DTEND;TZID=America/Chicago:20240909T183000
DTSTAMP:20260424T204538
CREATED:20190917T014302Z
LAST-MODIFIED:20220309T145134Z
UID:10001115-1725898500-1725906600@fayaltwp.org
SUMMARY:T.O.P.S Meeting
DESCRIPTION:Meeting length times may vary
URL:https://fayaltwp.org/event/t-o-p-s-meeting/2024-09-09/
END:VEVENT
BEGIN:VEVENT
DTSTART;TZID=America/Chicago:20240910T180000
DTEND;TZID=America/Chicago:20240910T190000
DTSTAMP:20260424T204538
CREATED:20240213T194019Z
LAST-MODIFIED:20240718T171231Z
UID:10002347-1725991200-1725994800@fayaltwp.org
SUMMARY:Public Utility Meetings
DESCRIPTION:Meeting lengths may vary
URL:https://fayaltwp.org/event/public-utility-meetings-2-2/2024-09-10/
END:VEVENT
BEGIN:VEVENT
DTSTART;TZID=America/Chicago:20240911T093000
DTEND;TZID=America/Chicago:20240911T103000
DTSTAMP:20260424T204538
CREATED:20240207T174449Z
LAST-MODIFIED:20260317T185548Z
UID:10001423-1726047000-1726050600@fayaltwp.org
SUMMARY:Aerobics
DESCRIPTION:
URL:https://fayaltwp.org/event/aerobics/2024-09-11/
END:VEVENT
BEGIN:VEVENT
DTSTART;TZID=America/Chicago:20240913T093000
DTEND;TZID=America/Chicago:20240913T103000
DTSTAMP:20260424T204538
CREATED:20240207T174449Z
LAST-MODIFIED:20260317T185548Z
UID:10001424-1726219800-1726223400@fayaltwp.org
SUMMARY:Aerobics
DESCRIPTION:
URL:https://fayaltwp.org/event/aerobics/2024-09-13/
END:VEVENT
BEGIN:VEVENT
DTSTART;TZID=America/Chicago:20240914T080000
DTEND;TZID=America/Chicago:20240915T170000
DTSTAMP:20260424T204538
CREATED:20240821T174310Z
LAST-MODIFIED:20240821T174310Z
UID:10002808-1726300800-1726419600@fayaltwp.org
SUMMARY:Rummage Sale
DESCRIPTION:
URL:https://fayaltwp.org/event/rummage-sale-11/
END:VEVENT
END:VCALENDAR