BEGIN:VCALENDAR
VERSION:2.0
PRODID:-//Fayal Twp - ECPv6.15.17.1//NONSGML v1.0//EN
CALSCALE:GREGORIAN
METHOD:PUBLISH
X-ORIGINAL-URL:https://fayaltwp.org
X-WR-CALDESC:Events for Fayal Twp
REFRESH-INTERVAL;VALUE=DURATION:PT1H
X-Robots-Tag:noindex
X-PUBLISHED-TTL:PT1H
BEGIN:VTIMEZONE
TZID:America/Chicago
BEGIN:DAYLIGHT
TZOFFSETFROM:-0600
TZOFFSETTO:-0500
TZNAME:CDT
DTSTART:20230312T080000
END:DAYLIGHT
BEGIN:STANDARD
TZOFFSETFROM:-0500
TZOFFSETTO:-0600
TZNAME:CST
DTSTART:20231105T070000
END:STANDARD
BEGIN:DAYLIGHT
TZOFFSETFROM:-0600
TZOFFSETTO:-0500
TZNAME:CDT
DTSTART:20240310T080000
END:DAYLIGHT
BEGIN:STANDARD
TZOFFSETFROM:-0500
TZOFFSETTO:-0600
TZNAME:CST
DTSTART:20241103T070000
END:STANDARD
BEGIN:DAYLIGHT
TZOFFSETFROM:-0600
TZOFFSETTO:-0500
TZNAME:CDT
DTSTART:20250309T080000
END:DAYLIGHT
BEGIN:STANDARD
TZOFFSETFROM:-0500
TZOFFSETTO:-0600
TZNAME:CST
DTSTART:20251102T070000
END:STANDARD
END:VTIMEZONE
BEGIN:VEVENT
DTSTART;TZID=America/Chicago:20240823T080000
DTEND;TZID=America/Chicago:20240825T170000
DTSTAMP:20260424T222039
CREATED:20240821T173813Z
LAST-MODIFIED:20240821T173813Z
UID:10002803-1724400000-1724605200@fayaltwp.org
SUMMARY:Rummage Sale
DESCRIPTION:
URL:https://fayaltwp.org/event/rummage-sale-10/
END:VEVENT
BEGIN:VEVENT
DTSTART;TZID=America/Chicago:20240826T093000
DTEND;TZID=America/Chicago:20240826T103000
DTSTAMP:20260424T222039
CREATED:20240207T174449Z
LAST-MODIFIED:20260317T185548Z
UID:10001416-1724664600-1724668200@fayaltwp.org
SUMMARY:Aerobics
DESCRIPTION:
URL:https://fayaltwp.org/event/aerobics/2024-08-26/
END:VEVENT
BEGIN:VEVENT
DTSTART;TZID=America/Chicago:20240826T161500
DTEND;TZID=America/Chicago:20240826T183000
DTSTAMP:20260424T222039
CREATED:20190917T014302Z
LAST-MODIFIED:20220309T145134Z
UID:10001113-1724688900-1724697000@fayaltwp.org
SUMMARY:T.O.P.S Meeting
DESCRIPTION:Meeting length times may vary
URL:https://fayaltwp.org/event/t-o-p-s-meeting/2024-08-26/
END:VEVENT
BEGIN:VEVENT
DTSTART;TZID=America/Chicago:20240827T170000
DTEND;TZID=America/Chicago:20240827T210000
DTSTAMP:20260424T222039
CREATED:20240821T174019Z
LAST-MODIFIED:20240821T174019Z
UID:10002806-1724778000-1724792400@fayaltwp.org
SUMMARY:Town Hall Rented
DESCRIPTION:
URL:https://fayaltwp.org/event/town-hall-rented-70/
END:VEVENT
BEGIN:VEVENT
DTSTART;TZID=America/Chicago:20240828T093000
DTEND;TZID=America/Chicago:20240828T103000
DTSTAMP:20260424T222039
CREATED:20240207T174449Z
LAST-MODIFIED:20260317T185548Z
UID:10001417-1724837400-1724841000@fayaltwp.org
SUMMARY:Aerobics
DESCRIPTION:
URL:https://fayaltwp.org/event/aerobics/2024-08-28/
END:VEVENT
BEGIN:VEVENT
DTSTART;TZID=America/Chicago:20240830T093000
DTEND;TZID=America/Chicago:20240830T103000
DTSTAMP:20260424T222040
CREATED:20240207T174449Z
LAST-MODIFIED:20260317T185548Z
UID:10001418-1725010200-1725013800@fayaltwp.org
SUMMARY:Aerobics
DESCRIPTION:
URL:https://fayaltwp.org/event/aerobics/2024-08-30/
END:VEVENT
BEGIN:VEVENT
DTSTART;TZID=America/Chicago:20240830T103000
DTEND;TZID=America/Chicago:20240830T170000
DTSTAMP:20260424T222040
CREATED:20240821T173858Z
LAST-MODIFIED:20240821T173858Z
UID:10002805-1725013800-1725037200@fayaltwp.org
SUMMARY:Town Hall Rented
DESCRIPTION:
URL:https://fayaltwp.org/event/town-hall-rented-69/
END:VEVENT
END:VCALENDAR