BEGIN:VCALENDAR
VERSION:2.0
PRODID:-//Fayal Twp - ECPv6.15.17.1//NONSGML v1.0//EN
CALSCALE:GREGORIAN
METHOD:PUBLISH
X-WR-CALNAME:Fayal Twp
X-ORIGINAL-URL:https://fayaltwp.org
X-WR-CALDESC:Events for Fayal Twp
REFRESH-INTERVAL;VALUE=DURATION:PT1H
X-Robots-Tag:noindex
X-PUBLISHED-TTL:PT1H
BEGIN:VTIMEZONE
TZID:America/Chicago
BEGIN:DAYLIGHT
TZOFFSETFROM:-0600
TZOFFSETTO:-0500
TZNAME:CDT
DTSTART:20230312T080000
END:DAYLIGHT
BEGIN:STANDARD
TZOFFSETFROM:-0500
TZOFFSETTO:-0600
TZNAME:CST
DTSTART:20231105T070000
END:STANDARD
BEGIN:DAYLIGHT
TZOFFSETFROM:-0600
TZOFFSETTO:-0500
TZNAME:CDT
DTSTART:20240310T080000
END:DAYLIGHT
BEGIN:STANDARD
TZOFFSETFROM:-0500
TZOFFSETTO:-0600
TZNAME:CST
DTSTART:20241103T070000
END:STANDARD
BEGIN:DAYLIGHT
TZOFFSETFROM:-0600
TZOFFSETTO:-0500
TZNAME:CDT
DTSTART:20250309T080000
END:DAYLIGHT
BEGIN:STANDARD
TZOFFSETFROM:-0500
TZOFFSETTO:-0600
TZNAME:CST
DTSTART:20251102T070000
END:STANDARD
END:VTIMEZONE
BEGIN:VEVENT
DTSTART;VALUE=DATE:20240817
DTEND;VALUE=DATE:20240819
DTSTAMP:20260424T221712
CREATED:20240409T172325Z
LAST-MODIFIED:20240409T172325Z
UID:10002721-1723870800-1723957199@fayaltwp.org
SUMMARY:Town Hall Rented
DESCRIPTION:
URL:https://fayaltwp.org/event/town-hall-rented-58/
END:VEVENT
BEGIN:VEVENT
DTSTART;TZID=America/Chicago:20240819T093000
DTEND;TZID=America/Chicago:20240819T103000
DTSTAMP:20260424T221712
CREATED:20240207T174449Z
LAST-MODIFIED:20260317T185548Z
UID:10001413-1724059800-1724063400@fayaltwp.org
SUMMARY:Aerobics
DESCRIPTION:
URL:https://fayaltwp.org/event/aerobics/2024-08-19/
END:VEVENT
BEGIN:VEVENT
DTSTART;TZID=America/Chicago:20240819T161500
DTEND;TZID=America/Chicago:20240819T183000
DTSTAMP:20260424T221712
CREATED:20190917T014302Z
LAST-MODIFIED:20220309T145134Z
UID:10001112-1724084100-1724092200@fayaltwp.org
SUMMARY:T.O.P.S Meeting
DESCRIPTION:Meeting length times may vary
URL:https://fayaltwp.org/event/t-o-p-s-meeting/2024-08-19/
END:VEVENT
BEGIN:VEVENT
DTSTART;TZID=America/Chicago:20240820T190000
DTEND;TZID=America/Chicago:20240820T203000
DTSTAMP:20260424T221712
CREATED:20230727T144614Z
LAST-MODIFIED:20250115T222032Z
UID:10001255-1724180400-1724185800@fayaltwp.org
SUMMARY:Town Board Meeting
DESCRIPTION:Meeting lengths may vary
URL:https://fayaltwp.org/event/town-board-meeting-2/2024-08-20/
END:VEVENT
BEGIN:VEVENT
DTSTART;TZID=America/Chicago:20240821T093000
DTEND;TZID=America/Chicago:20240821T103000
DTSTAMP:20260424T221712
CREATED:20240207T174449Z
LAST-MODIFIED:20260317T185548Z
UID:10001414-1724232600-1724236200@fayaltwp.org
SUMMARY:Aerobics
DESCRIPTION:
URL:https://fayaltwp.org/event/aerobics/2024-08-21/
END:VEVENT
BEGIN:VEVENT
DTSTART;VALUE=DATE:20240822
DTEND;VALUE=DATE:20240824
DTSTAMP:20260424T221712
CREATED:20240821T173835Z
LAST-MODIFIED:20240821T173835Z
UID:10002804-1724302800-1724389199@fayaltwp.org
SUMMARY:Town Hall Rented
DESCRIPTION:
URL:https://fayaltwp.org/event/town-hall-rented-68/
END:VEVENT
BEGIN:VEVENT
DTSTART;TZID=America/Chicago:20240823T080000
DTEND;TZID=America/Chicago:20240825T170000
DTSTAMP:20260424T221712
CREATED:20240821T173813Z
LAST-MODIFIED:20240821T173813Z
UID:10002803-1724400000-1724605200@fayaltwp.org
SUMMARY:Rummage Sale
DESCRIPTION:
URL:https://fayaltwp.org/event/rummage-sale-10/
END:VEVENT
BEGIN:VEVENT
DTSTART;TZID=America/Chicago:20240823T093000
DTEND;TZID=America/Chicago:20240823T103000
DTSTAMP:20260424T221712
CREATED:20240207T174449Z
LAST-MODIFIED:20260317T185548Z
UID:10001415-1724405400-1724409000@fayaltwp.org
SUMMARY:Aerobics
DESCRIPTION:
URL:https://fayaltwp.org/event/aerobics/2024-08-23/
END:VEVENT
END:VCALENDAR