BEGIN:VCALENDAR
VERSION:2.0
PRODID:-//Fayal Twp - ECPv6.15.17.1//NONSGML v1.0//EN
CALSCALE:GREGORIAN
METHOD:PUBLISH
X-WR-CALNAME:Fayal Twp
X-ORIGINAL-URL:https://fayaltwp.org
X-WR-CALDESC:Events for Fayal Twp
REFRESH-INTERVAL;VALUE=DURATION:PT1H
X-Robots-Tag:noindex
X-PUBLISHED-TTL:PT1H
BEGIN:VTIMEZONE
TZID:America/Chicago
BEGIN:DAYLIGHT
TZOFFSETFROM:-0600
TZOFFSETTO:-0500
TZNAME:CDT
DTSTART:20230312T080000
END:DAYLIGHT
BEGIN:STANDARD
TZOFFSETFROM:-0500
TZOFFSETTO:-0600
TZNAME:CST
DTSTART:20231105T070000
END:STANDARD
BEGIN:DAYLIGHT
TZOFFSETFROM:-0600
TZOFFSETTO:-0500
TZNAME:CDT
DTSTART:20240310T080000
END:DAYLIGHT
BEGIN:STANDARD
TZOFFSETFROM:-0500
TZOFFSETTO:-0600
TZNAME:CST
DTSTART:20241103T070000
END:STANDARD
BEGIN:DAYLIGHT
TZOFFSETFROM:-0600
TZOFFSETTO:-0500
TZNAME:CDT
DTSTART:20250309T080000
END:DAYLIGHT
BEGIN:STANDARD
TZOFFSETFROM:-0500
TZOFFSETTO:-0600
TZNAME:CST
DTSTART:20251102T070000
END:STANDARD
END:VTIMEZONE
BEGIN:VEVENT
DTSTART;VALUE=DATE:20240803
DTEND;VALUE=DATE:20240805
DTSTAMP:20260424T222235
CREATED:20240606T151420Z
LAST-MODIFIED:20240606T151420Z
UID:10002739-1722661200-1722747599@fayaltwp.org
SUMMARY:Town Hall Rented
DESCRIPTION:
URL:https://fayaltwp.org/event/town-hall-rented-65/
END:VEVENT
BEGIN:VEVENT
DTSTART;TZID=America/Chicago:20240804T120000
DTEND;TZID=America/Chicago:20240804T170000
DTSTAMP:20260424T222235
CREATED:20240423T163320Z
LAST-MODIFIED:20240423T163320Z
UID:10002734-1722772800-1722790800@fayaltwp.org
SUMMARY:Town Hall Rented
DESCRIPTION:
URL:https://fayaltwp.org/event/town-hall-rented-62/
END:VEVENT
BEGIN:VEVENT
DTSTART;TZID=America/Chicago:20240805T093000
DTEND;TZID=America/Chicago:20240805T103000
DTSTAMP:20260424T222235
CREATED:20240207T174449Z
LAST-MODIFIED:20260317T185548Z
UID:10001407-1722850200-1722853800@fayaltwp.org
SUMMARY:Aerobics
DESCRIPTION:
URL:https://fayaltwp.org/event/aerobics/2024-08-05/
END:VEVENT
BEGIN:VEVENT
DTSTART;TZID=America/Chicago:20240805T161500
DTEND;TZID=America/Chicago:20240805T183000
DTSTAMP:20260424T222235
CREATED:20190917T014302Z
LAST-MODIFIED:20220309T145134Z
UID:10001110-1722874500-1722882600@fayaltwp.org
SUMMARY:T.O.P.S Meeting
DESCRIPTION:Meeting length times may vary
URL:https://fayaltwp.org/event/t-o-p-s-meeting/2024-08-05/
END:VEVENT
BEGIN:VEVENT
DTSTART;TZID=America/Chicago:20240806T170000
DTEND;TZID=America/Chicago:20240806T190000
DTSTAMP:20260424T222235
CREATED:20240718T162459Z
LAST-MODIFIED:20240718T162459Z
UID:10002747-1722963600-1722970800@fayaltwp.org
SUMMARY:National Night Out
DESCRIPTION:
URL:https://fayaltwp.org/event/national-night-out-2/
END:VEVENT
BEGIN:VEVENT
DTSTART;TZID=America/Chicago:20240807T093000
DTEND;TZID=America/Chicago:20240807T103000
DTSTAMP:20260424T222235
CREATED:20240207T174449Z
LAST-MODIFIED:20260317T185548Z
UID:10001408-1723023000-1723026600@fayaltwp.org
SUMMARY:Aerobics
DESCRIPTION:
URL:https://fayaltwp.org/event/aerobics/2024-08-07/
END:VEVENT
BEGIN:VEVENT
DTSTART;TZID=America/Chicago:20240809T093000
DTEND;TZID=America/Chicago:20240809T103000
DTSTAMP:20260424T222235
CREATED:20240207T174449Z
LAST-MODIFIED:20260317T185548Z
UID:10001409-1723195800-1723199400@fayaltwp.org
SUMMARY:Aerobics
DESCRIPTION:
URL:https://fayaltwp.org/event/aerobics/2024-08-09/
END:VEVENT
BEGIN:VEVENT
DTSTART;VALUE=DATE:20240810
DTEND;VALUE=DATE:20240812
DTSTAMP:20260424T222235
CREATED:20240426T162904Z
LAST-MODIFIED:20240426T162904Z
UID:10002735-1723266000-1723352399@fayaltwp.org
SUMMARY:Town Hall Rented
DESCRIPTION:
URL:https://fayaltwp.org/event/town-hall-rented-63/
END:VEVENT
END:VCALENDAR