BEGIN:VCALENDAR
VERSION:2.0
PRODID:-//Fayal Twp - ECPv6.15.17.1//NONSGML v1.0//EN
CALSCALE:GREGORIAN
METHOD:PUBLISH
X-ORIGINAL-URL:https://fayaltwp.org
X-WR-CALDESC:Events for Fayal Twp
REFRESH-INTERVAL;VALUE=DURATION:PT1H
X-Robots-Tag:noindex
X-PUBLISHED-TTL:PT1H
BEGIN:VTIMEZONE
TZID:America/Chicago
BEGIN:DAYLIGHT
TZOFFSETFROM:-0600
TZOFFSETTO:-0500
TZNAME:CDT
DTSTART:20230312T080000
END:DAYLIGHT
BEGIN:STANDARD
TZOFFSETFROM:-0500
TZOFFSETTO:-0600
TZNAME:CST
DTSTART:20231105T070000
END:STANDARD
BEGIN:DAYLIGHT
TZOFFSETFROM:-0600
TZOFFSETTO:-0500
TZNAME:CDT
DTSTART:20240310T080000
END:DAYLIGHT
BEGIN:STANDARD
TZOFFSETFROM:-0500
TZOFFSETTO:-0600
TZNAME:CST
DTSTART:20241103T070000
END:STANDARD
BEGIN:DAYLIGHT
TZOFFSETFROM:-0600
TZOFFSETTO:-0500
TZNAME:CDT
DTSTART:20250309T080000
END:DAYLIGHT
BEGIN:STANDARD
TZOFFSETFROM:-0500
TZOFFSETTO:-0600
TZNAME:CST
DTSTART:20251102T070000
END:STANDARD
END:VTIMEZONE
BEGIN:VEVENT
DTSTART;VALUE=DATE:20240427
DTEND;VALUE=DATE:20240429
DTSTAMP:20260425T064740
CREATED:20240408T190138Z
LAST-MODIFIED:20240408T190138Z
UID:10002455-1714194000-1714280399@fayaltwp.org
SUMMARY:Town Hall Rented
DESCRIPTION:
URL:https://fayaltwp.org/event/town-hall-rented-48/
END:VEVENT
BEGIN:VEVENT
DTSTART;VALUE=DATE:20240428
DTEND;VALUE=DATE:20240430
DTSTAMP:20260425T064740
CREATED:20240408T190158Z
LAST-MODIFIED:20240409T140953Z
UID:10002456-1714280400-1714366799@fayaltwp.org
SUMMARY:Town Hall Rented
DESCRIPTION:
URL:https://fayaltwp.org/event/town-hall-rented-49/
END:VEVENT
BEGIN:VEVENT
DTSTART;TZID=America/Chicago:20240429T093000
DTEND;TZID=America/Chicago:20240429T103000
DTSTAMP:20260425T064740
CREATED:20240207T174449Z
LAST-MODIFIED:20260317T185548Z
UID:10001365-1714383000-1714386600@fayaltwp.org
SUMMARY:Aerobics
DESCRIPTION:
URL:https://fayaltwp.org/event/aerobics/2024-04-29/
END:VEVENT
BEGIN:VEVENT
DTSTART;TZID=America/Chicago:20240429T161500
DTEND;TZID=America/Chicago:20240429T183000
DTSTAMP:20260425T064740
CREATED:20190917T014302Z
LAST-MODIFIED:20220309T145134Z
UID:10001096-1714407300-1714415400@fayaltwp.org
SUMMARY:T.O.P.S Meeting
DESCRIPTION:Meeting length times may vary
URL:https://fayaltwp.org/event/t-o-p-s-meeting/2024-04-29/
END:VEVENT
BEGIN:VEVENT
DTSTART;TZID=America/Chicago:20240501T093000
DTEND;TZID=America/Chicago:20240501T103000
DTSTAMP:20260425T064740
CREATED:20240207T174449Z
LAST-MODIFIED:20260317T185548Z
UID:10001366-1714555800-1714559400@fayaltwp.org
SUMMARY:Aerobics
DESCRIPTION:
URL:https://fayaltwp.org/event/aerobics/2024-05-01/
END:VEVENT
BEGIN:VEVENT
DTSTART;VALUE=DATE:20240503
DTEND;VALUE=DATE:20240506
DTSTAMP:20260425T064740
CREATED:20240409T160354Z
LAST-MODIFIED:20240409T160354Z
UID:10002486-1714712400-1714885199@fayaltwp.org
SUMMARY:Rummage Sale
DESCRIPTION:
URL:https://fayaltwp.org/event/rummage-sale-8/
END:VEVENT
END:VCALENDAR