BEGIN:VCALENDAR
VERSION:2.0
PRODID:-//Fayal Twp - ECPv6.15.17.1//NONSGML v1.0//EN
CALSCALE:GREGORIAN
METHOD:PUBLISH
X-ORIGINAL-URL:https://fayaltwp.org
X-WR-CALDESC:Events for Fayal Twp
REFRESH-INTERVAL;VALUE=DURATION:PT1H
X-Robots-Tag:noindex
X-PUBLISHED-TTL:PT1H
BEGIN:VTIMEZONE
TZID:America/Chicago
BEGIN:DAYLIGHT
TZOFFSETFROM:-0600
TZOFFSETTO:-0500
TZNAME:CDT
DTSTART:20230312T080000
END:DAYLIGHT
BEGIN:STANDARD
TZOFFSETFROM:-0500
TZOFFSETTO:-0600
TZNAME:CST
DTSTART:20231105T070000
END:STANDARD
BEGIN:DAYLIGHT
TZOFFSETFROM:-0600
TZOFFSETTO:-0500
TZNAME:CDT
DTSTART:20240310T080000
END:DAYLIGHT
BEGIN:STANDARD
TZOFFSETFROM:-0500
TZOFFSETTO:-0600
TZNAME:CST
DTSTART:20241103T070000
END:STANDARD
BEGIN:DAYLIGHT
TZOFFSETFROM:-0600
TZOFFSETTO:-0500
TZNAME:CDT
DTSTART:20250309T080000
END:DAYLIGHT
BEGIN:STANDARD
TZOFFSETFROM:-0500
TZOFFSETTO:-0600
TZNAME:CST
DTSTART:20251102T070000
END:STANDARD
END:VTIMEZONE
BEGIN:VEVENT
DTSTART;VALUE=DATE:20240421
DTEND;VALUE=DATE:20240423
DTSTAMP:20260425T065150
CREATED:20240408T190052Z
LAST-MODIFIED:20240409T141047Z
UID:10002453-1713675600-1713761999@fayaltwp.org
SUMMARY:Town Hall Rented
DESCRIPTION:
URL:https://fayaltwp.org/event/town-hall-rented-46/
END:VEVENT
BEGIN:VEVENT
DTSTART;TZID=America/Chicago:20240422T093000
DTEND;TZID=America/Chicago:20240422T103000
DTSTAMP:20260425T065150
CREATED:20240207T174449Z
LAST-MODIFIED:20260317T185548Z
UID:10001362-1713778200-1713781800@fayaltwp.org
SUMMARY:Aerobics
DESCRIPTION:
URL:https://fayaltwp.org/event/aerobics/2024-04-22/
END:VEVENT
BEGIN:VEVENT
DTSTART;TZID=America/Chicago:20240422T161500
DTEND;TZID=America/Chicago:20240422T183000
DTSTAMP:20260425T065150
CREATED:20190917T014302Z
LAST-MODIFIED:20220309T145134Z
UID:10001095-1713802500-1713810600@fayaltwp.org
SUMMARY:T.O.P.S Meeting
DESCRIPTION:Meeting length times may vary
URL:https://fayaltwp.org/event/t-o-p-s-meeting/2024-04-22/
END:VEVENT
BEGIN:VEVENT
DTSTART;TZID=America/Chicago:20240424T093000
DTEND;TZID=America/Chicago:20240424T103000
DTSTAMP:20260425T065150
CREATED:20240207T174449Z
LAST-MODIFIED:20260317T185548Z
UID:10001363-1713951000-1713954600@fayaltwp.org
SUMMARY:Aerobics
DESCRIPTION:
URL:https://fayaltwp.org/event/aerobics/2024-04-24/
END:VEVENT
BEGIN:VEVENT
DTSTART;TZID=America/Chicago:20240424T130000
DTEND;TZID=America/Chicago:20240424T140000
DTSTAMP:20260425T065150
CREATED:20240409T140603Z
LAST-MODIFIED:20240409T140603Z
UID:10002459-1713963600-1713967200@fayaltwp.org
SUMMARY:Board of Appeal and Equalization
DESCRIPTION:
URL:https://fayaltwp.org/event/board-of-appeal-and-equalization/
END:VEVENT
BEGIN:VEVENT
DTSTART;VALUE=DATE:20240426
DTEND;VALUE=DATE:20240428
DTSTAMP:20260425T065150
CREATED:20240408T190116Z
LAST-MODIFIED:20240409T141019Z
UID:10002454-1714107600-1714193999@fayaltwp.org
SUMMARY:Town Hall Rented
DESCRIPTION:
URL:https://fayaltwp.org/event/town-hall-rented-47/
END:VEVENT
BEGIN:VEVENT
DTSTART;VALUE=DATE:20240427
DTEND;VALUE=DATE:20240429
DTSTAMP:20260425T065150
CREATED:20240408T190138Z
LAST-MODIFIED:20240408T190138Z
UID:10002455-1714194000-1714280399@fayaltwp.org
SUMMARY:Town Hall Rented
DESCRIPTION:
URL:https://fayaltwp.org/event/town-hall-rented-48/
END:VEVENT
END:VCALENDAR