BEGIN:VCALENDAR
VERSION:2.0
PRODID:-//Fayal Twp - ECPv6.15.17.1//NONSGML v1.0//EN
CALSCALE:GREGORIAN
METHOD:PUBLISH
X-ORIGINAL-URL:https://fayaltwp.org
X-WR-CALDESC:Events for Fayal Twp
REFRESH-INTERVAL;VALUE=DURATION:PT1H
X-Robots-Tag:noindex
X-PUBLISHED-TTL:PT1H
BEGIN:VTIMEZONE
TZID:America/Chicago
BEGIN:DAYLIGHT
TZOFFSETFROM:-0600
TZOFFSETTO:-0500
TZNAME:CDT
DTSTART:20230312T080000
END:DAYLIGHT
BEGIN:STANDARD
TZOFFSETFROM:-0500
TZOFFSETTO:-0600
TZNAME:CST
DTSTART:20231105T070000
END:STANDARD
BEGIN:DAYLIGHT
TZOFFSETFROM:-0600
TZOFFSETTO:-0500
TZNAME:CDT
DTSTART:20240310T080000
END:DAYLIGHT
BEGIN:STANDARD
TZOFFSETFROM:-0500
TZOFFSETTO:-0600
TZNAME:CST
DTSTART:20241103T070000
END:STANDARD
BEGIN:DAYLIGHT
TZOFFSETFROM:-0600
TZOFFSETTO:-0500
TZNAME:CDT
DTSTART:20250309T080000
END:DAYLIGHT
BEGIN:STANDARD
TZOFFSETFROM:-0500
TZOFFSETTO:-0600
TZNAME:CST
DTSTART:20251102T070000
END:STANDARD
END:VTIMEZONE
BEGIN:VEVENT
DTSTART;VALUE=DATE:20240413
DTEND;VALUE=DATE:20240415
DTSTAMP:20260425T065154
CREATED:20240408T185850Z
LAST-MODIFIED:20240408T185850Z
UID:10002449-1712984400-1713070799@fayaltwp.org
SUMMARY:Town Hall Rented
DESCRIPTION:
URL:https://fayaltwp.org/event/town-hall-rented-43/
END:VEVENT
BEGIN:VEVENT
DTSTART;VALUE=DATE:20240414
DTEND;VALUE=DATE:20240416
DTSTAMP:20260425T065154
CREATED:20240408T185918Z
LAST-MODIFIED:20240408T185918Z
UID:10002450-1713070800-1713157199@fayaltwp.org
SUMMARY:Town Hall Rented
DESCRIPTION:
URL:https://fayaltwp.org/event/town-hall-rented-44/
END:VEVENT
BEGIN:VEVENT
DTSTART;TZID=America/Chicago:20240415T093000
DTEND;TZID=America/Chicago:20240415T103000
DTSTAMP:20260425T065154
CREATED:20240207T174449Z
LAST-MODIFIED:20260317T185548Z
UID:10001359-1713173400-1713177000@fayaltwp.org
SUMMARY:Aerobics
DESCRIPTION:
URL:https://fayaltwp.org/event/aerobics/2024-04-15/
END:VEVENT
BEGIN:VEVENT
DTSTART;TZID=America/Chicago:20240415T161500
DTEND;TZID=America/Chicago:20240415T183000
DTSTAMP:20260425T065154
CREATED:20190917T014302Z
LAST-MODIFIED:20220309T145134Z
UID:10001094-1713197700-1713205800@fayaltwp.org
SUMMARY:T.O.P.S Meeting
DESCRIPTION:Meeting length times may vary
URL:https://fayaltwp.org/event/t-o-p-s-meeting/2024-04-15/
END:VEVENT
BEGIN:VEVENT
DTSTART;TZID=America/Chicago:20240416T173000
DTEND;TZID=America/Chicago:20240416T173000
DTSTAMP:20260425T065154
CREATED:20190917T020012Z
LAST-MODIFIED:20260317T185333Z
UID:10004105-1713288600-1713288600@fayaltwp.org
SUMMARY:Planning Commission Meeting
DESCRIPTION:Meeting lengths may vary
URL:https://fayaltwp.org/event/fayal-planning-commission/2024-04-16/
END:VEVENT
BEGIN:VEVENT
DTSTART;TZID=America/Chicago:20240416T180000
DTEND;TZID=America/Chicago:20240416T190000
DTSTAMP:20260425T065154
CREATED:20240409T140514Z
LAST-MODIFIED:20240409T140514Z
UID:10002458-1713290400-1713294000@fayaltwp.org
SUMMARY:Public Utilities Commission Special Meeting- Differding Point
DESCRIPTION:
URL:https://fayaltwp.org/event/public-utilities-commission-special-meeting-differding-point/
END:VEVENT
BEGIN:VEVENT
DTSTART;TZID=America/Chicago:20240416T190000
DTEND;TZID=America/Chicago:20240416T203000
DTSTAMP:20260425T065154
CREATED:20230727T144614Z
LAST-MODIFIED:20250115T222032Z
UID:10001251-1713294000-1713299400@fayaltwp.org
SUMMARY:Town Board Meeting
DESCRIPTION:Meeting lengths may vary
URL:https://fayaltwp.org/event/town-board-meeting-2/2024-04-16/
END:VEVENT
BEGIN:VEVENT
DTSTART;TZID=America/Chicago:20240417T093000
DTEND;TZID=America/Chicago:20240417T103000
DTSTAMP:20260425T065154
CREATED:20240207T174449Z
LAST-MODIFIED:20260317T185548Z
UID:10001360-1713346200-1713349800@fayaltwp.org
SUMMARY:Aerobics
DESCRIPTION:
URL:https://fayaltwp.org/event/aerobics/2024-04-17/
END:VEVENT
BEGIN:VEVENT
DTSTART;TZID=America/Chicago:20240418T183000
DTEND;TZID=America/Chicago:20240418T200000
DTSTAMP:20260425T065154
CREATED:20190917T020221Z
LAST-MODIFIED:20250110T151531Z
UID:10003061-1713465000-1713470400@fayaltwp.org
SUMMARY:Eveleth-Fayal Garden Club
DESCRIPTION:Meeting lengths may vary
URL:https://fayaltwp.org/event/eveleth-fayal-garden-club/2024-04-18/
END:VEVENT
BEGIN:VEVENT
DTSTART;VALUE=DATE:20240419
DTEND;VALUE=DATE:20240421
DTSTAMP:20260425T065154
CREATED:20240408T185949Z
LAST-MODIFIED:20240408T185949Z
UID:10002451-1713502800-1713589199@fayaltwp.org
SUMMARY:Town Hall Rented
DESCRIPTION:
URL:https://fayaltwp.org/event/town-hall-rented-45/
END:VEVENT
BEGIN:VEVENT
DTSTART;TZID=America/Chicago:20240419T093000
DTEND;TZID=America/Chicago:20240419T103000
DTSTAMP:20260425T065154
CREATED:20240207T174449Z
LAST-MODIFIED:20260317T185548Z
UID:10001361-1713519000-1713522600@fayaltwp.org
SUMMARY:Aerobics
DESCRIPTION:
URL:https://fayaltwp.org/event/aerobics/2024-04-19/
END:VEVENT
BEGIN:VEVENT
DTSTART;TZID=America/Chicago:20240420T080000
DTEND;TZID=America/Chicago:20240420T140000
DTSTAMP:20260425T065154
CREATED:20240408T190029Z
LAST-MODIFIED:20240409T140332Z
UID:10002452-1713600000-1713621600@fayaltwp.org
SUMMARY:Sportsman's Swap Meet
DESCRIPTION:
URL:https://fayaltwp.org/event/swap-meet/
END:VEVENT
END:VCALENDAR