BEGIN:VCALENDAR
VERSION:2.0
PRODID:-//Fayal Twp - ECPv6.15.17.1//NONSGML v1.0//EN
CALSCALE:GREGORIAN
METHOD:PUBLISH
X-ORIGINAL-URL:https://fayaltwp.org
X-WR-CALDESC:Events for Fayal Twp
REFRESH-INTERVAL;VALUE=DURATION:PT1H
X-Robots-Tag:noindex
X-PUBLISHED-TTL:PT1H
BEGIN:VTIMEZONE
TZID:America/Chicago
BEGIN:DAYLIGHT
TZOFFSETFROM:-0600
TZOFFSETTO:-0500
TZNAME:CDT
DTSTART:20230312T080000
END:DAYLIGHT
BEGIN:STANDARD
TZOFFSETFROM:-0500
TZOFFSETTO:-0600
TZNAME:CST
DTSTART:20231105T070000
END:STANDARD
BEGIN:DAYLIGHT
TZOFFSETFROM:-0600
TZOFFSETTO:-0500
TZNAME:CDT
DTSTART:20240310T080000
END:DAYLIGHT
BEGIN:STANDARD
TZOFFSETFROM:-0500
TZOFFSETTO:-0600
TZNAME:CST
DTSTART:20241103T070000
END:STANDARD
BEGIN:DAYLIGHT
TZOFFSETFROM:-0600
TZOFFSETTO:-0500
TZNAME:CDT
DTSTART:20250309T080000
END:DAYLIGHT
BEGIN:STANDARD
TZOFFSETFROM:-0500
TZOFFSETTO:-0600
TZNAME:CST
DTSTART:20251102T070000
END:STANDARD
END:VTIMEZONE
BEGIN:VEVENT
DTSTART;TZID=America/Chicago:20240408T093000
DTEND;TZID=America/Chicago:20240408T103000
DTSTAMP:20260425T064745
CREATED:20240207T174449Z
LAST-MODIFIED:20260317T185548Z
UID:10001356-1712568600-1712572200@fayaltwp.org
SUMMARY:Aerobics
DESCRIPTION:
URL:https://fayaltwp.org/event/aerobics/2024-04-08/
END:VEVENT
BEGIN:VEVENT
DTSTART;TZID=America/Chicago:20240408T120000
DTEND;TZID=America/Chicago:20240408T140000
DTSTAMP:20260425T064745
CREATED:20240207T175425Z
LAST-MODIFIED:20240718T172046Z
UID:10002119-1712577600-1712584800@fayaltwp.org
SUMMARY:Sororiety Meeting
DESCRIPTION:
URL:https://fayaltwp.org/event/sororiety-meeting/2024-04-08/
END:VEVENT
BEGIN:VEVENT
DTSTART;TZID=America/Chicago:20240408T161500
DTEND;TZID=America/Chicago:20240408T183000
DTSTAMP:20260425T064745
CREATED:20190917T014302Z
LAST-MODIFIED:20220309T145134Z
UID:10001093-1712592900-1712601000@fayaltwp.org
SUMMARY:T.O.P.S Meeting
DESCRIPTION:Meeting length times may vary
URL:https://fayaltwp.org/event/t-o-p-s-meeting/2024-04-08/
END:VEVENT
BEGIN:VEVENT
DTSTART;TZID=America/Chicago:20240409T180000
DTEND;TZID=America/Chicago:20240409T190000
DTSTAMP:20260425T064745
CREATED:20240213T194019Z
LAST-MODIFIED:20240718T171231Z
UID:10002342-1712685600-1712689200@fayaltwp.org
SUMMARY:Public Utility Meetings
DESCRIPTION:Meeting lengths may vary
URL:https://fayaltwp.org/event/public-utility-meetings-2-2/2024-04-09/
END:VEVENT
BEGIN:VEVENT
DTSTART;TZID=America/Chicago:20240410T093000
DTEND;TZID=America/Chicago:20240410T103000
DTSTAMP:20260425T064745
CREATED:20240207T174449Z
LAST-MODIFIED:20260317T185548Z
UID:10001357-1712741400-1712745000@fayaltwp.org
SUMMARY:Aerobics
DESCRIPTION:
URL:https://fayaltwp.org/event/aerobics/2024-04-10/
END:VEVENT
BEGIN:VEVENT
DTSTART;TZID=America/Chicago:20240412T093000
DTEND;TZID=America/Chicago:20240412T103000
DTSTAMP:20260425T064745
CREATED:20240207T174449Z
LAST-MODIFIED:20260317T185548Z
UID:10001358-1712914200-1712917800@fayaltwp.org
SUMMARY:Aerobics
DESCRIPTION:
URL:https://fayaltwp.org/event/aerobics/2024-04-12/
END:VEVENT
BEGIN:VEVENT
DTSTART;TZID=America/Chicago:20240412T140000
DTEND;TZID=America/Chicago:20240412T190000
DTSTAMP:20260425T064745
CREATED:20240409T140427Z
LAST-MODIFIED:20240409T140427Z
UID:10002457-1712930400-1712948400@fayaltwp.org
SUMMARY:Town Hall Rented
DESCRIPTION:
URL:https://fayaltwp.org/event/town-hall-rented-50/
END:VEVENT
BEGIN:VEVENT
DTSTART;VALUE=DATE:20240413
DTEND;VALUE=DATE:20240415
DTSTAMP:20260425T064745
CREATED:20240408T185850Z
LAST-MODIFIED:20240408T185850Z
UID:10002449-1712984400-1713070799@fayaltwp.org
SUMMARY:Town Hall Rented
DESCRIPTION:
URL:https://fayaltwp.org/event/town-hall-rented-43/
END:VEVENT
END:VCALENDAR