BEGIN:VCALENDAR
VERSION:2.0
PRODID:-//Fayal Twp - ECPv6.15.17.1//NONSGML v1.0//EN
CALSCALE:GREGORIAN
METHOD:PUBLISH
X-WR-CALNAME:Fayal Twp
X-ORIGINAL-URL:https://fayaltwp.org
X-WR-CALDESC:Events for Fayal Twp
REFRESH-INTERVAL;VALUE=DURATION:PT1H
X-Robots-Tag:noindex
X-PUBLISHED-TTL:PT1H
BEGIN:VTIMEZONE
TZID:America/Chicago
BEGIN:DAYLIGHT
TZOFFSETFROM:-0600
TZOFFSETTO:-0500
TZNAME:CDT
DTSTART:20230312T080000
END:DAYLIGHT
BEGIN:STANDARD
TZOFFSETFROM:-0500
TZOFFSETTO:-0600
TZNAME:CST
DTSTART:20231105T070000
END:STANDARD
BEGIN:DAYLIGHT
TZOFFSETFROM:-0600
TZOFFSETTO:-0500
TZNAME:CDT
DTSTART:20240310T080000
END:DAYLIGHT
BEGIN:STANDARD
TZOFFSETFROM:-0500
TZOFFSETTO:-0600
TZNAME:CST
DTSTART:20241103T070000
END:STANDARD
BEGIN:DAYLIGHT
TZOFFSETFROM:-0600
TZOFFSETTO:-0500
TZNAME:CDT
DTSTART:20250309T080000
END:DAYLIGHT
BEGIN:STANDARD
TZOFFSETFROM:-0500
TZOFFSETTO:-0600
TZNAME:CST
DTSTART:20251102T070000
END:STANDARD
END:VTIMEZONE
BEGIN:VEVENT
DTSTART;VALUE=DATE:20240316
DTEND;VALUE=DATE:20240318
DTSTAMP:20260425T083111
CREATED:20240207T191751Z
LAST-MODIFIED:20240207T191751Z
UID:10002223-1710565200-1710651599@fayaltwp.org
SUMMARY:Town Hall Rented
DESCRIPTION:
URL:https://fayaltwp.org/event/town-hall-rented-39/
END:VEVENT
BEGIN:VEVENT
DTSTART;VALUE=DATE:20240317
DTEND;VALUE=DATE:20240319
DTSTAMP:20260425T083111
CREATED:20240207T191817Z
LAST-MODIFIED:20240207T191817Z
UID:10002224-1710651600-1710737999@fayaltwp.org
SUMMARY:Town Hall Rented
DESCRIPTION:
URL:https://fayaltwp.org/event/town-hall-rented-40/
END:VEVENT
BEGIN:VEVENT
DTSTART;TZID=America/Chicago:20240318T093000
DTEND;TZID=America/Chicago:20240318T103000
DTSTAMP:20260425T083111
CREATED:20240207T174449Z
LAST-MODIFIED:20260317T185548Z
UID:10001347-1710754200-1710757800@fayaltwp.org
SUMMARY:Aerobics
DESCRIPTION:
URL:https://fayaltwp.org/event/aerobics/2024-03-18/
END:VEVENT
BEGIN:VEVENT
DTSTART;TZID=America/Chicago:20240318T161500
DTEND;TZID=America/Chicago:20240318T183000
DTSTAMP:20260425T083111
CREATED:20190917T014302Z
LAST-MODIFIED:20220309T145134Z
UID:10001090-1710778500-1710786600@fayaltwp.org
SUMMARY:T.O.P.S Meeting
DESCRIPTION:Meeting length times may vary
URL:https://fayaltwp.org/event/t-o-p-s-meeting/2024-03-18/
END:VEVENT
BEGIN:VEVENT
DTSTART;TZID=America/Chicago:20240319T190000
DTEND;TZID=America/Chicago:20240319T203000
DTSTAMP:20260425T083111
CREATED:20230727T144614Z
LAST-MODIFIED:20250115T222032Z
UID:10001250-1710874800-1710880200@fayaltwp.org
SUMMARY:Town Board Meeting
DESCRIPTION:Meeting lengths may vary
URL:https://fayaltwp.org/event/town-board-meeting-2/2024-03-19/
END:VEVENT
BEGIN:VEVENT
DTSTART;TZID=America/Chicago:20240320T093000
DTEND;TZID=America/Chicago:20240320T103000
DTSTAMP:20260425T083111
CREATED:20240207T174449Z
LAST-MODIFIED:20260317T185548Z
UID:10001348-1710927000-1710930600@fayaltwp.org
SUMMARY:Aerobics
DESCRIPTION:
URL:https://fayaltwp.org/event/aerobics/2024-03-20/
END:VEVENT
BEGIN:VEVENT
DTSTART;TZID=America/Chicago:20240321T183000
DTEND;TZID=America/Chicago:20240321T200000
DTSTAMP:20260425T083111
CREATED:20190917T020221Z
LAST-MODIFIED:20250110T151531Z
UID:10003060-1711045800-1711051200@fayaltwp.org
SUMMARY:Eveleth-Fayal Garden Club
DESCRIPTION:Meeting lengths may vary
URL:https://fayaltwp.org/event/eveleth-fayal-garden-club/2024-03-21/
END:VEVENT
BEGIN:VEVENT
DTSTART;VALUE=DATE:20240322
DTEND;VALUE=DATE:20240324
DTSTAMP:20260425T083111
CREATED:20240207T191839Z
LAST-MODIFIED:20240207T191853Z
UID:10002225-1711083600-1711169999@fayaltwp.org
SUMMARY:Town Hall Rented
DESCRIPTION:
URL:https://fayaltwp.org/event/town-hall-rented-41/
END:VEVENT
BEGIN:VEVENT
DTSTART;VALUE=DATE:20240323
DTEND;VALUE=DATE:20240325
DTSTAMP:20260425T083111
CREATED:20240207T191919Z
LAST-MODIFIED:20240207T191919Z
UID:10002226-1711170000-1711256399@fayaltwp.org
SUMMARY:Town Hall Rented
DESCRIPTION:
URL:https://fayaltwp.org/event/town-hall-rented-42/
END:VEVENT
END:VCALENDAR