BEGIN:VCALENDAR
VERSION:2.0
PRODID:-//Fayal Twp - ECPv6.15.17.1//NONSGML v1.0//EN
CALSCALE:GREGORIAN
METHOD:PUBLISH
X-ORIGINAL-URL:https://fayaltwp.org
X-WR-CALDESC:Events for Fayal Twp
REFRESH-INTERVAL;VALUE=DURATION:PT1H
X-Robots-Tag:noindex
X-PUBLISHED-TTL:PT1H
BEGIN:VTIMEZONE
TZID:America/Chicago
BEGIN:DAYLIGHT
TZOFFSETFROM:-0600
TZOFFSETTO:-0500
TZNAME:CDT
DTSTART:20220313T080000
END:DAYLIGHT
BEGIN:STANDARD
TZOFFSETFROM:-0500
TZOFFSETTO:-0600
TZNAME:CST
DTSTART:20221106T070000
END:STANDARD
BEGIN:DAYLIGHT
TZOFFSETFROM:-0600
TZOFFSETTO:-0500
TZNAME:CDT
DTSTART:20230312T080000
END:DAYLIGHT
BEGIN:STANDARD
TZOFFSETFROM:-0500
TZOFFSETTO:-0600
TZNAME:CST
DTSTART:20231105T070000
END:STANDARD
BEGIN:DAYLIGHT
TZOFFSETFROM:-0600
TZOFFSETTO:-0500
TZNAME:CDT
DTSTART:20240310T080000
END:DAYLIGHT
BEGIN:STANDARD
TZOFFSETFROM:-0500
TZOFFSETTO:-0600
TZNAME:CST
DTSTART:20241103T070000
END:STANDARD
END:VTIMEZONE
BEGIN:VEVENT
DTSTART;VALUE=DATE:20230812
DTEND;VALUE=DATE:20230814
DTSTAMP:20260425T231452
CREATED:20230727T140710Z
LAST-MODIFIED:20230727T140710Z
UID:10001306-1691816400-1691902799@fayaltwp.org
SUMMARY:Town Hall Rented
DESCRIPTION:
URL:https://fayaltwp.org/event/town-hall-rented-19/
END:VEVENT
BEGIN:VEVENT
DTSTART;VALUE=DATE:20230813
DTEND;VALUE=DATE:20230815
DTSTAMP:20260425T231452
CREATED:20230727T140739Z
LAST-MODIFIED:20230727T140739Z
UID:10001307-1691902800-1691989199@fayaltwp.org
SUMMARY:Town Hall Rented
DESCRIPTION:
URL:https://fayaltwp.org/event/town-hall-rented-20/
END:VEVENT
BEGIN:VEVENT
DTSTART;TZID=America/Chicago:20230814T130000
DTEND;TZID=America/Chicago:20230814T150000
DTSTAMP:20260425T231452
CREATED:20230727T140820Z
LAST-MODIFIED:20230727T140820Z
UID:10001308-1692018000-1692025200@fayaltwp.org
SUMMARY:Town Hall Rented
DESCRIPTION:
URL:https://fayaltwp.org/event/town-hall-rented-21/
END:VEVENT
BEGIN:VEVENT
DTSTART;TZID=America/Chicago:20230814T161500
DTEND;TZID=America/Chicago:20230814T183000
DTSTAMP:20260425T231452
CREATED:20190917T014302Z
LAST-MODIFIED:20220309T145134Z
UID:10001059-1692029700-1692037800@fayaltwp.org
SUMMARY:T.O.P.S Meeting
DESCRIPTION:Meeting length times may vary
URL:https://fayaltwp.org/event/t-o-p-s-meeting/2023-08-14/
END:VEVENT
BEGIN:VEVENT
DTSTART;TZID=America/Chicago:20230815T190000
DTEND;TZID=America/Chicago:20230815T203000
DTSTAMP:20260425T231452
CREATED:20230727T144614Z
LAST-MODIFIED:20250115T222032Z
UID:10001243-1692126000-1692131400@fayaltwp.org
SUMMARY:Town Board Meeting
DESCRIPTION:Meeting lengths may vary
URL:https://fayaltwp.org/event/town-board-meeting-2/2023-08-15/
END:VEVENT
BEGIN:VEVENT
DTSTART;TZID=America/Chicago:20230816T173000
DTEND;TZID=America/Chicago:20230816T173000
DTSTAMP:20260425T231452
CREATED:20190917T020012Z
LAST-MODIFIED:20260317T185333Z
UID:10000603-1692207000-1692207000@fayaltwp.org
SUMMARY:Planning Commission Meeting
DESCRIPTION:Meeting lengths may vary
URL:https://fayaltwp.org/event/fayal-planning-commission/2023-08-16/
END:VEVENT
BEGIN:VEVENT
DTSTART;TZID=America/Chicago:20230816T180000
DTEND;TZID=America/Chicago:20230816T190000
DTSTAMP:20260425T231452
CREATED:20190917T021048Z
LAST-MODIFIED:20240213T193813Z
UID:10002276-1692208800-1692212400@fayaltwp.org
SUMMARY:Public Utility Meetings
DESCRIPTION:Meeting lengths may vary
URL:https://fayaltwp.org/event/public-utility-meetings-2/2023-08-16/
END:VEVENT
BEGIN:VEVENT
DTSTART;TZID=America/Chicago:20230817T183000
DTEND;TZID=America/Chicago:20230817T200000
DTSTAMP:20260425T231452
CREATED:20190917T020221Z
LAST-MODIFIED:20250110T151531Z
UID:10003054-1692297000-1692302400@fayaltwp.org
SUMMARY:Eveleth-Fayal Garden Club
DESCRIPTION:Meeting lengths may vary
URL:https://fayaltwp.org/event/eveleth-fayal-garden-club/2023-08-17/
END:VEVENT
BEGIN:VEVENT
DTSTART;VALUE=DATE:20230819
DTEND;VALUE=DATE:20230821
DTSTAMP:20260425T231452
CREATED:20230727T140846Z
LAST-MODIFIED:20230727T140846Z
UID:10001309-1692421200-1692507599@fayaltwp.org
SUMMARY:Town Hall Rented
DESCRIPTION:
URL:https://fayaltwp.org/event/town-hall-rented-22/
END:VEVENT
END:VCALENDAR