BEGIN:VCALENDAR
VERSION:2.0
PRODID:-//Fayal Twp - ECPv6.15.17.1//NONSGML v1.0//EN
CALSCALE:GREGORIAN
METHOD:PUBLISH
X-ORIGINAL-URL:https://fayaltwp.org
X-WR-CALDESC:Events for Fayal Twp
REFRESH-INTERVAL;VALUE=DURATION:PT1H
X-Robots-Tag:noindex
X-PUBLISHED-TTL:PT1H
BEGIN:VTIMEZONE
TZID:America/Chicago
BEGIN:DAYLIGHT
TZOFFSETFROM:-0600
TZOFFSETTO:-0500
TZNAME:CDT
DTSTART:20220313T080000
END:DAYLIGHT
BEGIN:STANDARD
TZOFFSETFROM:-0500
TZOFFSETTO:-0600
TZNAME:CST
DTSTART:20221106T070000
END:STANDARD
BEGIN:DAYLIGHT
TZOFFSETFROM:-0600
TZOFFSETTO:-0500
TZNAME:CDT
DTSTART:20230312T080000
END:DAYLIGHT
BEGIN:STANDARD
TZOFFSETFROM:-0500
TZOFFSETTO:-0600
TZNAME:CST
DTSTART:20231105T070000
END:STANDARD
BEGIN:DAYLIGHT
TZOFFSETFROM:-0600
TZOFFSETTO:-0500
TZNAME:CDT
DTSTART:20240310T080000
END:DAYLIGHT
BEGIN:STANDARD
TZOFFSETFROM:-0500
TZOFFSETTO:-0600
TZNAME:CST
DTSTART:20241103T070000
END:STANDARD
END:VTIMEZONE
BEGIN:VEVENT
DTSTART;VALUE=DATE:20230730
DTEND;VALUE=DATE:20230801
DTSTAMP:20260425T231454
CREATED:20230727T140324Z
LAST-MODIFIED:20230727T140324Z
UID:10001302-1690693200-1690779599@fayaltwp.org
SUMMARY:Town Hall Rented
DESCRIPTION:
URL:https://fayaltwp.org/event/town-hall-rented-16/
END:VEVENT
BEGIN:VEVENT
DTSTART;TZID=America/Chicago:20230731T161500
DTEND;TZID=America/Chicago:20230731T183000
DTSTAMP:20260425T231454
CREATED:20190917T014302Z
LAST-MODIFIED:20220309T145134Z
UID:10001057-1690820100-1690828200@fayaltwp.org
SUMMARY:T.O.P.S Meeting
DESCRIPTION:Meeting length times may vary
URL:https://fayaltwp.org/event/t-o-p-s-meeting/2023-07-31/
END:VEVENT
BEGIN:VEVENT
DTSTART;TZID=America/Chicago:20230801T170000
DTEND;TZID=America/Chicago:20230801T190000
DTSTAMP:20260425T231454
CREATED:20230727T144658Z
LAST-MODIFIED:20230727T144658Z
UID:10001319-1690909200-1690916400@fayaltwp.org
SUMMARY:National Night Out
DESCRIPTION:
URL:https://fayaltwp.org/event/national-night-out/
END:VEVENT
BEGIN:VEVENT
DTSTART;TZID=America/Chicago:20230801T190000
DTEND;TZID=America/Chicago:20230801T203000
DTSTAMP:20260425T231454
CREATED:20190917T015259Z
LAST-MODIFIED:20220309T144930Z
UID:10001178-1690916400-1690921800@fayaltwp.org
SUMMARY:Town Board Meeting
DESCRIPTION:Meeting lengths may vary
URL:https://fayaltwp.org/event/town-board-meeting/2023-08-01/
END:VEVENT
BEGIN:VEVENT
DTSTART;VALUE=DATE:20230804
DTEND;VALUE=DATE:20230806
DTSTAMP:20260425T231454
CREATED:20230727T140555Z
LAST-MODIFIED:20230727T140555Z
UID:10001303-1691125200-1691211599@fayaltwp.org
SUMMARY:Town Hall Rented- Rummage Sale
DESCRIPTION:
URL:https://fayaltwp.org/event/town-hall-rented-rummage-sale/
END:VEVENT
BEGIN:VEVENT
DTSTART;VALUE=DATE:20230805
DTEND;VALUE=DATE:20230807
DTSTAMP:20260425T231454
CREATED:20230727T140620Z
LAST-MODIFIED:20230727T140620Z
UID:10001304-1691211600-1691297999@fayaltwp.org
SUMMARY:Town Hall Rented
DESCRIPTION:
URL:https://fayaltwp.org/event/town-hall-rented-17/
END:VEVENT
END:VCALENDAR