BEGIN:VCALENDAR
VERSION:2.0
PRODID:-//Fayal Twp - ECPv6.15.17.1//NONSGML v1.0//EN
CALSCALE:GREGORIAN
METHOD:PUBLISH
X-ORIGINAL-URL:https://fayaltwp.org
X-WR-CALDESC:Events for Fayal Twp
REFRESH-INTERVAL;VALUE=DURATION:PT1H
X-Robots-Tag:noindex
X-PUBLISHED-TTL:PT1H
BEGIN:VTIMEZONE
TZID:America/Chicago
BEGIN:DAYLIGHT
TZOFFSETFROM:-0600
TZOFFSETTO:-0500
TZNAME:CDT
DTSTART:20280312T080000
END:DAYLIGHT
BEGIN:STANDARD
TZOFFSETFROM:-0500
TZOFFSETTO:-0600
TZNAME:CST
DTSTART:20281105T070000
END:STANDARD
BEGIN:DAYLIGHT
TZOFFSETFROM:-0600
TZOFFSETTO:-0500
TZNAME:CDT
DTSTART:20290311T080000
END:DAYLIGHT
BEGIN:STANDARD
TZOFFSETFROM:-0500
TZOFFSETTO:-0600
TZNAME:CST
DTSTART:20291104T070000
END:STANDARD
BEGIN:DAYLIGHT
TZOFFSETFROM:-0600
TZOFFSETTO:-0500
TZNAME:CDT
DTSTART:20300310T080000
END:DAYLIGHT
BEGIN:STANDARD
TZOFFSETFROM:-0500
TZOFFSETTO:-0600
TZNAME:CST
DTSTART:20301103T070000
END:STANDARD
END:VTIMEZONE
BEGIN:VEVENT
DTSTART;TZID=America/Chicago:20290111T093000
DTEND;TZID=America/Chicago:20290111T223000
DTSTAMP:20260425T211926
CREATED:20260112T180331Z
LAST-MODIFIED:20260317T190351Z
UID:10003632-1862818200-1862865000@fayaltwp.org
SUMMARY:Yoga
DESCRIPTION:
URL:https://fayaltwp.org/event/yoga-2-2/2029-01-11/
END:VEVENT
BEGIN:VEVENT
DTSTART;TZID=America/Chicago:20290112T093000
DTEND;TZID=America/Chicago:20290112T103000
DTSTAMP:20260425T211926
CREATED:20240207T174449Z
LAST-MODIFIED:20260317T185548Z
UID:10002102-1862904600-1862908200@fayaltwp.org
SUMMARY:Aerobics
DESCRIPTION:
URL:https://fayaltwp.org/event/aerobics/2029-01-12/
END:VEVENT
BEGIN:VEVENT
DTSTART;TZID=America/Chicago:20290115T093000
DTEND;TZID=America/Chicago:20290115T103000
DTSTAMP:20260425T211926
CREATED:20240207T174449Z
LAST-MODIFIED:20260317T185548Z
UID:10002103-1863163800-1863167400@fayaltwp.org
SUMMARY:Aerobics
DESCRIPTION:
URL:https://fayaltwp.org/event/aerobics/2029-01-15/
END:VEVENT
BEGIN:VEVENT
DTSTART;TZID=America/Chicago:20290115T160000
DTEND;TZID=America/Chicago:20290115T183000
DTSTAMP:20260425T211926
CREATED:20250905T131821Z
LAST-MODIFIED:20250905T131821Z
UID:10003894-1863187200-1863196200@fayaltwp.org
SUMMARY:T.O.P.S.
DESCRIPTION:
URL:https://fayaltwp.org/event/t-o-p-s/2029-01-15/
END:VEVENT
BEGIN:VEVENT
DTSTART;TZID=America/Chicago:20290116T190000
DTEND;TZID=America/Chicago:20290116T203000
DTSTAMP:20260425T211926
CREATED:20230727T144614Z
LAST-MODIFIED:20250115T222032Z
UID:10003388-1863284400-1863289800@fayaltwp.org
SUMMARY:Town Board Meeting
DESCRIPTION:Meeting lengths may vary
URL:https://fayaltwp.org/event/town-board-meeting-2/2029-01-16/
END:VEVENT
BEGIN:VEVENT
DTSTART;TZID=America/Chicago:20290117T093000
DTEND;TZID=America/Chicago:20290117T103000
DTSTAMP:20260425T211926
CREATED:20240207T174449Z
LAST-MODIFIED:20260317T185548Z
UID:10002104-1863336600-1863340200@fayaltwp.org
SUMMARY:Aerobics
DESCRIPTION:
URL:https://fayaltwp.org/event/aerobics/2029-01-17/
END:VEVENT
BEGIN:VEVENT
DTSTART;TZID=America/Chicago:20290118T093000
DTEND;TZID=America/Chicago:20290118T223000
DTSTAMP:20260425T211926
CREATED:20260112T180331Z
LAST-MODIFIED:20260317T190351Z
UID:10003633-1863423000-1863469800@fayaltwp.org
SUMMARY:Yoga
DESCRIPTION:
URL:https://fayaltwp.org/event/yoga-2-2/2029-01-18/
END:VEVENT
BEGIN:VEVENT
DTSTART;TZID=America/Chicago:20290118T183000
DTEND;TZID=America/Chicago:20290118T200000
DTSTAMP:20260425T211926
CREATED:20190917T020221Z
LAST-MODIFIED:20250110T151531Z
UID:10003109-1863455400-1863460800@fayaltwp.org
SUMMARY:Eveleth-Fayal Garden Club
DESCRIPTION:Meeting lengths may vary
URL:https://fayaltwp.org/event/eveleth-fayal-garden-club/2029-01-18/
END:VEVENT
BEGIN:VEVENT
DTSTART;TZID=America/Chicago:20290119T093000
DTEND;TZID=America/Chicago:20290119T103000
DTSTAMP:20260425T211926
CREATED:20240207T174449Z
LAST-MODIFIED:20260317T185548Z
UID:10002105-1863509400-1863513000@fayaltwp.org
SUMMARY:Aerobics
DESCRIPTION:
URL:https://fayaltwp.org/event/aerobics/2029-01-19/
END:VEVENT
BEGIN:VEVENT
DTSTART;TZID=America/Chicago:20290122T093000
DTEND;TZID=America/Chicago:20290122T103000
DTSTAMP:20260425T211926
CREATED:20240207T174449Z
LAST-MODIFIED:20260317T185548Z
UID:10002106-1863768600-1863772200@fayaltwp.org
SUMMARY:Aerobics
DESCRIPTION:
URL:https://fayaltwp.org/event/aerobics/2029-01-22/
END:VEVENT
BEGIN:VEVENT
DTSTART;TZID=America/Chicago:20290122T160000
DTEND;TZID=America/Chicago:20290122T183000
DTSTAMP:20260425T211926
CREATED:20250905T131821Z
LAST-MODIFIED:20250905T131821Z
UID:10003895-1863792000-1863801000@fayaltwp.org
SUMMARY:T.O.P.S.
DESCRIPTION:
URL:https://fayaltwp.org/event/t-o-p-s/2029-01-22/
END:VEVENT
BEGIN:VEVENT
DTSTART;TZID=America/Chicago:20290124T093000
DTEND;TZID=America/Chicago:20290124T103000
DTSTAMP:20260425T211926
CREATED:20240207T174449Z
LAST-MODIFIED:20260317T185548Z
UID:10002107-1863941400-1863945000@fayaltwp.org
SUMMARY:Aerobics
DESCRIPTION:
URL:https://fayaltwp.org/event/aerobics/2029-01-24/
END:VEVENT
BEGIN:VEVENT
DTSTART;TZID=America/Chicago:20290125T093000
DTEND;TZID=America/Chicago:20290125T223000
DTSTAMP:20260425T211926
CREATED:20260112T180331Z
LAST-MODIFIED:20260317T190351Z
UID:10003634-1864027800-1864074600@fayaltwp.org
SUMMARY:Yoga
DESCRIPTION:
URL:https://fayaltwp.org/event/yoga-2-2/2029-01-25/
END:VEVENT
BEGIN:VEVENT
DTSTART;TZID=America/Chicago:20290126T093000
DTEND;TZID=America/Chicago:20290126T103000
DTSTAMP:20260425T211926
CREATED:20240207T174449Z
LAST-MODIFIED:20260317T185548Z
UID:10002108-1864114200-1864117800@fayaltwp.org
SUMMARY:Aerobics
DESCRIPTION:
URL:https://fayaltwp.org/event/aerobics/2029-01-26/
END:VEVENT
BEGIN:VEVENT
DTSTART;TZID=America/Chicago:20290129T093000
DTEND;TZID=America/Chicago:20290129T103000
DTSTAMP:20260425T211926
CREATED:20240207T174449Z
LAST-MODIFIED:20260317T185548Z
UID:10002109-1864373400-1864377000@fayaltwp.org
SUMMARY:Aerobics
DESCRIPTION:
URL:https://fayaltwp.org/event/aerobics/2029-01-29/
END:VEVENT
BEGIN:VEVENT
DTSTART;TZID=America/Chicago:20290129T160000
DTEND;TZID=America/Chicago:20290129T183000
DTSTAMP:20260425T211926
CREATED:20250905T131821Z
LAST-MODIFIED:20250905T131821Z
UID:10003896-1864396800-1864405800@fayaltwp.org
SUMMARY:T.O.P.S.
DESCRIPTION:
URL:https://fayaltwp.org/event/t-o-p-s/2029-01-29/
END:VEVENT
BEGIN:VEVENT
DTSTART;TZID=America/Chicago:20290131T093000
DTEND;TZID=America/Chicago:20290131T103000
DTSTAMP:20260425T211926
CREATED:20240207T174449Z
LAST-MODIFIED:20260317T185548Z
UID:10002110-1864546200-1864549800@fayaltwp.org
SUMMARY:Aerobics
DESCRIPTION:
URL:https://fayaltwp.org/event/aerobics/2029-01-31/
END:VEVENT
BEGIN:VEVENT
DTSTART;TZID=America/Chicago:20290201T093000
DTEND;TZID=America/Chicago:20290201T223000
DTSTAMP:20260425T211926
CREATED:20260112T180331Z
LAST-MODIFIED:20260317T190351Z
UID:10003635-1864632600-1864679400@fayaltwp.org
SUMMARY:Yoga
DESCRIPTION:
URL:https://fayaltwp.org/event/yoga-2-2/2029-02-01/
END:VEVENT
BEGIN:VEVENT
DTSTART;TZID=America/Chicago:20290202T093000
DTEND;TZID=America/Chicago:20290202T103000
DTSTAMP:20260425T211926
CREATED:20240207T174449Z
LAST-MODIFIED:20260317T185548Z
UID:10002111-1864719000-1864722600@fayaltwp.org
SUMMARY:Aerobics
DESCRIPTION:
URL:https://fayaltwp.org/event/aerobics/2029-02-02/
END:VEVENT
BEGIN:VEVENT
DTSTART;TZID=America/Chicago:20290205T093000
DTEND;TZID=America/Chicago:20290205T103000
DTSTAMP:20260425T211926
CREATED:20240207T174449Z
LAST-MODIFIED:20260317T185548Z
UID:10002112-1864978200-1864981800@fayaltwp.org
SUMMARY:Aerobics
DESCRIPTION:
URL:https://fayaltwp.org/event/aerobics/2029-02-05/
END:VEVENT
BEGIN:VEVENT
DTSTART;TZID=America/Chicago:20290205T160000
DTEND;TZID=America/Chicago:20290205T183000
DTSTAMP:20260425T211926
CREATED:20250905T131821Z
LAST-MODIFIED:20250905T131821Z
UID:10003897-1865001600-1865010600@fayaltwp.org
SUMMARY:T.O.P.S.
DESCRIPTION:
URL:https://fayaltwp.org/event/t-o-p-s/2029-02-05/
END:VEVENT
BEGIN:VEVENT
DTSTART;TZID=America/Chicago:20290206T190000
DTEND;TZID=America/Chicago:20290206T203000
DTSTAMP:20260425T211926
CREATED:20240213T194504Z
LAST-MODIFIED:20250318T164658Z
UID:10002448-1865098800-1865104200@fayaltwp.org
SUMMARY:Town Board Meeting
DESCRIPTION:Meeting lengths may vary
URL:https://fayaltwp.org/event/town-board-meeting-3/2029-02-06/
END:VEVENT
BEGIN:VEVENT
DTSTART;TZID=America/Chicago:20290207T093000
DTEND;TZID=America/Chicago:20290207T103000
DTSTAMP:20260425T211926
CREATED:20240207T174449Z
LAST-MODIFIED:20260317T185548Z
UID:10002113-1865151000-1865154600@fayaltwp.org
SUMMARY:Aerobics
DESCRIPTION:
URL:https://fayaltwp.org/event/aerobics/2029-02-07/
END:VEVENT
BEGIN:VEVENT
DTSTART;TZID=America/Chicago:20290208T093000
DTEND;TZID=America/Chicago:20290208T223000
DTSTAMP:20260425T211926
CREATED:20260112T180331Z
LAST-MODIFIED:20260317T190351Z
UID:10003636-1865237400-1865284200@fayaltwp.org
SUMMARY:Yoga
DESCRIPTION:
URL:https://fayaltwp.org/event/yoga-2-2/2029-02-08/
END:VEVENT
BEGIN:VEVENT
DTSTART;TZID=America/Chicago:20290209T093000
DTEND;TZID=America/Chicago:20290209T103000
DTSTAMP:20260425T211926
CREATED:20240207T174449Z
LAST-MODIFIED:20260317T185548Z
UID:10002460-1865323800-1865327400@fayaltwp.org
SUMMARY:Aerobics
DESCRIPTION:
URL:https://fayaltwp.org/event/aerobics/2029-02-09/
END:VEVENT
BEGIN:VEVENT
DTSTART;TZID=America/Chicago:20290212T093000
DTEND;TZID=America/Chicago:20290212T103000
DTSTAMP:20260425T211926
CREATED:20240207T174449Z
LAST-MODIFIED:20260317T185548Z
UID:10002461-1865583000-1865586600@fayaltwp.org
SUMMARY:Aerobics
DESCRIPTION:
URL:https://fayaltwp.org/event/aerobics/2029-02-12/
END:VEVENT
BEGIN:VEVENT
DTSTART;TZID=America/Chicago:20290212T120000
DTEND;TZID=America/Chicago:20290212T140000
DTSTAMP:20260425T211926
CREATED:20240207T175425Z
LAST-MODIFIED:20240718T172046Z
UID:10002796-1865592000-1865599200@fayaltwp.org
SUMMARY:Sororiety Meeting
DESCRIPTION:
URL:https://fayaltwp.org/event/sororiety-meeting/2029-02-12/
END:VEVENT
BEGIN:VEVENT
DTSTART;TZID=America/Chicago:20290212T160000
DTEND;TZID=America/Chicago:20290212T183000
DTSTAMP:20260425T211926
CREATED:20250905T131821Z
LAST-MODIFIED:20250905T131821Z
UID:10003898-1865606400-1865615400@fayaltwp.org
SUMMARY:T.O.P.S.
DESCRIPTION:
URL:https://fayaltwp.org/event/t-o-p-s/2029-02-12/
END:VEVENT
BEGIN:VEVENT
DTSTART;TZID=America/Chicago:20290213T180000
DTEND;TZID=America/Chicago:20290213T190000
DTSTAMP:20260425T211926
CREATED:20240213T194019Z
LAST-MODIFIED:20240718T171231Z
UID:10002400-1865700000-1865703600@fayaltwp.org
SUMMARY:Public Utility Meetings
DESCRIPTION:Meeting lengths may vary
URL:https://fayaltwp.org/event/public-utility-meetings-2-2/2029-02-13/
END:VEVENT
BEGIN:VEVENT
DTSTART;TZID=America/Chicago:20290214T093000
DTEND;TZID=America/Chicago:20290214T103000
DTSTAMP:20260425T211926
CREATED:20240207T174449Z
LAST-MODIFIED:20260317T185548Z
UID:10002462-1865755800-1865759400@fayaltwp.org
SUMMARY:Aerobics
DESCRIPTION:
URL:https://fayaltwp.org/event/aerobics/2029-02-14/
END:VEVENT
END:VCALENDAR