BEGIN:VCALENDAR
VERSION:2.0
PRODID:-//Fayal Twp - ECPv6.15.17.1//NONSGML v1.0//EN
CALSCALE:GREGORIAN
METHOD:PUBLISH
X-ORIGINAL-URL:https://fayaltwp.org
X-WR-CALDESC:Events for Fayal Twp
REFRESH-INTERVAL;VALUE=DURATION:PT1H
X-Robots-Tag:noindex
X-PUBLISHED-TTL:PT1H
BEGIN:VTIMEZONE
TZID:America/Chicago
BEGIN:DAYLIGHT
TZOFFSETFROM:-0600
TZOFFSETTO:-0500
TZNAME:CDT
DTSTART:20270314T080000
END:DAYLIGHT
BEGIN:STANDARD
TZOFFSETFROM:-0500
TZOFFSETTO:-0600
TZNAME:CST
DTSTART:20271107T070000
END:STANDARD
BEGIN:DAYLIGHT
TZOFFSETFROM:-0600
TZOFFSETTO:-0500
TZNAME:CDT
DTSTART:20280312T080000
END:DAYLIGHT
BEGIN:STANDARD
TZOFFSETFROM:-0500
TZOFFSETTO:-0600
TZNAME:CST
DTSTART:20281105T070000
END:STANDARD
BEGIN:DAYLIGHT
TZOFFSETFROM:-0600
TZOFFSETTO:-0500
TZNAME:CDT
DTSTART:20290311T080000
END:DAYLIGHT
BEGIN:STANDARD
TZOFFSETFROM:-0500
TZOFFSETTO:-0600
TZNAME:CST
DTSTART:20291104T070000
END:STANDARD
END:VTIMEZONE
BEGIN:VEVENT
DTSTART;TZID=America/Chicago:20280331T093000
DTEND;TZID=America/Chicago:20280331T103000
DTSTAMP:20260425T101717
CREATED:20240207T174449Z
LAST-MODIFIED:20260317T185548Z
UID:10001979-1838107800-1838111400@fayaltwp.org
SUMMARY:Aerobics
DESCRIPTION:
URL:https://fayaltwp.org/event/aerobics/2028-03-31/
END:VEVENT
BEGIN:VEVENT
DTSTART;TZID=America/Chicago:20280403T093000
DTEND;TZID=America/Chicago:20280403T103000
DTSTAMP:20260425T101717
CREATED:20240207T174449Z
LAST-MODIFIED:20260317T185548Z
UID:10001980-1838367000-1838370600@fayaltwp.org
SUMMARY:Aerobics
DESCRIPTION:
URL:https://fayaltwp.org/event/aerobics/2028-04-03/
END:VEVENT
BEGIN:VEVENT
DTSTART;TZID=America/Chicago:20280403T160000
DTEND;TZID=America/Chicago:20280403T183000
DTSTAMP:20260425T101717
CREATED:20250905T131821Z
LAST-MODIFIED:20250905T131821Z
UID:10003853-1838390400-1838399400@fayaltwp.org
SUMMARY:T.O.P.S.
DESCRIPTION:
URL:https://fayaltwp.org/event/t-o-p-s/2028-04-03/
END:VEVENT
BEGIN:VEVENT
DTSTART;TZID=America/Chicago:20280404T190000
DTEND;TZID=America/Chicago:20280404T203000
DTSTAMP:20260425T101717
CREATED:20240213T194504Z
LAST-MODIFIED:20250318T164658Z
UID:10002438-1838487600-1838493000@fayaltwp.org
SUMMARY:Town Board Meeting
DESCRIPTION:Meeting lengths may vary
URL:https://fayaltwp.org/event/town-board-meeting-3/2028-04-04/
END:VEVENT
BEGIN:VEVENT
DTSTART;TZID=America/Chicago:20280405T093000
DTEND;TZID=America/Chicago:20280405T103000
DTSTAMP:20260425T101717
CREATED:20240207T174449Z
LAST-MODIFIED:20260317T185548Z
UID:10001981-1838539800-1838543400@fayaltwp.org
SUMMARY:Aerobics
DESCRIPTION:
URL:https://fayaltwp.org/event/aerobics/2028-04-05/
END:VEVENT
BEGIN:VEVENT
DTSTART;TZID=America/Chicago:20280406T093000
DTEND;TZID=America/Chicago:20280406T223000
DTSTAMP:20260425T101717
CREATED:20260112T180331Z
LAST-MODIFIED:20260317T190351Z
UID:10003592-1838626200-1838673000@fayaltwp.org
SUMMARY:Yoga
DESCRIPTION:
URL:https://fayaltwp.org/event/yoga-2-2/2028-04-06/
END:VEVENT
BEGIN:VEVENT
DTSTART;TZID=America/Chicago:20280407T093000
DTEND;TZID=America/Chicago:20280407T103000
DTSTAMP:20260425T101717
CREATED:20240207T174449Z
LAST-MODIFIED:20260317T185548Z
UID:10001982-1838712600-1838716200@fayaltwp.org
SUMMARY:Aerobics
DESCRIPTION:
URL:https://fayaltwp.org/event/aerobics/2028-04-07/
END:VEVENT
BEGIN:VEVENT
DTSTART;TZID=America/Chicago:20280410T093000
DTEND;TZID=America/Chicago:20280410T103000
DTSTAMP:20260425T101717
CREATED:20240207T174449Z
LAST-MODIFIED:20260317T185548Z
UID:10001983-1838971800-1838975400@fayaltwp.org
SUMMARY:Aerobics
DESCRIPTION:
URL:https://fayaltwp.org/event/aerobics/2028-04-10/
END:VEVENT
BEGIN:VEVENT
DTSTART;TZID=America/Chicago:20280410T120000
DTEND;TZID=America/Chicago:20280410T140000
DTSTAMP:20260425T101717
CREATED:20240207T175425Z
LAST-MODIFIED:20240718T172046Z
UID:10002167-1838980800-1838988000@fayaltwp.org
SUMMARY:Sororiety Meeting
DESCRIPTION:
URL:https://fayaltwp.org/event/sororiety-meeting/2028-04-10/
END:VEVENT
BEGIN:VEVENT
DTSTART;TZID=America/Chicago:20280410T160000
DTEND;TZID=America/Chicago:20280410T183000
DTSTAMP:20260425T101717
CREATED:20250905T131821Z
LAST-MODIFIED:20250905T131821Z
UID:10003854-1838995200-1839004200@fayaltwp.org
SUMMARY:T.O.P.S.
DESCRIPTION:
URL:https://fayaltwp.org/event/t-o-p-s/2028-04-10/
END:VEVENT
BEGIN:VEVENT
DTSTART;TZID=America/Chicago:20280411T180000
DTEND;TZID=America/Chicago:20280411T190000
DTSTAMP:20260425T101717
CREATED:20240213T194019Z
LAST-MODIFIED:20240718T171231Z
UID:10002390-1839088800-1839092400@fayaltwp.org
SUMMARY:Public Utility Meetings
DESCRIPTION:Meeting lengths may vary
URL:https://fayaltwp.org/event/public-utility-meetings-2-2/2028-04-11/
END:VEVENT
BEGIN:VEVENT
DTSTART;TZID=America/Chicago:20280412T093000
DTEND;TZID=America/Chicago:20280412T103000
DTSTAMP:20260425T101717
CREATED:20240207T174449Z
LAST-MODIFIED:20260317T185548Z
UID:10001984-1839144600-1839148200@fayaltwp.org
SUMMARY:Aerobics
DESCRIPTION:
URL:https://fayaltwp.org/event/aerobics/2028-04-12/
END:VEVENT
BEGIN:VEVENT
DTSTART;TZID=America/Chicago:20280413T093000
DTEND;TZID=America/Chicago:20280413T223000
DTSTAMP:20260425T101717
CREATED:20260112T180331Z
LAST-MODIFIED:20260317T190351Z
UID:10003593-1839231000-1839277800@fayaltwp.org
SUMMARY:Yoga
DESCRIPTION:
URL:https://fayaltwp.org/event/yoga-2-2/2028-04-13/
END:VEVENT
BEGIN:VEVENT
DTSTART;TZID=America/Chicago:20280414T093000
DTEND;TZID=America/Chicago:20280414T103000
DTSTAMP:20260425T101717
CREATED:20240207T174449Z
LAST-MODIFIED:20260317T185548Z
UID:10001985-1839317400-1839321000@fayaltwp.org
SUMMARY:Aerobics
DESCRIPTION:
URL:https://fayaltwp.org/event/aerobics/2028-04-14/
END:VEVENT
BEGIN:VEVENT
DTSTART;TZID=America/Chicago:20280417T093000
DTEND;TZID=America/Chicago:20280417T103000
DTSTAMP:20260425T101717
CREATED:20240207T174449Z
LAST-MODIFIED:20260317T185548Z
UID:10001986-1839576600-1839580200@fayaltwp.org
SUMMARY:Aerobics
DESCRIPTION:
URL:https://fayaltwp.org/event/aerobics/2028-04-17/
END:VEVENT
BEGIN:VEVENT
DTSTART;TZID=America/Chicago:20280417T160000
DTEND;TZID=America/Chicago:20280417T183000
DTSTAMP:20260425T101717
CREATED:20250905T131821Z
LAST-MODIFIED:20250905T131821Z
UID:10003855-1839600000-1839609000@fayaltwp.org
SUMMARY:T.O.P.S.
DESCRIPTION:
URL:https://fayaltwp.org/event/t-o-p-s/2028-04-17/
END:VEVENT
BEGIN:VEVENT
DTSTART;TZID=America/Chicago:20280418T190000
DTEND;TZID=America/Chicago:20280418T203000
DTSTAMP:20260425T101717
CREATED:20230727T144614Z
LAST-MODIFIED:20250115T222032Z
UID:10003379-1839697200-1839702600@fayaltwp.org
SUMMARY:Town Board Meeting
DESCRIPTION:Meeting lengths may vary
URL:https://fayaltwp.org/event/town-board-meeting-2/2028-04-18/
END:VEVENT
BEGIN:VEVENT
DTSTART;TZID=America/Chicago:20280419T093000
DTEND;TZID=America/Chicago:20280419T103000
DTSTAMP:20260425T101717
CREATED:20240207T174449Z
LAST-MODIFIED:20260317T185548Z
UID:10001987-1839749400-1839753000@fayaltwp.org
SUMMARY:Aerobics
DESCRIPTION:
URL:https://fayaltwp.org/event/aerobics/2028-04-19/
END:VEVENT
BEGIN:VEVENT
DTSTART;TZID=America/Chicago:20280420T093000
DTEND;TZID=America/Chicago:20280420T223000
DTSTAMP:20260425T101717
CREATED:20260112T180331Z
LAST-MODIFIED:20260317T190351Z
UID:10003594-1839835800-1839882600@fayaltwp.org
SUMMARY:Yoga
DESCRIPTION:
URL:https://fayaltwp.org/event/yoga-2-2/2028-04-20/
END:VEVENT
BEGIN:VEVENT
DTSTART;TZID=America/Chicago:20280420T183000
DTEND;TZID=America/Chicago:20280420T200000
DTSTAMP:20260425T101717
CREATED:20190917T020221Z
LAST-MODIFIED:20250110T151531Z
UID:10003101-1839868200-1839873600@fayaltwp.org
SUMMARY:Eveleth-Fayal Garden Club
DESCRIPTION:Meeting lengths may vary
URL:https://fayaltwp.org/event/eveleth-fayal-garden-club/2028-04-20/
END:VEVENT
BEGIN:VEVENT
DTSTART;TZID=America/Chicago:20280421T093000
DTEND;TZID=America/Chicago:20280421T103000
DTSTAMP:20260425T101717
CREATED:20240207T174449Z
LAST-MODIFIED:20260317T185548Z
UID:10001988-1839922200-1839925800@fayaltwp.org
SUMMARY:Aerobics
DESCRIPTION:
URL:https://fayaltwp.org/event/aerobics/2028-04-21/
END:VEVENT
BEGIN:VEVENT
DTSTART;TZID=America/Chicago:20280424T093000
DTEND;TZID=America/Chicago:20280424T103000
DTSTAMP:20260425T101717
CREATED:20240207T174449Z
LAST-MODIFIED:20260317T185548Z
UID:10001989-1840181400-1840185000@fayaltwp.org
SUMMARY:Aerobics
DESCRIPTION:
URL:https://fayaltwp.org/event/aerobics/2028-04-24/
END:VEVENT
BEGIN:VEVENT
DTSTART;TZID=America/Chicago:20280424T160000
DTEND;TZID=America/Chicago:20280424T183000
DTSTAMP:20260425T101718
CREATED:20250905T131821Z
LAST-MODIFIED:20250905T131821Z
UID:10003856-1840204800-1840213800@fayaltwp.org
SUMMARY:T.O.P.S.
DESCRIPTION:
URL:https://fayaltwp.org/event/t-o-p-s/2028-04-24/
END:VEVENT
BEGIN:VEVENT
DTSTART;TZID=America/Chicago:20280426T093000
DTEND;TZID=America/Chicago:20280426T103000
DTSTAMP:20260425T101718
CREATED:20240207T174449Z
LAST-MODIFIED:20260317T185548Z
UID:10001990-1840354200-1840357800@fayaltwp.org
SUMMARY:Aerobics
DESCRIPTION:
URL:https://fayaltwp.org/event/aerobics/2028-04-26/
END:VEVENT
BEGIN:VEVENT
DTSTART;TZID=America/Chicago:20280427T093000
DTEND;TZID=America/Chicago:20280427T223000
DTSTAMP:20260425T101718
CREATED:20260112T180331Z
LAST-MODIFIED:20260317T190351Z
UID:10003595-1840440600-1840487400@fayaltwp.org
SUMMARY:Yoga
DESCRIPTION:
URL:https://fayaltwp.org/event/yoga-2-2/2028-04-27/
END:VEVENT
BEGIN:VEVENT
DTSTART;TZID=America/Chicago:20280428T093000
DTEND;TZID=America/Chicago:20280428T103000
DTSTAMP:20260425T101718
CREATED:20240207T174449Z
LAST-MODIFIED:20260317T185548Z
UID:10001991-1840527000-1840530600@fayaltwp.org
SUMMARY:Aerobics
DESCRIPTION:
URL:https://fayaltwp.org/event/aerobics/2028-04-28/
END:VEVENT
BEGIN:VEVENT
DTSTART;TZID=America/Chicago:20280501T093000
DTEND;TZID=America/Chicago:20280501T103000
DTSTAMP:20260425T101718
CREATED:20240207T174449Z
LAST-MODIFIED:20260317T185548Z
UID:10001992-1840786200-1840789800@fayaltwp.org
SUMMARY:Aerobics
DESCRIPTION:
URL:https://fayaltwp.org/event/aerobics/2028-05-01/
END:VEVENT
BEGIN:VEVENT
DTSTART;TZID=America/Chicago:20280501T160000
DTEND;TZID=America/Chicago:20280501T183000
DTSTAMP:20260425T101718
CREATED:20250905T131821Z
LAST-MODIFIED:20250905T131821Z
UID:10003857-1840809600-1840818600@fayaltwp.org
SUMMARY:T.O.P.S.
DESCRIPTION:
URL:https://fayaltwp.org/event/t-o-p-s/2028-05-01/
END:VEVENT
BEGIN:VEVENT
DTSTART;TZID=America/Chicago:20280502T190000
DTEND;TZID=America/Chicago:20280502T203000
DTSTAMP:20260425T101718
CREATED:20240213T194504Z
LAST-MODIFIED:20250318T164658Z
UID:10002439-1840906800-1840912200@fayaltwp.org
SUMMARY:Town Board Meeting
DESCRIPTION:Meeting lengths may vary
URL:https://fayaltwp.org/event/town-board-meeting-3/2028-05-02/
END:VEVENT
BEGIN:VEVENT
DTSTART;TZID=America/Chicago:20280503T093000
DTEND;TZID=America/Chicago:20280503T103000
DTSTAMP:20260425T101718
CREATED:20240207T174449Z
LAST-MODIFIED:20260317T185548Z
UID:10001993-1840959000-1840962600@fayaltwp.org
SUMMARY:Aerobics
DESCRIPTION:
URL:https://fayaltwp.org/event/aerobics/2028-05-03/
END:VEVENT
END:VCALENDAR