BEGIN:VCALENDAR
VERSION:2.0
PRODID:-//Fayal Twp - ECPv6.15.17.1//NONSGML v1.0//EN
CALSCALE:GREGORIAN
METHOD:PUBLISH
X-WR-CALNAME:Fayal Twp
X-ORIGINAL-URL:https://fayaltwp.org
X-WR-CALDESC:Events for Fayal Twp
REFRESH-INTERVAL;VALUE=DURATION:PT1H
X-Robots-Tag:noindex
X-PUBLISHED-TTL:PT1H
BEGIN:VTIMEZONE
TZID:America/Chicago
BEGIN:DAYLIGHT
TZOFFSETFROM:-0600
TZOFFSETTO:-0500
TZNAME:CDT
DTSTART:20270314T080000
END:DAYLIGHT
BEGIN:STANDARD
TZOFFSETFROM:-0500
TZOFFSETTO:-0600
TZNAME:CST
DTSTART:20271107T070000
END:STANDARD
BEGIN:DAYLIGHT
TZOFFSETFROM:-0600
TZOFFSETTO:-0500
TZNAME:CDT
DTSTART:20280312T080000
END:DAYLIGHT
BEGIN:STANDARD
TZOFFSETFROM:-0500
TZOFFSETTO:-0600
TZNAME:CST
DTSTART:20281105T070000
END:STANDARD
BEGIN:DAYLIGHT
TZOFFSETFROM:-0600
TZOFFSETTO:-0500
TZNAME:CDT
DTSTART:20290311T080000
END:DAYLIGHT
BEGIN:STANDARD
TZOFFSETFROM:-0500
TZOFFSETTO:-0600
TZNAME:CST
DTSTART:20291104T070000
END:STANDARD
END:VTIMEZONE
BEGIN:VEVENT
DTSTART;TZID=America/Chicago:20280302T093000
DTEND;TZID=America/Chicago:20280302T223000
DTSTAMP:20260425T070515
CREATED:20260112T180331Z
LAST-MODIFIED:20260317T190351Z
UID:10003587-1835602200-1835649000@fayaltwp.org
SUMMARY:Yoga
DESCRIPTION:
URL:https://fayaltwp.org/event/yoga-2-2/2028-03-02/
END:VEVENT
BEGIN:VEVENT
DTSTART;TZID=America/Chicago:20280303T093000
DTEND;TZID=America/Chicago:20280303T103000
DTSTAMP:20260425T070515
CREATED:20240207T174449Z
LAST-MODIFIED:20260317T185548Z
UID:10001967-1835688600-1835692200@fayaltwp.org
SUMMARY:Aerobics
DESCRIPTION:
URL:https://fayaltwp.org/event/aerobics/2028-03-03/
END:VEVENT
BEGIN:VEVENT
DTSTART;TZID=America/Chicago:20280306T093000
DTEND;TZID=America/Chicago:20280306T103000
DTSTAMP:20260425T070515
CREATED:20240207T174449Z
LAST-MODIFIED:20260317T185548Z
UID:10001968-1835947800-1835951400@fayaltwp.org
SUMMARY:Aerobics
DESCRIPTION:
URL:https://fayaltwp.org/event/aerobics/2028-03-06/
END:VEVENT
BEGIN:VEVENT
DTSTART;TZID=America/Chicago:20280306T160000
DTEND;TZID=America/Chicago:20280306T183000
DTSTAMP:20260425T070515
CREATED:20250905T131821Z
LAST-MODIFIED:20250905T131821Z
UID:10003849-1835971200-1835980200@fayaltwp.org
SUMMARY:T.O.P.S.
DESCRIPTION:
URL:https://fayaltwp.org/event/t-o-p-s/2028-03-06/
END:VEVENT
BEGIN:VEVENT
DTSTART;TZID=America/Chicago:20280307T190000
DTEND;TZID=America/Chicago:20280307T203000
DTSTAMP:20260425T070515
CREATED:20240213T194504Z
LAST-MODIFIED:20250318T164658Z
UID:10002437-1836068400-1836073800@fayaltwp.org
SUMMARY:Town Board Meeting
DESCRIPTION:Meeting lengths may vary
URL:https://fayaltwp.org/event/town-board-meeting-3/2028-03-07/
END:VEVENT
BEGIN:VEVENT
DTSTART;TZID=America/Chicago:20280308T093000
DTEND;TZID=America/Chicago:20280308T103000
DTSTAMP:20260425T070515
CREATED:20240207T174449Z
LAST-MODIFIED:20260317T185548Z
UID:10001969-1836120600-1836124200@fayaltwp.org
SUMMARY:Aerobics
DESCRIPTION:
URL:https://fayaltwp.org/event/aerobics/2028-03-08/
END:VEVENT
BEGIN:VEVENT
DTSTART;TZID=America/Chicago:20280309T093000
DTEND;TZID=America/Chicago:20280309T223000
DTSTAMP:20260425T070515
CREATED:20260112T180331Z
LAST-MODIFIED:20260317T190351Z
UID:10003588-1836207000-1836253800@fayaltwp.org
SUMMARY:Yoga
DESCRIPTION:
URL:https://fayaltwp.org/event/yoga-2-2/2028-03-09/
END:VEVENT
BEGIN:VEVENT
DTSTART;TZID=America/Chicago:20280310T093000
DTEND;TZID=America/Chicago:20280310T103000
DTSTAMP:20260425T070515
CREATED:20240207T174449Z
LAST-MODIFIED:20260317T185548Z
UID:10001970-1836293400-1836297000@fayaltwp.org
SUMMARY:Aerobics
DESCRIPTION:
URL:https://fayaltwp.org/event/aerobics/2028-03-10/
END:VEVENT
BEGIN:VEVENT
DTSTART;TZID=America/Chicago:20280313T093000
DTEND;TZID=America/Chicago:20280313T103000
DTSTAMP:20260425T070515
CREATED:20240207T174449Z
LAST-MODIFIED:20260317T185548Z
UID:10001971-1836552600-1836556200@fayaltwp.org
SUMMARY:Aerobics
DESCRIPTION:
URL:https://fayaltwp.org/event/aerobics/2028-03-13/
END:VEVENT
BEGIN:VEVENT
DTSTART;TZID=America/Chicago:20280313T120000
DTEND;TZID=America/Chicago:20280313T140000
DTSTAMP:20260425T070515
CREATED:20240207T175425Z
LAST-MODIFIED:20240718T172046Z
UID:10002166-1836561600-1836568800@fayaltwp.org
SUMMARY:Sororiety Meeting
DESCRIPTION:
URL:https://fayaltwp.org/event/sororiety-meeting/2028-03-13/
END:VEVENT
BEGIN:VEVENT
DTSTART;TZID=America/Chicago:20280313T160000
DTEND;TZID=America/Chicago:20280313T183000
DTSTAMP:20260425T070515
CREATED:20250905T131821Z
LAST-MODIFIED:20250905T131821Z
UID:10003850-1836576000-1836585000@fayaltwp.org
SUMMARY:T.O.P.S.
DESCRIPTION:
URL:https://fayaltwp.org/event/t-o-p-s/2028-03-13/
END:VEVENT
BEGIN:VEVENT
DTSTART;TZID=America/Chicago:20280314T180000
DTEND;TZID=America/Chicago:20280314T190000
DTSTAMP:20260425T070515
CREATED:20240213T194019Z
LAST-MODIFIED:20240718T171231Z
UID:10002389-1836669600-1836673200@fayaltwp.org
SUMMARY:Public Utility Meetings
DESCRIPTION:Meeting lengths may vary
URL:https://fayaltwp.org/event/public-utility-meetings-2-2/2028-03-14/
END:VEVENT
BEGIN:VEVENT
DTSTART;TZID=America/Chicago:20280315T093000
DTEND;TZID=America/Chicago:20280315T103000
DTSTAMP:20260425T070515
CREATED:20240207T174449Z
LAST-MODIFIED:20260317T185548Z
UID:10001972-1836725400-1836729000@fayaltwp.org
SUMMARY:Aerobics
DESCRIPTION:
URL:https://fayaltwp.org/event/aerobics/2028-03-15/
END:VEVENT
BEGIN:VEVENT
DTSTART;TZID=America/Chicago:20280316T093000
DTEND;TZID=America/Chicago:20280316T223000
DTSTAMP:20260425T070515
CREATED:20260112T180331Z
LAST-MODIFIED:20260317T190351Z
UID:10003589-1836811800-1836858600@fayaltwp.org
SUMMARY:Yoga
DESCRIPTION:
URL:https://fayaltwp.org/event/yoga-2-2/2028-03-16/
END:VEVENT
BEGIN:VEVENT
DTSTART;TZID=America/Chicago:20280316T183000
DTEND;TZID=America/Chicago:20280316T200000
DTSTAMP:20260425T070515
CREATED:20190917T020221Z
LAST-MODIFIED:20250110T151531Z
UID:10002993-1836844200-1836849600@fayaltwp.org
SUMMARY:Eveleth-Fayal Garden Club
DESCRIPTION:Meeting lengths may vary
URL:https://fayaltwp.org/event/eveleth-fayal-garden-club/2028-03-16/
END:VEVENT
BEGIN:VEVENT
DTSTART;TZID=America/Chicago:20280317T093000
DTEND;TZID=America/Chicago:20280317T103000
DTSTAMP:20260425T070515
CREATED:20240207T174449Z
LAST-MODIFIED:20260317T185548Z
UID:10001973-1836898200-1836901800@fayaltwp.org
SUMMARY:Aerobics
DESCRIPTION:
URL:https://fayaltwp.org/event/aerobics/2028-03-17/
END:VEVENT
BEGIN:VEVENT
DTSTART;TZID=America/Chicago:20280320T093000
DTEND;TZID=America/Chicago:20280320T103000
DTSTAMP:20260425T070515
CREATED:20240207T174449Z
LAST-MODIFIED:20260317T185548Z
UID:10001974-1837157400-1837161000@fayaltwp.org
SUMMARY:Aerobics
DESCRIPTION:
URL:https://fayaltwp.org/event/aerobics/2028-03-20/
END:VEVENT
BEGIN:VEVENT
DTSTART;TZID=America/Chicago:20280320T160000
DTEND;TZID=America/Chicago:20280320T183000
DTSTAMP:20260425T070515
CREATED:20250905T131821Z
LAST-MODIFIED:20250905T131821Z
UID:10003851-1837180800-1837189800@fayaltwp.org
SUMMARY:T.O.P.S.
DESCRIPTION:
URL:https://fayaltwp.org/event/t-o-p-s/2028-03-20/
END:VEVENT
BEGIN:VEVENT
DTSTART;TZID=America/Chicago:20280321T190000
DTEND;TZID=America/Chicago:20280321T203000
DTSTAMP:20260425T070515
CREATED:20230727T144614Z
LAST-MODIFIED:20250115T222032Z
UID:10003378-1837278000-1837283400@fayaltwp.org
SUMMARY:Town Board Meeting
DESCRIPTION:Meeting lengths may vary
URL:https://fayaltwp.org/event/town-board-meeting-2/2028-03-21/
END:VEVENT
BEGIN:VEVENT
DTSTART;TZID=America/Chicago:20280322T093000
DTEND;TZID=America/Chicago:20280322T103000
DTSTAMP:20260425T070515
CREATED:20240207T174449Z
LAST-MODIFIED:20260317T185548Z
UID:10001975-1837330200-1837333800@fayaltwp.org
SUMMARY:Aerobics
DESCRIPTION:
URL:https://fayaltwp.org/event/aerobics/2028-03-22/
END:VEVENT
BEGIN:VEVENT
DTSTART;TZID=America/Chicago:20280323T093000
DTEND;TZID=America/Chicago:20280323T223000
DTSTAMP:20260425T070515
CREATED:20260112T180331Z
LAST-MODIFIED:20260317T190351Z
UID:10003590-1837416600-1837463400@fayaltwp.org
SUMMARY:Yoga
DESCRIPTION:
URL:https://fayaltwp.org/event/yoga-2-2/2028-03-23/
END:VEVENT
BEGIN:VEVENT
DTSTART;TZID=America/Chicago:20280324T093000
DTEND;TZID=America/Chicago:20280324T103000
DTSTAMP:20260425T070515
CREATED:20240207T174449Z
LAST-MODIFIED:20260317T185548Z
UID:10001976-1837503000-1837506600@fayaltwp.org
SUMMARY:Aerobics
DESCRIPTION:
URL:https://fayaltwp.org/event/aerobics/2028-03-24/
END:VEVENT
BEGIN:VEVENT
DTSTART;TZID=America/Chicago:20280327T093000
DTEND;TZID=America/Chicago:20280327T103000
DTSTAMP:20260425T070515
CREATED:20240207T174449Z
LAST-MODIFIED:20260317T185548Z
UID:10001977-1837762200-1837765800@fayaltwp.org
SUMMARY:Aerobics
DESCRIPTION:
URL:https://fayaltwp.org/event/aerobics/2028-03-27/
END:VEVENT
BEGIN:VEVENT
DTSTART;TZID=America/Chicago:20280327T160000
DTEND;TZID=America/Chicago:20280327T183000
DTSTAMP:20260425T070515
CREATED:20250905T131821Z
LAST-MODIFIED:20250905T131821Z
UID:10003852-1837785600-1837794600@fayaltwp.org
SUMMARY:T.O.P.S.
DESCRIPTION:
URL:https://fayaltwp.org/event/t-o-p-s/2028-03-27/
END:VEVENT
BEGIN:VEVENT
DTSTART;TZID=America/Chicago:20280329T093000
DTEND;TZID=America/Chicago:20280329T103000
DTSTAMP:20260425T070515
CREATED:20240207T174449Z
LAST-MODIFIED:20260317T185548Z
UID:10001978-1837935000-1837938600@fayaltwp.org
SUMMARY:Aerobics
DESCRIPTION:
URL:https://fayaltwp.org/event/aerobics/2028-03-29/
END:VEVENT
BEGIN:VEVENT
DTSTART;TZID=America/Chicago:20280330T093000
DTEND;TZID=America/Chicago:20280330T223000
DTSTAMP:20260425T070515
CREATED:20260112T180331Z
LAST-MODIFIED:20260317T190351Z
UID:10003591-1838021400-1838068200@fayaltwp.org
SUMMARY:Yoga
DESCRIPTION:
URL:https://fayaltwp.org/event/yoga-2-2/2028-03-30/
END:VEVENT
BEGIN:VEVENT
DTSTART;TZID=America/Chicago:20280331T093000
DTEND;TZID=America/Chicago:20280331T103000
DTSTAMP:20260425T070515
CREATED:20240207T174449Z
LAST-MODIFIED:20260317T185548Z
UID:10001979-1838107800-1838111400@fayaltwp.org
SUMMARY:Aerobics
DESCRIPTION:
URL:https://fayaltwp.org/event/aerobics/2028-03-31/
END:VEVENT
BEGIN:VEVENT
DTSTART;TZID=America/Chicago:20280403T093000
DTEND;TZID=America/Chicago:20280403T103000
DTSTAMP:20260425T070515
CREATED:20240207T174449Z
LAST-MODIFIED:20260317T185548Z
UID:10001980-1838367000-1838370600@fayaltwp.org
SUMMARY:Aerobics
DESCRIPTION:
URL:https://fayaltwp.org/event/aerobics/2028-04-03/
END:VEVENT
BEGIN:VEVENT
DTSTART;TZID=America/Chicago:20280403T160000
DTEND;TZID=America/Chicago:20280403T183000
DTSTAMP:20260425T070515
CREATED:20250905T131821Z
LAST-MODIFIED:20250905T131821Z
UID:10003853-1838390400-1838399400@fayaltwp.org
SUMMARY:T.O.P.S.
DESCRIPTION:
URL:https://fayaltwp.org/event/t-o-p-s/2028-04-03/
END:VEVENT
BEGIN:VEVENT
DTSTART;TZID=America/Chicago:20280404T190000
DTEND;TZID=America/Chicago:20280404T203000
DTSTAMP:20260425T070515
CREATED:20240213T194504Z
LAST-MODIFIED:20250318T164658Z
UID:10002438-1838487600-1838493000@fayaltwp.org
SUMMARY:Town Board Meeting
DESCRIPTION:Meeting lengths may vary
URL:https://fayaltwp.org/event/town-board-meeting-3/2028-04-04/
END:VEVENT
END:VCALENDAR