BEGIN:VCALENDAR
VERSION:2.0
PRODID:-//Fayal Twp - ECPv6.15.17.1//NONSGML v1.0//EN
CALSCALE:GREGORIAN
METHOD:PUBLISH
X-ORIGINAL-URL:https://fayaltwp.org
X-WR-CALDESC:Events for Fayal Twp
REFRESH-INTERVAL;VALUE=DURATION:PT1H
X-Robots-Tag:noindex
X-PUBLISHED-TTL:PT1H
BEGIN:VTIMEZONE
TZID:America/Chicago
BEGIN:DAYLIGHT
TZOFFSETFROM:-0600
TZOFFSETTO:-0500
TZNAME:CDT
DTSTART:20260308T080000
END:DAYLIGHT
BEGIN:STANDARD
TZOFFSETFROM:-0500
TZOFFSETTO:-0600
TZNAME:CST
DTSTART:20261101T070000
END:STANDARD
BEGIN:DAYLIGHT
TZOFFSETFROM:-0600
TZOFFSETTO:-0500
TZNAME:CDT
DTSTART:20270314T080000
END:DAYLIGHT
BEGIN:STANDARD
TZOFFSETFROM:-0500
TZOFFSETTO:-0600
TZNAME:CST
DTSTART:20271107T070000
END:STANDARD
BEGIN:DAYLIGHT
TZOFFSETFROM:-0600
TZOFFSETTO:-0500
TZNAME:CDT
DTSTART:20280312T080000
END:DAYLIGHT
BEGIN:STANDARD
TZOFFSETFROM:-0500
TZOFFSETTO:-0600
TZNAME:CST
DTSTART:20281105T070000
END:STANDARD
BEGIN:DAYLIGHT
TZOFFSETFROM:-0600
TZOFFSETTO:-0500
TZNAME:CDT
DTSTART:20290311T080000
END:DAYLIGHT
BEGIN:STANDARD
TZOFFSETFROM:-0500
TZOFFSETTO:-0600
TZNAME:CST
DTSTART:20291104T070000
END:STANDARD
END:VTIMEZONE
BEGIN:VEVENT
DTSTART;TZID=America/Chicago:20271210T093000
DTEND;TZID=America/Chicago:20271210T103000
DTSTAMP:20260425T070944
CREATED:20240207T174449Z
LAST-MODIFIED:20260317T185548Z
UID:10001931-1828431000-1828434600@fayaltwp.org
SUMMARY:Aerobics
DESCRIPTION:
URL:https://fayaltwp.org/event/aerobics/2027-12-10/
END:VEVENT
BEGIN:VEVENT
DTSTART;TZID=America/Chicago:20271213T093000
DTEND;TZID=America/Chicago:20271213T103000
DTSTAMP:20260425T070944
CREATED:20240207T174449Z
LAST-MODIFIED:20260317T185548Z
UID:10001932-1828690200-1828693800@fayaltwp.org
SUMMARY:Aerobics
DESCRIPTION:
URL:https://fayaltwp.org/event/aerobics/2027-12-13/
END:VEVENT
BEGIN:VEVENT
DTSTART;TZID=America/Chicago:20271213T120000
DTEND;TZID=America/Chicago:20271213T140000
DTSTAMP:20260425T070944
CREATED:20240207T175425Z
LAST-MODIFIED:20240718T172046Z
UID:10002163-1828699200-1828706400@fayaltwp.org
SUMMARY:Sororiety Meeting
DESCRIPTION:
URL:https://fayaltwp.org/event/sororiety-meeting/2027-12-13/
END:VEVENT
BEGIN:VEVENT
DTSTART;TZID=America/Chicago:20271213T160000
DTEND;TZID=America/Chicago:20271213T183000
DTSTAMP:20260425T070944
CREATED:20250905T131821Z
LAST-MODIFIED:20250905T131821Z
UID:10003837-1828713600-1828722600@fayaltwp.org
SUMMARY:T.O.P.S.
DESCRIPTION:
URL:https://fayaltwp.org/event/t-o-p-s/2027-12-13/
END:VEVENT
BEGIN:VEVENT
DTSTART;TZID=America/Chicago:20271214T180000
DTEND;TZID=America/Chicago:20271214T190000
DTSTAMP:20260425T070944
CREATED:20240213T194019Z
LAST-MODIFIED:20240718T171231Z
UID:10002386-1828807200-1828810800@fayaltwp.org
SUMMARY:Public Utility Meetings
DESCRIPTION:Meeting lengths may vary
URL:https://fayaltwp.org/event/public-utility-meetings-2-2/2027-12-14/
END:VEVENT
BEGIN:VEVENT
DTSTART;TZID=America/Chicago:20271215T093000
DTEND;TZID=America/Chicago:20271215T103000
DTSTAMP:20260425T070944
CREATED:20240207T174449Z
LAST-MODIFIED:20260317T185548Z
UID:10001933-1828863000-1828866600@fayaltwp.org
SUMMARY:Aerobics
DESCRIPTION:
URL:https://fayaltwp.org/event/aerobics/2027-12-15/
END:VEVENT
BEGIN:VEVENT
DTSTART;TZID=America/Chicago:20271216T093000
DTEND;TZID=America/Chicago:20271216T223000
DTSTAMP:20260425T070944
CREATED:20260112T180331Z
LAST-MODIFIED:20260317T190351Z
UID:10003576-1828949400-1828996200@fayaltwp.org
SUMMARY:Yoga
DESCRIPTION:
URL:https://fayaltwp.org/event/yoga-2-2/2027-12-16/
END:VEVENT
BEGIN:VEVENT
DTSTART;TZID=America/Chicago:20271216T183000
DTEND;TZID=America/Chicago:20271216T200000
DTSTAMP:20260425T070944
CREATED:20190917T020221Z
LAST-MODIFIED:20250110T151531Z
UID:10002990-1828981800-1828987200@fayaltwp.org
SUMMARY:Eveleth-Fayal Garden Club
DESCRIPTION:Meeting lengths may vary
URL:https://fayaltwp.org/event/eveleth-fayal-garden-club/2027-12-16/
END:VEVENT
BEGIN:VEVENT
DTSTART;TZID=America/Chicago:20271217T093000
DTEND;TZID=America/Chicago:20271217T103000
DTSTAMP:20260425T070944
CREATED:20240207T174449Z
LAST-MODIFIED:20260317T185548Z
UID:10001934-1829035800-1829039400@fayaltwp.org
SUMMARY:Aerobics
DESCRIPTION:
URL:https://fayaltwp.org/event/aerobics/2027-12-17/
END:VEVENT
BEGIN:VEVENT
DTSTART;TZID=America/Chicago:20271220T093000
DTEND;TZID=America/Chicago:20271220T103000
DTSTAMP:20260425T070944
CREATED:20240207T174449Z
LAST-MODIFIED:20260317T185548Z
UID:10001935-1829295000-1829298600@fayaltwp.org
SUMMARY:Aerobics
DESCRIPTION:
URL:https://fayaltwp.org/event/aerobics/2027-12-20/
END:VEVENT
BEGIN:VEVENT
DTSTART;TZID=America/Chicago:20271220T160000
DTEND;TZID=America/Chicago:20271220T183000
DTSTAMP:20260425T070944
CREATED:20250905T131821Z
LAST-MODIFIED:20250905T131821Z
UID:10003838-1829318400-1829327400@fayaltwp.org
SUMMARY:T.O.P.S.
DESCRIPTION:
URL:https://fayaltwp.org/event/t-o-p-s/2027-12-20/
END:VEVENT
BEGIN:VEVENT
DTSTART;TZID=America/Chicago:20271221T190000
DTEND;TZID=America/Chicago:20271221T203000
DTSTAMP:20260425T070944
CREATED:20230727T144614Z
LAST-MODIFIED:20250115T222032Z
UID:10003375-1829415600-1829421000@fayaltwp.org
SUMMARY:Town Board Meeting
DESCRIPTION:Meeting lengths may vary
URL:https://fayaltwp.org/event/town-board-meeting-2/2027-12-21/
END:VEVENT
BEGIN:VEVENT
DTSTART;TZID=America/Chicago:20271222T093000
DTEND;TZID=America/Chicago:20271222T103000
DTSTAMP:20260425T070944
CREATED:20240207T174449Z
LAST-MODIFIED:20260317T185548Z
UID:10001936-1829467800-1829471400@fayaltwp.org
SUMMARY:Aerobics
DESCRIPTION:
URL:https://fayaltwp.org/event/aerobics/2027-12-22/
END:VEVENT
BEGIN:VEVENT
DTSTART;TZID=America/Chicago:20271223T093000
DTEND;TZID=America/Chicago:20271223T223000
DTSTAMP:20260425T070944
CREATED:20260112T180331Z
LAST-MODIFIED:20260317T190351Z
UID:10003577-1829554200-1829601000@fayaltwp.org
SUMMARY:Yoga
DESCRIPTION:
URL:https://fayaltwp.org/event/yoga-2-2/2027-12-23/
END:VEVENT
BEGIN:VEVENT
DTSTART;TZID=America/Chicago:20271224T093000
DTEND;TZID=America/Chicago:20271224T103000
DTSTAMP:20260425T070944
CREATED:20240207T174449Z
LAST-MODIFIED:20260317T185548Z
UID:10001937-1829640600-1829644200@fayaltwp.org
SUMMARY:Aerobics
DESCRIPTION:
URL:https://fayaltwp.org/event/aerobics/2027-12-24/
END:VEVENT
BEGIN:VEVENT
DTSTART;TZID=America/Chicago:20271227T093000
DTEND;TZID=America/Chicago:20271227T103000
DTSTAMP:20260425T070944
CREATED:20240207T174449Z
LAST-MODIFIED:20260317T185548Z
UID:10001938-1829899800-1829903400@fayaltwp.org
SUMMARY:Aerobics
DESCRIPTION:
URL:https://fayaltwp.org/event/aerobics/2027-12-27/
END:VEVENT
BEGIN:VEVENT
DTSTART;TZID=America/Chicago:20271227T160000
DTEND;TZID=America/Chicago:20271227T183000
DTSTAMP:20260425T070944
CREATED:20250905T131821Z
LAST-MODIFIED:20250905T131821Z
UID:10003839-1829923200-1829932200@fayaltwp.org
SUMMARY:T.O.P.S.
DESCRIPTION:
URL:https://fayaltwp.org/event/t-o-p-s/2027-12-27/
END:VEVENT
BEGIN:VEVENT
DTSTART;TZID=America/Chicago:20271229T093000
DTEND;TZID=America/Chicago:20271229T103000
DTSTAMP:20260425T070944
CREATED:20240207T174449Z
LAST-MODIFIED:20260317T185548Z
UID:10001939-1830072600-1830076200@fayaltwp.org
SUMMARY:Aerobics
DESCRIPTION:
URL:https://fayaltwp.org/event/aerobics/2027-12-29/
END:VEVENT
BEGIN:VEVENT
DTSTART;TZID=America/Chicago:20271230T093000
DTEND;TZID=America/Chicago:20271230T223000
DTSTAMP:20260425T070944
CREATED:20260112T180331Z
LAST-MODIFIED:20260317T190351Z
UID:10003578-1830159000-1830205800@fayaltwp.org
SUMMARY:Yoga
DESCRIPTION:
URL:https://fayaltwp.org/event/yoga-2-2/2027-12-30/
END:VEVENT
BEGIN:VEVENT
DTSTART;TZID=America/Chicago:20271231T093000
DTEND;TZID=America/Chicago:20271231T103000
DTSTAMP:20260425T070944
CREATED:20240207T174449Z
LAST-MODIFIED:20260317T185548Z
UID:10001940-1830245400-1830249000@fayaltwp.org
SUMMARY:Aerobics
DESCRIPTION:
URL:https://fayaltwp.org/event/aerobics/2027-12-31/
END:VEVENT
BEGIN:VEVENT
DTSTART;TZID=America/Chicago:20280103T093000
DTEND;TZID=America/Chicago:20280103T103000
DTSTAMP:20260425T070944
CREATED:20240207T174449Z
LAST-MODIFIED:20260317T185548Z
UID:10001941-1830504600-1830508200@fayaltwp.org
SUMMARY:Aerobics
DESCRIPTION:
URL:https://fayaltwp.org/event/aerobics/2028-01-03/
END:VEVENT
BEGIN:VEVENT
DTSTART;TZID=America/Chicago:20280103T160000
DTEND;TZID=America/Chicago:20280103T183000
DTSTAMP:20260425T070944
CREATED:20250905T131821Z
LAST-MODIFIED:20250905T131821Z
UID:10003840-1830528000-1830537000@fayaltwp.org
SUMMARY:T.O.P.S.
DESCRIPTION:
URL:https://fayaltwp.org/event/t-o-p-s/2028-01-03/
END:VEVENT
BEGIN:VEVENT
DTSTART;TZID=America/Chicago:20280104T190000
DTEND;TZID=America/Chicago:20280104T203000
DTSTAMP:20260425T070944
CREATED:20240213T194504Z
LAST-MODIFIED:20250318T164658Z
UID:10002435-1830625200-1830630600@fayaltwp.org
SUMMARY:Town Board Meeting
DESCRIPTION:Meeting lengths may vary
URL:https://fayaltwp.org/event/town-board-meeting-3/2028-01-04/
END:VEVENT
BEGIN:VEVENT
DTSTART;TZID=America/Chicago:20280105T093000
DTEND;TZID=America/Chicago:20280105T103000
DTSTAMP:20260425T070944
CREATED:20240207T174449Z
LAST-MODIFIED:20260317T185548Z
UID:10001942-1830677400-1830681000@fayaltwp.org
SUMMARY:Aerobics
DESCRIPTION:
URL:https://fayaltwp.org/event/aerobics/2028-01-05/
END:VEVENT
BEGIN:VEVENT
DTSTART;TZID=America/Chicago:20280106T093000
DTEND;TZID=America/Chicago:20280106T223000
DTSTAMP:20260425T070944
CREATED:20260112T180331Z
LAST-MODIFIED:20260317T190351Z
UID:10003579-1830763800-1830810600@fayaltwp.org
SUMMARY:Yoga
DESCRIPTION:
URL:https://fayaltwp.org/event/yoga-2-2/2028-01-06/
END:VEVENT
BEGIN:VEVENT
DTSTART;TZID=America/Chicago:20280107T093000
DTEND;TZID=America/Chicago:20280107T103000
DTSTAMP:20260425T070944
CREATED:20240207T174449Z
LAST-MODIFIED:20260317T185548Z
UID:10001943-1830850200-1830853800@fayaltwp.org
SUMMARY:Aerobics
DESCRIPTION:
URL:https://fayaltwp.org/event/aerobics/2028-01-07/
END:VEVENT
BEGIN:VEVENT
DTSTART;TZID=America/Chicago:20280110T093000
DTEND;TZID=America/Chicago:20280110T103000
DTSTAMP:20260425T070944
CREATED:20240207T174449Z
LAST-MODIFIED:20260317T185548Z
UID:10001944-1831109400-1831113000@fayaltwp.org
SUMMARY:Aerobics
DESCRIPTION:
URL:https://fayaltwp.org/event/aerobics/2028-01-10/
END:VEVENT
BEGIN:VEVENT
DTSTART;TZID=America/Chicago:20280110T120000
DTEND;TZID=America/Chicago:20280110T140000
DTSTAMP:20260425T070944
CREATED:20240207T175425Z
LAST-MODIFIED:20240718T172046Z
UID:10002164-1831118400-1831125600@fayaltwp.org
SUMMARY:Sororiety Meeting
DESCRIPTION:
URL:https://fayaltwp.org/event/sororiety-meeting/2028-01-10/
END:VEVENT
BEGIN:VEVENT
DTSTART;TZID=America/Chicago:20280110T160000
DTEND;TZID=America/Chicago:20280110T183000
DTSTAMP:20260425T070944
CREATED:20250905T131821Z
LAST-MODIFIED:20250905T131821Z
UID:10003841-1831132800-1831141800@fayaltwp.org
SUMMARY:T.O.P.S.
DESCRIPTION:
URL:https://fayaltwp.org/event/t-o-p-s/2028-01-10/
END:VEVENT
BEGIN:VEVENT
DTSTART;TZID=America/Chicago:20280111T180000
DTEND;TZID=America/Chicago:20280111T190000
DTSTAMP:20260425T070944
CREATED:20240213T194019Z
LAST-MODIFIED:20240718T171231Z
UID:10002387-1831226400-1831230000@fayaltwp.org
SUMMARY:Public Utility Meetings
DESCRIPTION:Meeting lengths may vary
URL:https://fayaltwp.org/event/public-utility-meetings-2-2/2028-01-11/
END:VEVENT
END:VCALENDAR