BEGIN:VCALENDAR
VERSION:2.0
PRODID:-//Fayal Twp - ECPv6.15.17.1//NONSGML v1.0//EN
CALSCALE:GREGORIAN
METHOD:PUBLISH
X-WR-CALNAME:Fayal Twp
X-ORIGINAL-URL:https://fayaltwp.org
X-WR-CALDESC:Events for Fayal Twp
REFRESH-INTERVAL;VALUE=DURATION:PT1H
X-Robots-Tag:noindex
X-PUBLISHED-TTL:PT1H
BEGIN:VTIMEZONE
TZID:America/Chicago
BEGIN:DAYLIGHT
TZOFFSETFROM:-0600
TZOFFSETTO:-0500
TZNAME:CDT
DTSTART:20250309T080000
END:DAYLIGHT
BEGIN:STANDARD
TZOFFSETFROM:-0500
TZOFFSETTO:-0600
TZNAME:CST
DTSTART:20251102T070000
END:STANDARD
BEGIN:DAYLIGHT
TZOFFSETFROM:-0600
TZOFFSETTO:-0500
TZNAME:CDT
DTSTART:20260308T080000
END:DAYLIGHT
BEGIN:STANDARD
TZOFFSETFROM:-0500
TZOFFSETTO:-0600
TZNAME:CST
DTSTART:20261101T070000
END:STANDARD
BEGIN:DAYLIGHT
TZOFFSETFROM:-0600
TZOFFSETTO:-0500
TZNAME:CDT
DTSTART:20270314T080000
END:DAYLIGHT
BEGIN:STANDARD
TZOFFSETFROM:-0500
TZOFFSETTO:-0600
TZNAME:CST
DTSTART:20271107T070000
END:STANDARD
END:VTIMEZONE
BEGIN:VEVENT
DTSTART;TZID=America/Chicago:20260813T093000
DTEND;TZID=America/Chicago:20260813T223000
DTSTAMP:20260424T032447
CREATED:20260112T180331Z
LAST-MODIFIED:20260317T190351Z
UID:10003506-1786613400-1786660200@fayaltwp.org
SUMMARY:Yoga
DESCRIPTION:
URL:https://fayaltwp.org/event/yoga-2-2/2026-08-13/
END:VEVENT
BEGIN:VEVENT
DTSTART;TZID=America/Chicago:20260814T093000
DTEND;TZID=America/Chicago:20260814T103000
DTSTAMP:20260424T032447
CREATED:20240207T174449Z
LAST-MODIFIED:20260317T185548Z
UID:10001724-1786699800-1786703400@fayaltwp.org
SUMMARY:Aerobics
DESCRIPTION:
URL:https://fayaltwp.org/event/aerobics/2026-08-14/
END:VEVENT
BEGIN:VEVENT
DTSTART;TZID=America/Chicago:20260817T093000
DTEND;TZID=America/Chicago:20260817T103000
DTSTAMP:20260424T032447
CREATED:20240207T174449Z
LAST-MODIFIED:20260317T185548Z
UID:10001725-1786959000-1786962600@fayaltwp.org
SUMMARY:Aerobics
DESCRIPTION:
URL:https://fayaltwp.org/event/aerobics/2026-08-17/
END:VEVENT
BEGIN:VEVENT
DTSTART;TZID=America/Chicago:20260817T160000
DTEND;TZID=America/Chicago:20260817T183000
DTSTAMP:20260424T032447
CREATED:20250905T131821Z
LAST-MODIFIED:20250905T131821Z
UID:10003768-1786982400-1786991400@fayaltwp.org
SUMMARY:T.O.P.S.
DESCRIPTION:
URL:https://fayaltwp.org/event/t-o-p-s/2026-08-17/
END:VEVENT
BEGIN:VEVENT
DTSTART;TZID=America/Chicago:20260818T190000
DTEND;TZID=America/Chicago:20260818T203000
DTSTAMP:20260424T032447
CREATED:20230727T144614Z
LAST-MODIFIED:20250115T222032Z
UID:10003359-1787079600-1787085000@fayaltwp.org
SUMMARY:Town Board Meeting
DESCRIPTION:Meeting lengths may vary
URL:https://fayaltwp.org/event/town-board-meeting-2/2026-08-18/
END:VEVENT
BEGIN:VEVENT
DTSTART;TZID=America/Chicago:20260819T093000
DTEND;TZID=America/Chicago:20260819T103000
DTSTAMP:20260424T032447
CREATED:20240207T174449Z
LAST-MODIFIED:20260317T185548Z
UID:10001726-1787131800-1787135400@fayaltwp.org
SUMMARY:Aerobics
DESCRIPTION:
URL:https://fayaltwp.org/event/aerobics/2026-08-19/
END:VEVENT
BEGIN:VEVENT
DTSTART;TZID=America/Chicago:20260820T093000
DTEND;TZID=America/Chicago:20260820T223000
DTSTAMP:20260424T032447
CREATED:20260112T180331Z
LAST-MODIFIED:20260317T190351Z
UID:10003507-1787218200-1787265000@fayaltwp.org
SUMMARY:Yoga
DESCRIPTION:
URL:https://fayaltwp.org/event/yoga-2-2/2026-08-20/
END:VEVENT
BEGIN:VEVENT
DTSTART;TZID=America/Chicago:20260820T183000
DTEND;TZID=America/Chicago:20260820T200000
DTSTAMP:20260424T032447
CREATED:20190917T020221Z
LAST-MODIFIED:20250110T151531Z
UID:10003084-1787250600-1787256000@fayaltwp.org
SUMMARY:Eveleth-Fayal Garden Club
DESCRIPTION:Meeting lengths may vary
URL:https://fayaltwp.org/event/eveleth-fayal-garden-club/2026-08-20/
END:VEVENT
BEGIN:VEVENT
DTSTART;TZID=America/Chicago:20260821T093000
DTEND;TZID=America/Chicago:20260821T103000
DTSTAMP:20260424T032447
CREATED:20240207T174449Z
LAST-MODIFIED:20260317T185548Z
UID:10001727-1787304600-1787308200@fayaltwp.org
SUMMARY:Aerobics
DESCRIPTION:
URL:https://fayaltwp.org/event/aerobics/2026-08-21/
END:VEVENT
BEGIN:VEVENT
DTSTART;TZID=America/Chicago:20260824T093000
DTEND;TZID=America/Chicago:20260824T103000
DTSTAMP:20260424T032447
CREATED:20240207T174449Z
LAST-MODIFIED:20260317T185548Z
UID:10001728-1787563800-1787567400@fayaltwp.org
SUMMARY:Aerobics
DESCRIPTION:
URL:https://fayaltwp.org/event/aerobics/2026-08-24/
END:VEVENT
BEGIN:VEVENT
DTSTART;TZID=America/Chicago:20260824T160000
DTEND;TZID=America/Chicago:20260824T183000
DTSTAMP:20260424T032447
CREATED:20250905T131821Z
LAST-MODIFIED:20250905T131821Z
UID:10003769-1787587200-1787596200@fayaltwp.org
SUMMARY:T.O.P.S.
DESCRIPTION:
URL:https://fayaltwp.org/event/t-o-p-s/2026-08-24/
END:VEVENT
BEGIN:VEVENT
DTSTART;TZID=America/Chicago:20260826T093000
DTEND;TZID=America/Chicago:20260826T103000
DTSTAMP:20260424T032447
CREATED:20240207T174449Z
LAST-MODIFIED:20260317T185548Z
UID:10001729-1787736600-1787740200@fayaltwp.org
SUMMARY:Aerobics
DESCRIPTION:
URL:https://fayaltwp.org/event/aerobics/2026-08-26/
END:VEVENT
BEGIN:VEVENT
DTSTART;TZID=America/Chicago:20260827T093000
DTEND;TZID=America/Chicago:20260827T223000
DTSTAMP:20260424T032447
CREATED:20260112T180331Z
LAST-MODIFIED:20260317T190351Z
UID:10003508-1787823000-1787869800@fayaltwp.org
SUMMARY:Yoga
DESCRIPTION:
URL:https://fayaltwp.org/event/yoga-2-2/2026-08-27/
END:VEVENT
BEGIN:VEVENT
DTSTART;TZID=America/Chicago:20260828T093000
DTEND;TZID=America/Chicago:20260828T103000
DTSTAMP:20260424T032447
CREATED:20240207T174449Z
LAST-MODIFIED:20260317T185548Z
UID:10001730-1787909400-1787913000@fayaltwp.org
SUMMARY:Aerobics
DESCRIPTION:
URL:https://fayaltwp.org/event/aerobics/2026-08-28/
END:VEVENT
BEGIN:VEVENT
DTSTART;TZID=America/Chicago:20260831T093000
DTEND;TZID=America/Chicago:20260831T103000
DTSTAMP:20260424T032447
CREATED:20240207T174449Z
LAST-MODIFIED:20260317T185548Z
UID:10001731-1788168600-1788172200@fayaltwp.org
SUMMARY:Aerobics
DESCRIPTION:
URL:https://fayaltwp.org/event/aerobics/2026-08-31/
END:VEVENT
BEGIN:VEVENT
DTSTART;TZID=America/Chicago:20260831T160000
DTEND;TZID=America/Chicago:20260831T183000
DTSTAMP:20260424T032447
CREATED:20250905T131821Z
LAST-MODIFIED:20250905T131821Z
UID:10003770-1788192000-1788201000@fayaltwp.org
SUMMARY:T.O.P.S.
DESCRIPTION:
URL:https://fayaltwp.org/event/t-o-p-s/2026-08-31/
END:VEVENT
BEGIN:VEVENT
DTSTART;TZID=America/Chicago:20260901T190000
DTEND;TZID=America/Chicago:20260901T203000
DTSTAMP:20260424T032447
CREATED:20240213T194504Z
LAST-MODIFIED:20250318T164658Z
UID:10002419-1788289200-1788294600@fayaltwp.org
SUMMARY:Town Board Meeting
DESCRIPTION:Meeting lengths may vary
URL:https://fayaltwp.org/event/town-board-meeting-3/2026-09-01/
END:VEVENT
BEGIN:VEVENT
DTSTART;TZID=America/Chicago:20260902T093000
DTEND;TZID=America/Chicago:20260902T103000
DTSTAMP:20260424T032447
CREATED:20240207T174449Z
LAST-MODIFIED:20260317T185548Z
UID:10001732-1788341400-1788345000@fayaltwp.org
SUMMARY:Aerobics
DESCRIPTION:
URL:https://fayaltwp.org/event/aerobics/2026-09-02/
END:VEVENT
BEGIN:VEVENT
DTSTART;TZID=America/Chicago:20260903T093000
DTEND;TZID=America/Chicago:20260903T223000
DTSTAMP:20260424T032447
CREATED:20260112T180331Z
LAST-MODIFIED:20260317T190351Z
UID:10003509-1788427800-1788474600@fayaltwp.org
SUMMARY:Yoga
DESCRIPTION:
URL:https://fayaltwp.org/event/yoga-2-2/2026-09-03/
END:VEVENT
BEGIN:VEVENT
DTSTART;TZID=America/Chicago:20260904T093000
DTEND;TZID=America/Chicago:20260904T103000
DTSTAMP:20260424T032447
CREATED:20240207T174449Z
LAST-MODIFIED:20260317T185548Z
UID:10001733-1788514200-1788517800@fayaltwp.org
SUMMARY:Aerobics
DESCRIPTION:
URL:https://fayaltwp.org/event/aerobics/2026-09-04/
END:VEVENT
BEGIN:VEVENT
DTSTART;TZID=America/Chicago:20260907T093000
DTEND;TZID=America/Chicago:20260907T103000
DTSTAMP:20260424T032447
CREATED:20240207T174449Z
LAST-MODIFIED:20260317T185548Z
UID:10001734-1788773400-1788777000@fayaltwp.org
SUMMARY:Aerobics
DESCRIPTION:
URL:https://fayaltwp.org/event/aerobics/2026-09-07/
END:VEVENT
BEGIN:VEVENT
DTSTART;TZID=America/Chicago:20260907T160000
DTEND;TZID=America/Chicago:20260907T183000
DTSTAMP:20260424T032447
CREATED:20250905T131821Z
LAST-MODIFIED:20250905T131821Z
UID:10003771-1788796800-1788805800@fayaltwp.org
SUMMARY:T.O.P.S.
DESCRIPTION:
URL:https://fayaltwp.org/event/t-o-p-s/2026-09-07/
END:VEVENT
BEGIN:VEVENT
DTSTART;TZID=America/Chicago:20260908T180000
DTEND;TZID=America/Chicago:20260908T190000
DTSTAMP:20260424T032447
CREATED:20240213T194019Z
LAST-MODIFIED:20240718T171231Z
UID:10002371-1788890400-1788894000@fayaltwp.org
SUMMARY:Public Utility Meetings
DESCRIPTION:Meeting lengths may vary
URL:https://fayaltwp.org/event/public-utility-meetings-2-2/2026-09-08/
END:VEVENT
BEGIN:VEVENT
DTSTART;TZID=America/Chicago:20260909T093000
DTEND;TZID=America/Chicago:20260909T103000
DTSTAMP:20260424T032447
CREATED:20240207T174449Z
LAST-MODIFIED:20260317T185548Z
UID:10001735-1788946200-1788949800@fayaltwp.org
SUMMARY:Aerobics
DESCRIPTION:
URL:https://fayaltwp.org/event/aerobics/2026-09-09/
END:VEVENT
BEGIN:VEVENT
DTSTART;TZID=America/Chicago:20260910T093000
DTEND;TZID=America/Chicago:20260910T223000
DTSTAMP:20260424T032447
CREATED:20260112T180331Z
LAST-MODIFIED:20260317T190351Z
UID:10003510-1789032600-1789079400@fayaltwp.org
SUMMARY:Yoga
DESCRIPTION:
URL:https://fayaltwp.org/event/yoga-2-2/2026-09-10/
END:VEVENT
BEGIN:VEVENT
DTSTART;TZID=America/Chicago:20260911T093000
DTEND;TZID=America/Chicago:20260911T103000
DTSTAMP:20260424T032447
CREATED:20240207T174449Z
LAST-MODIFIED:20260317T185548Z
UID:10001736-1789119000-1789122600@fayaltwp.org
SUMMARY:Aerobics
DESCRIPTION:
URL:https://fayaltwp.org/event/aerobics/2026-09-11/
END:VEVENT
BEGIN:VEVENT
DTSTART;TZID=America/Chicago:20260914T093000
DTEND;TZID=America/Chicago:20260914T103000
DTSTAMP:20260424T032447
CREATED:20240207T174449Z
LAST-MODIFIED:20260317T185548Z
UID:10001737-1789378200-1789381800@fayaltwp.org
SUMMARY:Aerobics
DESCRIPTION:
URL:https://fayaltwp.org/event/aerobics/2026-09-14/
END:VEVENT
BEGIN:VEVENT
DTSTART;TZID=America/Chicago:20260914T120000
DTEND;TZID=America/Chicago:20260914T140000
DTSTAMP:20260424T032447
CREATED:20240207T175425Z
LAST-MODIFIED:20240718T172046Z
UID:10002148-1789387200-1789394400@fayaltwp.org
SUMMARY:Sororiety Meeting
DESCRIPTION:
URL:https://fayaltwp.org/event/sororiety-meeting/2026-09-14/
END:VEVENT
BEGIN:VEVENT
DTSTART;TZID=America/Chicago:20260914T160000
DTEND;TZID=America/Chicago:20260914T183000
DTSTAMP:20260424T032447
CREATED:20250905T131821Z
LAST-MODIFIED:20250905T131821Z
UID:10003772-1789401600-1789410600@fayaltwp.org
SUMMARY:T.O.P.S.
DESCRIPTION:
URL:https://fayaltwp.org/event/t-o-p-s/2026-09-14/
END:VEVENT
BEGIN:VEVENT
DTSTART;TZID=America/Chicago:20260915T190000
DTEND;TZID=America/Chicago:20260915T203000
DTSTAMP:20260424T032447
CREATED:20230727T144614Z
LAST-MODIFIED:20250115T222032Z
UID:10003360-1789498800-1789504200@fayaltwp.org
SUMMARY:Town Board Meeting
DESCRIPTION:Meeting lengths may vary
URL:https://fayaltwp.org/event/town-board-meeting-2/2026-09-15/
END:VEVENT
END:VCALENDAR