BEGIN:VCALENDAR
VERSION:2.0
PRODID:-//Fayal Twp - ECPv6.15.17.1//NONSGML v1.0//EN
CALSCALE:GREGORIAN
METHOD:PUBLISH
X-ORIGINAL-URL:https://fayaltwp.org
X-WR-CALDESC:Events for Fayal Twp
REFRESH-INTERVAL;VALUE=DURATION:PT1H
X-Robots-Tag:noindex
X-PUBLISHED-TTL:PT1H
BEGIN:VTIMEZONE
TZID:America/Chicago
BEGIN:DAYLIGHT
TZOFFSETFROM:-0600
TZOFFSETTO:-0500
TZNAME:CDT
DTSTART:20250309T080000
END:DAYLIGHT
BEGIN:STANDARD
TZOFFSETFROM:-0500
TZOFFSETTO:-0600
TZNAME:CST
DTSTART:20251102T070000
END:STANDARD
BEGIN:DAYLIGHT
TZOFFSETFROM:-0600
TZOFFSETTO:-0500
TZNAME:CDT
DTSTART:20260308T080000
END:DAYLIGHT
BEGIN:STANDARD
TZOFFSETFROM:-0500
TZOFFSETTO:-0600
TZNAME:CST
DTSTART:20261101T070000
END:STANDARD
BEGIN:DAYLIGHT
TZOFFSETFROM:-0600
TZOFFSETTO:-0500
TZNAME:CDT
DTSTART:20270314T080000
END:DAYLIGHT
BEGIN:STANDARD
TZOFFSETFROM:-0500
TZOFFSETTO:-0600
TZNAME:CST
DTSTART:20271107T070000
END:STANDARD
BEGIN:DAYLIGHT
TZOFFSETFROM:-0600
TZOFFSETTO:-0500
TZNAME:CDT
DTSTART:20280312T080000
END:DAYLIGHT
BEGIN:STANDARD
TZOFFSETFROM:-0500
TZOFFSETTO:-0600
TZNAME:CST
DTSTART:20281105T070000
END:STANDARD
END:VTIMEZONE
BEGIN:VEVENT
DTSTART;TZID=America/Chicago:20261230T093000
DTEND;TZID=America/Chicago:20261230T103000
DTSTAMP:20260425T103353
CREATED:20240207T174449Z
LAST-MODIFIED:20260317T185548Z
UID:10001783-1798623000-1798626600@fayaltwp.org
SUMMARY:Aerobics
DESCRIPTION:
URL:https://fayaltwp.org/event/aerobics/2026-12-30/
END:VEVENT
BEGIN:VEVENT
DTSTART;TZID=America/Chicago:20261231T093000
DTEND;TZID=America/Chicago:20261231T223000
DTSTAMP:20260425T103353
CREATED:20260112T180331Z
LAST-MODIFIED:20260317T190351Z
UID:10003526-1798709400-1798756200@fayaltwp.org
SUMMARY:Yoga
DESCRIPTION:
URL:https://fayaltwp.org/event/yoga-2-2/2026-12-31/
END:VEVENT
BEGIN:VEVENT
DTSTART;TZID=America/Chicago:20270101T093000
DTEND;TZID=America/Chicago:20270101T103000
DTSTAMP:20260425T103353
CREATED:20240207T174449Z
LAST-MODIFIED:20260317T185548Z
UID:10001784-1798795800-1798799400@fayaltwp.org
SUMMARY:Aerobics
DESCRIPTION:
URL:https://fayaltwp.org/event/aerobics/2027-01-01/
END:VEVENT
BEGIN:VEVENT
DTSTART;TZID=America/Chicago:20270104T093000
DTEND;TZID=America/Chicago:20270104T103000
DTSTAMP:20260425T103353
CREATED:20240207T174449Z
LAST-MODIFIED:20260317T185548Z
UID:10001785-1799055000-1799058600@fayaltwp.org
SUMMARY:Aerobics
DESCRIPTION:
URL:https://fayaltwp.org/event/aerobics/2027-01-04/
END:VEVENT
BEGIN:VEVENT
DTSTART;TZID=America/Chicago:20270104T160000
DTEND;TZID=America/Chicago:20270104T183000
DTSTAMP:20260425T103353
CREATED:20250905T131821Z
LAST-MODIFIED:20250905T131821Z
UID:10003788-1799078400-1799087400@fayaltwp.org
SUMMARY:T.O.P.S.
DESCRIPTION:
URL:https://fayaltwp.org/event/t-o-p-s/2027-01-04/
END:VEVENT
BEGIN:VEVENT
DTSTART;TZID=America/Chicago:20270105T190000
DTEND;TZID=America/Chicago:20270105T203000
DTSTAMP:20260425T103353
CREATED:20240213T194504Z
LAST-MODIFIED:20250318T164658Z
UID:10002423-1799175600-1799181000@fayaltwp.org
SUMMARY:Town Board Meeting
DESCRIPTION:Meeting lengths may vary
URL:https://fayaltwp.org/event/town-board-meeting-3/2027-01-05/
END:VEVENT
BEGIN:VEVENT
DTSTART;TZID=America/Chicago:20270106T093000
DTEND;TZID=America/Chicago:20270106T103000
DTSTAMP:20260425T103353
CREATED:20240207T174449Z
LAST-MODIFIED:20260317T185548Z
UID:10001786-1799227800-1799231400@fayaltwp.org
SUMMARY:Aerobics
DESCRIPTION:
URL:https://fayaltwp.org/event/aerobics/2027-01-06/
END:VEVENT
BEGIN:VEVENT
DTSTART;TZID=America/Chicago:20270107T093000
DTEND;TZID=America/Chicago:20270107T223000
DTSTAMP:20260425T103353
CREATED:20260112T180331Z
LAST-MODIFIED:20260317T190351Z
UID:10003527-1799314200-1799361000@fayaltwp.org
SUMMARY:Yoga
DESCRIPTION:
URL:https://fayaltwp.org/event/yoga-2-2/2027-01-07/
END:VEVENT
BEGIN:VEVENT
DTSTART;TZID=America/Chicago:20270108T093000
DTEND;TZID=America/Chicago:20270108T103000
DTSTAMP:20260425T103353
CREATED:20240207T174449Z
LAST-MODIFIED:20260317T185548Z
UID:10001787-1799400600-1799404200@fayaltwp.org
SUMMARY:Aerobics
DESCRIPTION:
URL:https://fayaltwp.org/event/aerobics/2027-01-08/
END:VEVENT
BEGIN:VEVENT
DTSTART;TZID=America/Chicago:20270111T093000
DTEND;TZID=America/Chicago:20270111T103000
DTSTAMP:20260425T103353
CREATED:20240207T174449Z
LAST-MODIFIED:20260317T185548Z
UID:10001788-1799659800-1799663400@fayaltwp.org
SUMMARY:Aerobics
DESCRIPTION:
URL:https://fayaltwp.org/event/aerobics/2027-01-11/
END:VEVENT
BEGIN:VEVENT
DTSTART;TZID=America/Chicago:20270111T120000
DTEND;TZID=America/Chicago:20270111T140000
DTSTAMP:20260425T103353
CREATED:20240207T175425Z
LAST-MODIFIED:20240718T172046Z
UID:10002152-1799668800-1799676000@fayaltwp.org
SUMMARY:Sororiety Meeting
DESCRIPTION:
URL:https://fayaltwp.org/event/sororiety-meeting/2027-01-11/
END:VEVENT
BEGIN:VEVENT
DTSTART;TZID=America/Chicago:20270111T160000
DTEND;TZID=America/Chicago:20270111T183000
DTSTAMP:20260425T103353
CREATED:20250905T131821Z
LAST-MODIFIED:20250905T131821Z
UID:10003789-1799683200-1799692200@fayaltwp.org
SUMMARY:T.O.P.S.
DESCRIPTION:
URL:https://fayaltwp.org/event/t-o-p-s/2027-01-11/
END:VEVENT
BEGIN:VEVENT
DTSTART;TZID=America/Chicago:20270112T180000
DTEND;TZID=America/Chicago:20270112T190000
DTSTAMP:20260425T103353
CREATED:20240213T194019Z
LAST-MODIFIED:20240718T171231Z
UID:10002375-1799776800-1799780400@fayaltwp.org
SUMMARY:Public Utility Meetings
DESCRIPTION:Meeting lengths may vary
URL:https://fayaltwp.org/event/public-utility-meetings-2-2/2027-01-12/
END:VEVENT
BEGIN:VEVENT
DTSTART;TZID=America/Chicago:20270113T093000
DTEND;TZID=America/Chicago:20270113T103000
DTSTAMP:20260425T103353
CREATED:20240207T174449Z
LAST-MODIFIED:20260317T185548Z
UID:10001789-1799832600-1799836200@fayaltwp.org
SUMMARY:Aerobics
DESCRIPTION:
URL:https://fayaltwp.org/event/aerobics/2027-01-13/
END:VEVENT
BEGIN:VEVENT
DTSTART;TZID=America/Chicago:20270114T093000
DTEND;TZID=America/Chicago:20270114T223000
DTSTAMP:20260425T103353
CREATED:20260112T180331Z
LAST-MODIFIED:20260317T190351Z
UID:10003528-1799919000-1799965800@fayaltwp.org
SUMMARY:Yoga
DESCRIPTION:
URL:https://fayaltwp.org/event/yoga-2-2/2027-01-14/
END:VEVENT
BEGIN:VEVENT
DTSTART;TZID=America/Chicago:20270115T093000
DTEND;TZID=America/Chicago:20270115T103000
DTSTAMP:20260425T103353
CREATED:20240207T174449Z
LAST-MODIFIED:20260317T185548Z
UID:10001790-1800005400-1800009000@fayaltwp.org
SUMMARY:Aerobics
DESCRIPTION:
URL:https://fayaltwp.org/event/aerobics/2027-01-15/
END:VEVENT
BEGIN:VEVENT
DTSTART;TZID=America/Chicago:20270118T093000
DTEND;TZID=America/Chicago:20270118T103000
DTSTAMP:20260425T103353
CREATED:20240207T174449Z
LAST-MODIFIED:20260317T185548Z
UID:10001791-1800264600-1800268200@fayaltwp.org
SUMMARY:Aerobics
DESCRIPTION:
URL:https://fayaltwp.org/event/aerobics/2027-01-18/
END:VEVENT
BEGIN:VEVENT
DTSTART;TZID=America/Chicago:20270118T160000
DTEND;TZID=America/Chicago:20270118T183000
DTSTAMP:20260425T103353
CREATED:20250905T131821Z
LAST-MODIFIED:20250905T131821Z
UID:10003790-1800288000-1800297000@fayaltwp.org
SUMMARY:T.O.P.S.
DESCRIPTION:
URL:https://fayaltwp.org/event/t-o-p-s/2027-01-18/
END:VEVENT
BEGIN:VEVENT
DTSTART;TZID=America/Chicago:20270119T190000
DTEND;TZID=America/Chicago:20270119T203000
DTSTAMP:20260425T103353
CREATED:20230727T144614Z
LAST-MODIFIED:20250115T222032Z
UID:10003364-1800385200-1800390600@fayaltwp.org
SUMMARY:Town Board Meeting
DESCRIPTION:Meeting lengths may vary
URL:https://fayaltwp.org/event/town-board-meeting-2/2027-01-19/
END:VEVENT
BEGIN:VEVENT
DTSTART;TZID=America/Chicago:20270120T093000
DTEND;TZID=America/Chicago:20270120T103000
DTSTAMP:20260425T103353
CREATED:20240207T174449Z
LAST-MODIFIED:20260317T185548Z
UID:10001792-1800437400-1800441000@fayaltwp.org
SUMMARY:Aerobics
DESCRIPTION:
URL:https://fayaltwp.org/event/aerobics/2027-01-20/
END:VEVENT
BEGIN:VEVENT
DTSTART;TZID=America/Chicago:20270121T093000
DTEND;TZID=America/Chicago:20270121T223000
DTSTAMP:20260425T103353
CREATED:20260112T180331Z
LAST-MODIFIED:20260317T190351Z
UID:10003529-1800523800-1800570600@fayaltwp.org
SUMMARY:Yoga
DESCRIPTION:
URL:https://fayaltwp.org/event/yoga-2-2/2027-01-21/
END:VEVENT
BEGIN:VEVENT
DTSTART;TZID=America/Chicago:20270121T183000
DTEND;TZID=America/Chicago:20270121T200000
DTSTAMP:20260425T103353
CREATED:20190917T020221Z
LAST-MODIFIED:20250110T151531Z
UID:10003089-1800556200-1800561600@fayaltwp.org
SUMMARY:Eveleth-Fayal Garden Club
DESCRIPTION:Meeting lengths may vary
URL:https://fayaltwp.org/event/eveleth-fayal-garden-club/2027-01-21/
END:VEVENT
BEGIN:VEVENT
DTSTART;TZID=America/Chicago:20270122T093000
DTEND;TZID=America/Chicago:20270122T103000
DTSTAMP:20260425T103353
CREATED:20240207T174449Z
LAST-MODIFIED:20260317T185548Z
UID:10001793-1800610200-1800613800@fayaltwp.org
SUMMARY:Aerobics
DESCRIPTION:
URL:https://fayaltwp.org/event/aerobics/2027-01-22/
END:VEVENT
BEGIN:VEVENT
DTSTART;TZID=America/Chicago:20270125T093000
DTEND;TZID=America/Chicago:20270125T103000
DTSTAMP:20260425T103353
CREATED:20240207T174449Z
LAST-MODIFIED:20260317T185548Z
UID:10001794-1800869400-1800873000@fayaltwp.org
SUMMARY:Aerobics
DESCRIPTION:
URL:https://fayaltwp.org/event/aerobics/2027-01-25/
END:VEVENT
BEGIN:VEVENT
DTSTART;TZID=America/Chicago:20270125T160000
DTEND;TZID=America/Chicago:20270125T183000
DTSTAMP:20260425T103353
CREATED:20250905T131821Z
LAST-MODIFIED:20250905T131821Z
UID:10003791-1800892800-1800901800@fayaltwp.org
SUMMARY:T.O.P.S.
DESCRIPTION:
URL:https://fayaltwp.org/event/t-o-p-s/2027-01-25/
END:VEVENT
BEGIN:VEVENT
DTSTART;TZID=America/Chicago:20270127T093000
DTEND;TZID=America/Chicago:20270127T103000
DTSTAMP:20260425T103353
CREATED:20240207T174449Z
LAST-MODIFIED:20260317T185548Z
UID:10001795-1801042200-1801045800@fayaltwp.org
SUMMARY:Aerobics
DESCRIPTION:
URL:https://fayaltwp.org/event/aerobics/2027-01-27/
END:VEVENT
BEGIN:VEVENT
DTSTART;TZID=America/Chicago:20270128T093000
DTEND;TZID=America/Chicago:20270128T223000
DTSTAMP:20260425T103353
CREATED:20260112T180331Z
LAST-MODIFIED:20260317T190351Z
UID:10003530-1801128600-1801175400@fayaltwp.org
SUMMARY:Yoga
DESCRIPTION:
URL:https://fayaltwp.org/event/yoga-2-2/2027-01-28/
END:VEVENT
BEGIN:VEVENT
DTSTART;TZID=America/Chicago:20270129T093000
DTEND;TZID=America/Chicago:20270129T103000
DTSTAMP:20260425T103353
CREATED:20240207T174449Z
LAST-MODIFIED:20260317T185548Z
UID:10001796-1801215000-1801218600@fayaltwp.org
SUMMARY:Aerobics
DESCRIPTION:
URL:https://fayaltwp.org/event/aerobics/2027-01-29/
END:VEVENT
BEGIN:VEVENT
DTSTART;TZID=America/Chicago:20270201T093000
DTEND;TZID=America/Chicago:20270201T103000
DTSTAMP:20260425T103353
CREATED:20240207T174449Z
LAST-MODIFIED:20260317T185548Z
UID:10001797-1801474200-1801477800@fayaltwp.org
SUMMARY:Aerobics
DESCRIPTION:
URL:https://fayaltwp.org/event/aerobics/2027-02-01/
END:VEVENT
BEGIN:VEVENT
DTSTART;TZID=America/Chicago:20270201T160000
DTEND;TZID=America/Chicago:20270201T183000
DTSTAMP:20260425T103353
CREATED:20250905T131821Z
LAST-MODIFIED:20250905T131821Z
UID:10003792-1801497600-1801506600@fayaltwp.org
SUMMARY:T.O.P.S.
DESCRIPTION:
URL:https://fayaltwp.org/event/t-o-p-s/2027-02-01/
END:VEVENT
END:VCALENDAR