BEGIN:VCALENDAR
VERSION:2.0
PRODID:-//Fayal Twp - ECPv6.15.17.1//NONSGML v1.0//EN
CALSCALE:GREGORIAN
METHOD:PUBLISH
X-ORIGINAL-URL:https://fayaltwp.org
X-WR-CALDESC:Events for Fayal Twp
REFRESH-INTERVAL;VALUE=DURATION:PT1H
X-Robots-Tag:noindex
X-PUBLISHED-TTL:PT1H
BEGIN:VTIMEZONE
TZID:America/Chicago
BEGIN:DAYLIGHT
TZOFFSETFROM:-0600
TZOFFSETTO:-0500
TZNAME:CDT
DTSTART:20250309T080000
END:DAYLIGHT
BEGIN:STANDARD
TZOFFSETFROM:-0500
TZOFFSETTO:-0600
TZNAME:CST
DTSTART:20251102T070000
END:STANDARD
BEGIN:DAYLIGHT
TZOFFSETFROM:-0600
TZOFFSETTO:-0500
TZNAME:CDT
DTSTART:20260308T080000
END:DAYLIGHT
BEGIN:STANDARD
TZOFFSETFROM:-0500
TZOFFSETTO:-0600
TZNAME:CST
DTSTART:20261101T070000
END:STANDARD
BEGIN:DAYLIGHT
TZOFFSETFROM:-0600
TZOFFSETTO:-0500
TZNAME:CDT
DTSTART:20270314T080000
END:DAYLIGHT
BEGIN:STANDARD
TZOFFSETFROM:-0500
TZOFFSETTO:-0600
TZNAME:CST
DTSTART:20271107T070000
END:STANDARD
END:VTIMEZONE
BEGIN:VEVENT
DTSTART;TZID=America/Chicago:20260608T120000
DTEND;TZID=America/Chicago:20260608T140000
DTSTAMP:20260425T070825
CREATED:20240207T175425Z
LAST-MODIFIED:20240718T172046Z
UID:10002145-1780920000-1780927200@fayaltwp.org
SUMMARY:Sororiety Meeting
DESCRIPTION:
URL:https://fayaltwp.org/event/sororiety-meeting/2026-06-08/
END:VEVENT
BEGIN:VEVENT
DTSTART;TZID=America/Chicago:20260608T160000
DTEND;TZID=America/Chicago:20260608T183000
DTSTAMP:20260425T070825
CREATED:20250905T131821Z
LAST-MODIFIED:20250905T131821Z
UID:10003758-1780934400-1780943400@fayaltwp.org
SUMMARY:T.O.P.S.
DESCRIPTION:
URL:https://fayaltwp.org/event/t-o-p-s/2026-06-08/
END:VEVENT
BEGIN:VEVENT
DTSTART;TZID=America/Chicago:20260609T180000
DTEND;TZID=America/Chicago:20260609T190000
DTSTAMP:20260425T070825
CREATED:20240213T194019Z
LAST-MODIFIED:20240718T171231Z
UID:10002368-1781028000-1781031600@fayaltwp.org
SUMMARY:Public Utility Meetings
DESCRIPTION:Meeting lengths may vary
URL:https://fayaltwp.org/event/public-utility-meetings-2-2/2026-06-09/
END:VEVENT
BEGIN:VEVENT
DTSTART;TZID=America/Chicago:20260610T093000
DTEND;TZID=America/Chicago:20260610T103000
DTSTAMP:20260425T070825
CREATED:20240207T174449Z
LAST-MODIFIED:20260317T185548Z
UID:10001696-1781083800-1781087400@fayaltwp.org
SUMMARY:Aerobics
DESCRIPTION:
URL:https://fayaltwp.org/event/aerobics/2026-06-10/
END:VEVENT
BEGIN:VEVENT
DTSTART;TZID=America/Chicago:20260611T093000
DTEND;TZID=America/Chicago:20260611T223000
DTSTAMP:20260425T070825
CREATED:20260112T180331Z
LAST-MODIFIED:20260317T190351Z
UID:10003497-1781170200-1781217000@fayaltwp.org
SUMMARY:Yoga
DESCRIPTION:
URL:https://fayaltwp.org/event/yoga-2-2/2026-06-11/
END:VEVENT
BEGIN:VEVENT
DTSTART;VALUE=DATE:20260612
DTEND;VALUE=DATE:20260614
DTSTAMP:20260425T070825
CREATED:20260112T180017Z
LAST-MODIFIED:20260112T180017Z
UID:10004011-1781240400-1781326799@fayaltwp.org
SUMMARY:Town Hall Rented
DESCRIPTION:
URL:https://fayaltwp.org/event/town-hall-rented-166/
END:VEVENT
BEGIN:VEVENT
DTSTART;TZID=America/Chicago:20260612T093000
DTEND;TZID=America/Chicago:20260612T103000
DTSTAMP:20260425T070825
CREATED:20240207T174449Z
LAST-MODIFIED:20260317T185548Z
UID:10001697-1781256600-1781260200@fayaltwp.org
SUMMARY:Aerobics
DESCRIPTION:
URL:https://fayaltwp.org/event/aerobics/2026-06-12/
END:VEVENT
BEGIN:VEVENT
DTSTART;VALUE=DATE:20260613
DTEND;VALUE=DATE:20260615
DTSTAMP:20260425T070825
CREATED:20260112T180032Z
LAST-MODIFIED:20260112T180032Z
UID:10004012-1781326800-1781413199@fayaltwp.org
SUMMARY:Town Hall Rented
DESCRIPTION:
URL:https://fayaltwp.org/event/town-hall-rented-167/
END:VEVENT
BEGIN:VEVENT
DTSTART;VALUE=DATE:20260614
DTEND;VALUE=DATE:20260616
DTSTAMP:20260425T070825
CREATED:20260408T174323Z
LAST-MODIFIED:20260408T174323Z
UID:10004376-1781413200-1781499599@fayaltwp.org
SUMMARY:Town Hall Rental
DESCRIPTION:
URL:https://fayaltwp.org/event/town-hall-rental-6/
END:VEVENT
BEGIN:VEVENT
DTSTART;TZID=America/Chicago:20260615T093000
DTEND;TZID=America/Chicago:20260615T103000
DTSTAMP:20260425T070825
CREATED:20240207T174449Z
LAST-MODIFIED:20260317T185548Z
UID:10001698-1781515800-1781519400@fayaltwp.org
SUMMARY:Aerobics
DESCRIPTION:
URL:https://fayaltwp.org/event/aerobics/2026-06-15/
END:VEVENT
BEGIN:VEVENT
DTSTART;TZID=America/Chicago:20260615T160000
DTEND;TZID=America/Chicago:20260615T183000
DTSTAMP:20260425T070825
CREATED:20250905T131821Z
LAST-MODIFIED:20250905T131821Z
UID:10003759-1781539200-1781548200@fayaltwp.org
SUMMARY:T.O.P.S.
DESCRIPTION:
URL:https://fayaltwp.org/event/t-o-p-s/2026-06-15/
END:VEVENT
BEGIN:VEVENT
DTSTART;TZID=America/Chicago:20260616T190000
DTEND;TZID=America/Chicago:20260616T203000
DTSTAMP:20260425T070825
CREATED:20230727T144614Z
LAST-MODIFIED:20250115T222032Z
UID:10003357-1781636400-1781641800@fayaltwp.org
SUMMARY:Town Board Meeting
DESCRIPTION:Meeting lengths may vary
URL:https://fayaltwp.org/event/town-board-meeting-2/2026-06-16/
END:VEVENT
BEGIN:VEVENT
DTSTART;TZID=America/Chicago:20260617T093000
DTEND;TZID=America/Chicago:20260617T103000
DTSTAMP:20260425T070825
CREATED:20240207T174449Z
LAST-MODIFIED:20260317T185548Z
UID:10001699-1781688600-1781692200@fayaltwp.org
SUMMARY:Aerobics
DESCRIPTION:
URL:https://fayaltwp.org/event/aerobics/2026-06-17/
END:VEVENT
BEGIN:VEVENT
DTSTART;TZID=America/Chicago:20260618T093000
DTEND;TZID=America/Chicago:20260618T223000
DTSTAMP:20260425T070825
CREATED:20260112T180331Z
LAST-MODIFIED:20260317T190351Z
UID:10003498-1781775000-1781821800@fayaltwp.org
SUMMARY:Yoga
DESCRIPTION:
URL:https://fayaltwp.org/event/yoga-2-2/2026-06-18/
END:VEVENT
BEGIN:VEVENT
DTSTART;TZID=America/Chicago:20260618T183000
DTEND;TZID=America/Chicago:20260618T200000
DTSTAMP:20260425T070825
CREATED:20190917T020221Z
LAST-MODIFIED:20250110T151531Z
UID:10003083-1781807400-1781812800@fayaltwp.org
SUMMARY:Eveleth-Fayal Garden Club
DESCRIPTION:Meeting lengths may vary
URL:https://fayaltwp.org/event/eveleth-fayal-garden-club/2026-06-18/
END:VEVENT
BEGIN:VEVENT
DTSTART;TZID=America/Chicago:20260619T093000
DTEND;TZID=America/Chicago:20260619T103000
DTSTAMP:20260425T070825
CREATED:20240207T174449Z
LAST-MODIFIED:20260317T185548Z
UID:10001700-1781861400-1781865000@fayaltwp.org
SUMMARY:Aerobics
DESCRIPTION:
URL:https://fayaltwp.org/event/aerobics/2026-06-19/
END:VEVENT
BEGIN:VEVENT
DTSTART;TZID=America/Chicago:20260622T093000
DTEND;TZID=America/Chicago:20260622T103000
DTSTAMP:20260425T070825
CREATED:20240207T174449Z
LAST-MODIFIED:20260317T185548Z
UID:10001701-1782120600-1782124200@fayaltwp.org
SUMMARY:Aerobics
DESCRIPTION:
URL:https://fayaltwp.org/event/aerobics/2026-06-22/
END:VEVENT
BEGIN:VEVENT
DTSTART;TZID=America/Chicago:20260622T160000
DTEND;TZID=America/Chicago:20260622T183000
DTSTAMP:20260425T070825
CREATED:20250905T131821Z
LAST-MODIFIED:20250905T131821Z
UID:10003760-1782144000-1782153000@fayaltwp.org
SUMMARY:T.O.P.S.
DESCRIPTION:
URL:https://fayaltwp.org/event/t-o-p-s/2026-06-22/
END:VEVENT
BEGIN:VEVENT
DTSTART;TZID=America/Chicago:20260624T093000
DTEND;TZID=America/Chicago:20260624T103000
DTSTAMP:20260425T070825
CREATED:20240207T174449Z
LAST-MODIFIED:20260317T185548Z
UID:10001702-1782293400-1782297000@fayaltwp.org
SUMMARY:Aerobics
DESCRIPTION:
URL:https://fayaltwp.org/event/aerobics/2026-06-24/
END:VEVENT
BEGIN:VEVENT
DTSTART;TZID=America/Chicago:20260625T093000
DTEND;TZID=America/Chicago:20260625T223000
DTSTAMP:20260425T070825
CREATED:20260112T180331Z
LAST-MODIFIED:20260317T190351Z
UID:10003499-1782379800-1782426600@fayaltwp.org
SUMMARY:Yoga
DESCRIPTION:
URL:https://fayaltwp.org/event/yoga-2-2/2026-06-25/
END:VEVENT
BEGIN:VEVENT
DTSTART;TZID=America/Chicago:20260626T093000
DTEND;TZID=America/Chicago:20260626T103000
DTSTAMP:20260425T070825
CREATED:20240207T174449Z
LAST-MODIFIED:20260317T185548Z
UID:10001703-1782466200-1782469800@fayaltwp.org
SUMMARY:Aerobics
DESCRIPTION:
URL:https://fayaltwp.org/event/aerobics/2026-06-26/
END:VEVENT
BEGIN:VEVENT
DTSTART;VALUE=DATE:20260627
DTEND;VALUE=DATE:20260629
DTSTAMP:20260425T070825
CREATED:20260317T184520Z
LAST-MODIFIED:20260317T184520Z
UID:10004054-1782536400-1782622799@fayaltwp.org
SUMMARY:Town Hall Rented
DESCRIPTION:
URL:https://fayaltwp.org/event/town-hall-rented-187/
END:VEVENT
BEGIN:VEVENT
DTSTART;VALUE=DATE:20260628
DTEND;VALUE=DATE:20260630
DTSTAMP:20260425T070825
CREATED:20260317T184540Z
LAST-MODIFIED:20260317T184540Z
UID:10004055-1782622800-1782709199@fayaltwp.org
SUMMARY:Town Hall Rented
DESCRIPTION:
URL:https://fayaltwp.org/event/town-hall-rented-188/
END:VEVENT
BEGIN:VEVENT
DTSTART;TZID=America/Chicago:20260629T093000
DTEND;TZID=America/Chicago:20260629T103000
DTSTAMP:20260425T070825
CREATED:20240207T174449Z
LAST-MODIFIED:20260317T185548Z
UID:10001704-1782725400-1782729000@fayaltwp.org
SUMMARY:Aerobics
DESCRIPTION:
URL:https://fayaltwp.org/event/aerobics/2026-06-29/
END:VEVENT
BEGIN:VEVENT
DTSTART;TZID=America/Chicago:20260629T160000
DTEND;TZID=America/Chicago:20260629T183000
DTSTAMP:20260425T070825
CREATED:20250905T131821Z
LAST-MODIFIED:20250905T131821Z
UID:10003761-1782748800-1782757800@fayaltwp.org
SUMMARY:T.O.P.S.
DESCRIPTION:
URL:https://fayaltwp.org/event/t-o-p-s/2026-06-29/
END:VEVENT
BEGIN:VEVENT
DTSTART;TZID=America/Chicago:20260701T093000
DTEND;TZID=America/Chicago:20260701T103000
DTSTAMP:20260425T070825
CREATED:20240207T174449Z
LAST-MODIFIED:20260317T185548Z
UID:10001705-1782898200-1782901800@fayaltwp.org
SUMMARY:Aerobics
DESCRIPTION:
URL:https://fayaltwp.org/event/aerobics/2026-07-01/
END:VEVENT
BEGIN:VEVENT
DTSTART;TZID=America/Chicago:20260702T093000
DTEND;TZID=America/Chicago:20260702T223000
DTSTAMP:20260425T070825
CREATED:20260112T180331Z
LAST-MODIFIED:20260317T190351Z
UID:10003500-1782984600-1783031400@fayaltwp.org
SUMMARY:Yoga
DESCRIPTION:
URL:https://fayaltwp.org/event/yoga-2-2/2026-07-02/
END:VEVENT
BEGIN:VEVENT
DTSTART;TZID=America/Chicago:20260703T093000
DTEND;TZID=America/Chicago:20260703T103000
DTSTAMP:20260425T070825
CREATED:20240207T174449Z
LAST-MODIFIED:20260317T185548Z
UID:10001706-1783071000-1783074600@fayaltwp.org
SUMMARY:Aerobics
DESCRIPTION:
URL:https://fayaltwp.org/event/aerobics/2026-07-03/
END:VEVENT
BEGIN:VEVENT
DTSTART;TZID=America/Chicago:20260706T093000
DTEND;TZID=America/Chicago:20260706T103000
DTSTAMP:20260425T070825
CREATED:20240207T174449Z
LAST-MODIFIED:20260317T185548Z
UID:10001707-1783330200-1783333800@fayaltwp.org
SUMMARY:Aerobics
DESCRIPTION:
URL:https://fayaltwp.org/event/aerobics/2026-07-06/
END:VEVENT
BEGIN:VEVENT
DTSTART;TZID=America/Chicago:20260706T160000
DTEND;TZID=America/Chicago:20260706T183000
DTSTAMP:20260425T070825
CREATED:20250905T131821Z
LAST-MODIFIED:20250905T131821Z
UID:10003762-1783353600-1783362600@fayaltwp.org
SUMMARY:T.O.P.S.
DESCRIPTION:
URL:https://fayaltwp.org/event/t-o-p-s/2026-07-06/
END:VEVENT
END:VCALENDAR